{"text_format":"1","workbook":"xlsx","n_sheets":7,"sheets":["data","Makro1","results","milk yield 2018","fat 2018","protein 2018","smoothing"],"not_rendered":{"charts":0,"images":2,"macros":1,"external_links":0,"defined_names":7,"comments":0,"pivot_tables":0},"unopened":[],"bounds":{"document_bytes":16777216,"sheet_cells":100000,"rows_first":2000,"rows_last":500,"rows_between":2000,"halvings":0,"cell_chars":16384,"cell_head_chars":4096},"cells_cut":0,"cells_raw":0,"read":"whole","date_system":"1900"}

{"sheet":"data","index":0,"n_rows":218,"n_cols":18,"rows_kept":218,"cut":false,"hidden":false,"merged":[[0,0,0,8],[1,0,1,8],[2,0,2,8],[3,0,3,8],[4,0,4,8],[5,0,5,8],[12,0,12,3],[13,0,13,3],[16,0,16,5],[16,6,16,8],[7,0,7,3],[8,0,8,3],[9,0,9,3],[10,0,10,3],[11,0,11,3]]}
[]
["Liu method to estimate 24-hour daily milk yield (DMY), daily fat yield (DFY) and daily protein yield (DPY) based on partial yields from either morning (AM) or evening (PM) milking."]
["Method description can be found in: Procedure 1 of Section 2 of ICAR Guidelines - Computing 24-hour Yields"]
["https://www.icar.org/Guidelines/02-Procedure-1-Computing-24-Hour-Yield.pdf"]
["User guide: fill the green cells with information about: 1) Date of testday (format dd-mm-yyyy), morning (1) or evening (2) milking, starting time of morning milking (format hh:mm), starting time of evening milking (format hh:mm) and type of calculation (1 = alternating, one milking and one sampling, 2 = recalculation of an AT-result to the original value and 3 = milk yield from both milkings a day but only one sample (morning or evening) is taken). Individual cow data on cow id and raw data on kg of milk, fat % and protein % can be entered below for multiple cows. In the yellow cells you will see the adjustment factors that are applied."]
["This file is created by Dr. Kai Kuwan (VIT) and kindly made available. Use of this file is at own risk.\nFor questions about the use of the file, please contact René van der Linde (rene@icar.org)."]
[]
["Date of test day (format dd-mm-yyyy)",null,null,null,"2000-05-18"]
["Morning milking (1) or Evening milking (2)",null,null,null,2]
["Starting time of morning milking\n(format hh:mm, 24-hour clock)",null,null,null,"06:30:00"]
["Starting time of evening milking\n(format hh:mm, 24-hour clock )",null,null,null,"17:30:00"]
["AT=1 / AS=2 / AM=3",null,null,null,1]
["Time between milking",null,null,null,{"$f":"IF(E9=1,1-E11+E10,E11-E10)","v":"11:00:00"}]
["Minutes between milking",null,null,null,{"$f":"E13*1440","v":660}]
["ZMZ Klasse Index",null,{"$f":"IF(E9=2,IF(E14<600,1,IF(E14<620,2,IF(E14<640,3,IF(E14<660,4,IF(E14<680,5,IF(E14<700,6,IF(E14<720,7,8))))))),IF(E14<720,1,IF(E14<740,2,IF(E14<760,3,IF(E14<780,4,IF(E14<800,5,IF(E14<820,6,IF(E14<840,7,8))))))))","v":5}]
[]
["raw data",null,null,null,null,null,"results "]
["cow ID","calving date\ndd.mm.yyyy","lactation\nnumber","milk-kg","fat %","protein %","milk-kg","fat %","protein %","Lactaction \nnumber \nindex","Lactation \nstadium \nindex","key","Regr. Coef. \nMilk yield","Intercept \nMilk yield","Regr. Coef. \nFat","Intercept \nFat","Regr. Coef. \nProtein","Intercept \nProtein"]
[2132,"1999-11-28",1,21.2,4.54,3.2,{"$f":"IF(D19<>\"\",IF($E$12=3,$D19,IF($E$12=1,$D19*$M19+$N19,($D19-$N19)/$M19)),\"\")","v":44.723453999999997},{"$f":"IF(AND(D19<>\"\",E19<>\"\"),IF($E$12=1,(($D19*$E19/100*$O19)+$P19)/$G19*100,IF($E$12=2,(($D19*$E19/100)-$P19)/$O19/$G19*100,((($G19-$N19)/$M19)*$E19/100*$O19+$P19)/$G19*100)),\"\")","v":4.1543695439980999},{"$f":"IF(AND(E19<>\"\",F19<>\"\"),IF($E$12=1,(($D19*$F19/100*$Q19)+$R19)/$G19*100,IF($E$12=2,(($D19*$F19/100)-$R19)/$Q19/$G19*100,((($G19-$N19)/$M19)*$F19/100*$Q19+$R19)/$G19*100)),\"\")","v":3.179988915882928},{"$f":"IF($C19=1,1,IF($C19>1,2,\" \"))","v":1},{"$f":"IF(B19<>\"\",IF(($E$8-$B19)<1,1,IF(($E$8-$B19)>360,7,(INT((1+($E$8-$B19)/60))))),\"\")","v":3},{"$f":"IF(AND(J19<>\"\",K19<>\"\"),$E$9*1000+$J19*100+$C$15*10+$K19,\"\")","v":2153},{"$f":"IF(L19<>\"\",VLOOKUP($L19,'milk yield 2018'!$A:$H,8,FALSE),\"\")","v":2.0045199999999999},{"$f":"IF(L19<>\"\",VLOOKUP($L19,'milk yield 2018'!$A:$H,7,FALSE),\"\")","v":2.22763},{"$f":"IF(L19<>\"\",VLOOKUP($L19,'fat 2018'!$A:$H,8,FALSE),\"\")","v":1.7474000000000001},{"$f":"IF(L19<>\"\",VLOOKUP($L19,'fat 2018'!$A:$H,7,FALSE),\"\")","v":0.17613999999999999},{"$f":"IF(L19<>\"\",VLOOKUP($L19,'protein 2018'!$A:$H,8,FALSE),\"\")","v":1.9782},{"$f":"IF(L19<>\"\",VLOOKUP($L19,'protein 2018'!$A:$H,7,FALSE),\"\")","v":8.0189999999999997E-2}]
[null,null,null,null,null,null,null,null,null," ","","",{"$f":"IF(L20<>\"\",VLOOKUP($L20,'milk yield 2018'!$A:$H,8,FALSE),\"\")","v":""},{"$f":"IF(L20<>\"\",VLOOKUP($L20,'milk yield 2018'!$A:$H,7,FALSE),\"\")","v":""},{"$f":"IF(L20<>\"\",VLOOKUP($L20,'fat 2018'!$A:$H,8,FALSE),\"\")","v":""},{"$f":"IF(L20<>\"\",VLOOKUP($L20,'fat 2018'!$A:$H,7,FALSE),\"\")","v":""},{"$f":"IF(L20<>\"\",VLOOKUP($L20,'protein 2018'!$A:$H,8,FALSE),\"\")","v":""},{"$f":"IF(L20<>\"\",VLOOKUP($L20,'protein 2018'!$A:$H,7,FALSE),\"\")","v":""}]
[null,null,null,null,null,null,null,null,null," ","","",{"$f":"IF(L21<>\"\",VLOOKUP($L21,'milk yield 2018'!$A:$H,8,FALSE),\"\")","v":""},{"$f":"IF(L21<>\"\",VLOOKUP($L21,'milk yield 2018'!$A:$H,7,FALSE),\"\")","v":""},{"$f":"IF(L21<>\"\",VLOOKUP($L21,'fat 2018'!$A:$H,8,FALSE),\"\")","v":""},{"$f":"IF(L21<>\"\",VLOOKUP($L21,'fat 2018'!$A:$H,7,FALSE),\"\")","v":""},{"$f":"IF(L21<>\"\",VLOOKUP($L21,'protein 2018'!$A:$H,8,FALSE),\"\")","v":""},{"$f":"IF(L21<>\"\",VLOOKUP($L21,'protein 2018'!$A:$H,7,FALSE),\"\")","v":""}]
[null,null,null,null,null,null,null,null,null," ","","",{"$f":"IF(L22<>\"\",VLOOKUP($L22,'milk yield 2018'!$A:$H,8,FALSE),\"\")","v":""},{"$f":"IF(L22<>\"\",VLOOKUP($L22,'milk yield 2018'!$A:$H,7,FALSE),\"\")","v":""},{"$f":"IF(L22<>\"\",VLOOKUP($L22,'fat 2018'!$A:$H,8,FALSE),\"\")","v":""},{"$f":"IF(L22<>\"\",VLOOKUP($L22,'fat 2018'!$A:$H,7,FALSE),\"\")","v":""},{"$f":"IF(L22<>\"\",VLOOKUP($L22,'protein 2018'!$A:$H,8,FALSE),\"\")","v":""},{"$f":"IF(L22<>\"\",VLOOKUP($L22,'protein 2018'!$A:$H,7,FALSE),\"\")","v":""}]
[null,null,null,null,null,null,null,null,null," ","","",{"$f":"IF(L23<>\"\",VLOOKUP($L23,'milk yield 2018'!$A:$H,8,FALSE),\"\")","v":""},{"$f":"IF(L23<>\"\",VLOOKUP($L23,'milk yield 2018'!$A:$H,7,FALSE),\"\")","v":""},{"$f":"IF(L23<>\"\",VLOOKUP($L23,'fat 2018'!$A:$H,8,FALSE),\"\")","v":""},{"$f":"IF(L23<>\"\",VLOOKUP($L23,'fat 2018'!$A:$H,7,FALSE),\"\")","v":""},{"$f":"IF(L23<>\"\",VLOOKUP($L23,'protein 2018'!$A:$H,8,FALSE),\"\")","v":""},{"$f":"IF(L23<>\"\",VLOOKUP($L23,'protein 2018'!$A:$H,7,FALSE),\"\")","v":""}]
[null,null,null,null,null,null,null,null,null," ","","",{"$f":"IF(L24<>\"\",VLOOKUP($L24,'milk yield 2018'!$A:$H,8,FALSE),\"\")","v":""},{"$f":"IF(L24<>\"\",VLOOKUP($L24,'milk yield 2018'!$A:$H,7,FALSE),\"\")","v":""},{"$f":"IF(L24<>\"\",VLOOKUP($L24,'fat 2018'!$A:$H,8,FALSE),\"\")","v":""},{"$f":"IF(L24<>\"\",VLOOKUP($L24,'fat 2018'!$A:$H,7,FALSE),\"\")","v":""},{"$f":"IF(L24<>\"\",VLOOKUP($L24,'protein 2018'!$A:$H,8,FALSE),\"\")","v":""},{"$f":"IF(L24<>\"\",VLOOKUP($L24,'protein 2018'!$A:$H,7,FALSE),\"\")","v":""}]
[null,null,null,null,null,null,null,null,null," ","","",{"$f":"IF(L25<>\"\",VLOOKUP($L25,'milk yield 2018'!$A:$H,8,FALSE),\"\")","v":""},{"$f":"IF(L25<>\"\",VLOOKUP($L25,'milk yield 2018'!$A:$H,7,FALSE),\"\")","v":""},{"$f":"IF(L25<>\"\",VLOOKUP($L25,'fat 2018'!$A:$H,8,FALSE),\"\")","v":""},{"$f":"IF(L25<>\"\",VLOOKUP($L25,'fat 2018'!$A:$H,7,FALSE),\"\")","v":""},{"$f":"IF(L25<>\"\",VLOOKUP($L25,'protein 2018'!$A:$H,8,FALSE),\"\")","v":""},{"$f":"IF(L25<>\"\",VLOOKUP($L25,'protein 2018'!$A:$H,7,FALSE),\"\")","v":""}]
[null,null,null,null,null,null,null,null,null," ","","",{"$f":"IF(L26<>\"\",VLOOKUP($L26,'milk yield 2018'!$A:$H,8,FALSE),\"\")","v":""},{"$f":"IF(L26<>\"\",VLOOKUP($L26,'milk yield 2018'!$A:$H,7,FALSE),\"\")","v":""},{"$f":"IF(L26<>\"\",VLOOKUP($L26,'fat 2018'!$A:$H,8,FALSE),\"\")","v":""},{"$f":"IF(L26<>\"\",VLOOKUP($L26,'fat 2018'!$A:$H,7,FALSE),\"\")","v":""},{"$f":"IF(L26<>\"\",VLOOKUP($L26,'protein 2018'!$A:$H,8,FALSE),\"\")","v":""},{"$f":"IF(L26<>\"\",VLOOKUP($L26,'protein 2018'!$A:$H,7,FALSE),\"\")","v":""}]
[null,null,null,null,null,null,null,null,null," ","","",{"$f":"IF(L27<>\"\",VLOOKUP($L27,'milk yield 2018'!$A:$H,8,FALSE),\"\")","v":""},{"$f":"IF(L27<>\"\",VLOOKUP($L27,'milk yield 2018'!$A:$H,7,FALSE),\"\")","v":""},{"$f":"IF(L27<>\"\",VLOOKUP($L27,'fat 2018'!$A:$H,8,FALSE),\"\")","v":""},{"$f":"IF(L27<>\"\",VLOOKUP($L27,'fat 2018'!$A:$H,7,FALSE),\"\")","v":""},{"$f":"IF(L27<>\"\",VLOOKUP($L27,'protein 2018'!$A:$H,8,FALSE),\"\")","v":""},{"$f":"IF(L27<>\"\",VLOOKUP($L27,'protein 2018'!$A:$H,7,FALSE),\"\")","v":""}]
[null,null,null,null,null,null,null,null,null," ","","",{"$f":"IF(L28<>\"\",VLOOKUP($L28,'milk yield 2018'!$A:$H,8,FALSE),\"\")","v":""},{"$f":"IF(L28<>\"\",VLOOKUP($L28,'milk yield 2018'!$A:$H,7,FALSE),\"\")","v":""},{"$f":"IF(L28<>\"\",VLOOKUP($L28,'fat 2018'!$A:$H,8,FALSE),\"\")","v":""},{"$f":"IF(L28<>\"\",VLOOKUP($L28,'fat 2018'!$A:$H,7,FALSE),\"\")","v":""},{"$f":"IF(L28<>\"\",VLOOKUP($L28,'protein 2018'!$A:$H,8,FALSE),\"\")","v":""},{"$f":"IF(L28<>\"\",VLOOKUP($L28,'protein 2018'!$A:$H,7,FALSE),\"\")","v":""}]
[null,null,null,null,null,null,null,null,null," ","","",{"$f":"IF(L29<>\"\",VLOOKUP($L29,'milk yield 2018'!$A:$H,8,FALSE),\"\")","v":""},{"$f":"IF(L29<>\"\",VLOOKUP($L29,'milk yield 2018'!$A:$H,7,FALSE),\"\")","v":""},{"$f":"IF(L29<>\"\",VLOOKUP($L29,'fat 2018'!$A:$H,8,FALSE),\"\")","v":""},{"$f":"IF(L29<>\"\",VLOOKUP($L29,'fat 2018'!$A:$H,7,FALSE),\"\")","v":""},{"$f":"IF(L29<>\"\",VLOOKUP($L29,'protein 2018'!$A:$H,8,FALSE),\"\")","v":""},{"$f":"IF(L29<>\"\",VLOOKUP($L29,'protein 2018'!$A:$H,7,FALSE),\"\")","v":""}]
[null,null,null,null,null,null,null,null,null," ","","",{"$f":"IF(L30<>\"\",VLOOKUP($L30,'milk yield 2018'!$A:$H,8,FALSE),\"\")","v":""},{"$f":"IF(L30<>\"\",VLOOKUP($L30,'milk yield 2018'!$A:$H,7,FALSE),\"\")","v":""},{"$f":"IF(L30<>\"\",VLOOKUP($L30,'fat 2018'!$A:$H,8,FALSE),\"\")","v":""},{"$f":"IF(L30<>\"\",VLOOKUP($L30,'fat 2018'!$A:$H,7,FALSE),\"\")","v":""},{"$f":"IF(L30<>\"\",VLOOKUP($L30,'protein 2018'!$A:$H,8,FALSE),\"\")","v":""},{"$f":"IF(L30<>\"\",VLOOKUP($L30,'protein 2018'!$A:$H,7,FALSE),\"\")","v":""}]
[null,null,null,null,null,null,null,null,null," ","","",{"$f":"IF(L31<>\"\",VLOOKUP($L31,'milk yield 2018'!$A:$H,8,FALSE),\"\")","v":""},{"$f":"IF(L31<>\"\",VLOOKUP($L31,'milk yield 2018'!$A:$H,7,FALSE),\"\")","v":""},{"$f":"IF(L31<>\"\",VLOOKUP($L31,'fat 2018'!$A:$H,8,FALSE),\"\")","v":""},{"$f":"IF(L31<>\"\",VLOOKUP($L31,'fat 2018'!$A:$H,7,FALSE),\"\")","v":""},{"$f":"IF(L31<>\"\",VLOOKUP($L31,'protein 2018'!$A:$H,8,FALSE),\"\")","v":""},{"$f":"IF(L31<>\"\",VLOOKUP($L31,'protein 2018'!$A:$H,7,FALSE),\"\")","v":""}]
[null,null,null,null,null,null,null,null,null," ","","",{"$f":"IF(L32<>\"\",VLOOKUP($L32,'milk yield 2018'!$A:$H,8,FALSE),\"\")","v":""},{"$f":"IF(L32<>\"\",VLOOKUP($L32,'milk yield 2018'!$A:$H,7,FALSE),\"\")","v":""},{"$f":"IF(L32<>\"\",VLOOKUP($L32,'fat 2018'!$A:$H,8,FALSE),\"\")","v":""},{"$f":"IF(L32<>\"\",VLOOKUP($L32,'fat 2018'!$A:$H,7,FALSE),\"\")","v":""},{"$f":"IF(L32<>\"\",VLOOKUP($L32,'protein 2018'!$A:$H,8,FALSE),\"\")","v":""},{"$f":"IF(L32<>\"\",VLOOKUP($L32,'protein 2018'!$A:$H,7,FALSE),\"\")","v":""}]
[null,null,null,null,null,null,null,null,null," ","","",{"$f":"IF(L33<>\"\",VLOOKUP($L33,'milk yield 2018'!$A:$H,8,FALSE),\"\")","v":""},{"$f":"IF(L33<>\"\",VLOOKUP($L33,'milk yield 2018'!$A:$H,7,FALSE),\"\")","v":""},{"$f":"IF(L33<>\"\",VLOOKUP($L33,'fat 2018'!$A:$H,8,FALSE),\"\")","v":""},{"$f":"IF(L33<>\"\",VLOOKUP($L33,'fat 2018'!$A:$H,7,FALSE),\"\")","v":""},{"$f":"IF(L33<>\"\",VLOOKUP($L33,'protein 2018'!$A:$H,8,FALSE),\"\")","v":""},{"$f":"IF(L33<>\"\",VLOOKUP($L33,'protein 2018'!$A:$H,7,FALSE),\"\")","v":""}]
[null,null,null,null,null,null,null,null,null," ","","",{"$f":"IF(L34<>\"\",VLOOKUP($L34,'milk yield 2018'!$A:$H,8,FALSE),\"\")","v":""},{"$f":"IF(L34<>\"\",VLOOKUP($L34,'milk yield 2018'!$A:$H,7,FALSE),\"\")","v":""},{"$f":"IF(L34<>\"\",VLOOKUP($L34,'fat 2018'!$A:$H,8,FALSE),\"\")","v":""},{"$f":"IF(L34<>\"\",VLOOKUP($L34,'fat 2018'!$A:$H,7,FALSE),\"\")","v":""},{"$f":"IF(L34<>\"\",VLOOKUP($L34,'protein 2018'!$A:$H,8,FALSE),\"\")","v":""},{"$f":"IF(L34<>\"\",VLOOKUP($L34,'protein 2018'!$A:$H,7,FALSE),\"\")","v":""}]
[null,null,null,null,null,null,null,null,null," ","","",{"$f":"IF(L35<>\"\",VLOOKUP($L35,'milk yield 2018'!$A:$H,8,FALSE),\"\")","v":""},{"$f":"IF(L35<>\"\",VLOOKUP($L35,'milk yield 2018'!$A:$H,7,FALSE),\"\")","v":""},{"$f":"IF(L35<>\"\",VLOOKUP($L35,'fat 2018'!$A:$H,8,FALSE),\"\")","v":""},{"$f":"IF(L35<>\"\",VLOOKUP($L35,'fat 2018'!$A:$H,7,FALSE),\"\")","v":""},{"$f":"IF(L35<>\"\",VLOOKUP($L35,'protein 2018'!$A:$H,8,FALSE),\"\")","v":""},{"$f":"IF(L35<>\"\",VLOOKUP($L35,'protein 2018'!$A:$H,7,FALSE),\"\")","v":""}]
[null,null,null,null,null,null,null,null,null," ","","",{"$f":"IF(L36<>\"\",VLOOKUP($L36,'milk yield 2018'!$A:$H,8,FALSE),\"\")","v":""},{"$f":"IF(L36<>\"\",VLOOKUP($L36,'milk yield 2018'!$A:$H,7,FALSE),\"\")","v":""},{"$f":"IF(L36<>\"\",VLOOKUP($L36,'fat 2018'!$A:$H,8,FALSE),\"\")","v":""},{"$f":"IF(L36<>\"\",VLOOKUP($L36,'fat 2018'!$A:$H,7,FALSE),\"\")","v":""},{"$f":"IF(L36<>\"\",VLOOKUP($L36,'protein 2018'!$A:$H,8,FALSE),\"\")","v":""},{"$f":"IF(L36<>\"\",VLOOKUP($L36,'protein 2018'!$A:$H,7,FALSE),\"\")","v":""}]
[null,null,null,null,null,null,null,null,null," ","","",{"$f":"IF(L37<>\"\",VLOOKUP($L37,'milk yield 2018'!$A:$H,8,FALSE),\"\")","v":""},{"$f":"IF(L37<>\"\",VLOOKUP($L37,'milk yield 2018'!$A:$H,7,FALSE),\"\")","v":""},{"$f":"IF(L37<>\"\",VLOOKUP($L37,'fat 2018'!$A:$H,8,FALSE),\"\")","v":""},{"$f":"IF(L37<>\"\",VLOOKUP($L37,'fat 2018'!$A:$H,7,FALSE),\"\")","v":""},{"$f":"IF(L37<>\"\",VLOOKUP($L37,'protein 2018'!$A:$H,8,FALSE),\"\")","v":""},{"$f":"IF(L37<>\"\",VLOOKUP($L37,'protein 2018'!$A:$H,7,FALSE),\"\")","v":""}]
[null,null,null,null,null,null,null,null,null," ","","",{"$f":"IF(L38<>\"\",VLOOKUP($L38,'milk yield 2018'!$A:$H,8,FALSE),\"\")","v":""},{"$f":"IF(L38<>\"\",VLOOKUP($L38,'milk yield 2018'!$A:$H,7,FALSE),\"\")","v":""},{"$f":"IF(L38<>\"\",VLOOKUP($L38,'fat 2018'!$A:$H,8,FALSE),\"\")","v":""},{"$f":"IF(L38<>\"\",VLOOKUP($L38,'fat 2018'!$A:$H,7,FALSE),\"\")","v":""},{"$f":"IF(L38<>\"\",VLOOKUP($L38,'protein 2018'!$A:$H,8,FALSE),\"\")","v":""},{"$f":"IF(L38<>\"\",VLOOKUP($L38,'protein 2018'!$A:$H,7,FALSE),\"\")","v":""}]
[null,null,null,null,null,null,null,null,null," ","","",{"$f":"IF(L39<>\"\",VLOOKUP($L39,'milk yield 2018'!$A:$H,8,FALSE),\"\")","v":""},{"$f":"IF(L39<>\"\",VLOOKUP($L39,'milk yield 2018'!$A:$H,7,FALSE),\"\")","v":""},{"$f":"IF(L39<>\"\",VLOOKUP($L39,'fat 2018'!$A:$H,8,FALSE),\"\")","v":""},{"$f":"IF(L39<>\"\",VLOOKUP($L39,'fat 2018'!$A:$H,7,FALSE),\"\")","v":""},{"$f":"IF(L39<>\"\",VLOOKUP($L39,'protein 2018'!$A:$H,8,FALSE),\"\")","v":""},{"$f":"IF(L39<>\"\",VLOOKUP($L39,'protein 2018'!$A:$H,7,FALSE),\"\")","v":""}]
[null,null,null,null,null,null,null,null,null," ","","",{"$f":"IF(L40<>\"\",VLOOKUP($L40,'milk yield 2018'!$A:$H,8,FALSE),\"\")","v":""},{"$f":"IF(L40<>\"\",VLOOKUP($L40,'milk yield 2018'!$A:$H,7,FALSE),\"\")","v":""},{"$f":"IF(L40<>\"\",VLOOKUP($L40,'fat 2018'!$A:$H,8,FALSE),\"\")","v":""},{"$f":"IF(L40<>\"\",VLOOKUP($L40,'fat 2018'!$A:$H,7,FALSE),\"\")","v":""},{"$f":"IF(L40<>\"\",VLOOKUP($L40,'protein 2018'!$A:$H,8,FALSE),\"\")","v":""},{"$f":"IF(L40<>\"\",VLOOKUP($L40,'protein 2018'!$A:$H,7,FALSE),\"\")","v":""}]
[null,null,null,null,null,null,null,null,null," ","","",{"$f":"IF(L41<>\"\",VLOOKUP($L41,'milk yield 2018'!$A:$H,8,FALSE),\"\")","v":""},{"$f":"IF(L41<>\"\",VLOOKUP($L41,'milk yield 2018'!$A:$H,7,FALSE),\"\")","v":""},{"$f":"IF(L41<>\"\",VLOOKUP($L41,'fat 2018'!$A:$H,8,FALSE),\"\")","v":""},{"$f":"IF(L41<>\"\",VLOOKUP($L41,'fat 2018'!$A:$H,7,FALSE),\"\")","v":""},{"$f":"IF(L41<>\"\",VLOOKUP($L41,'protein 2018'!$A:$H,8,FALSE),\"\")","v":""},{"$f":"IF(L41<>\"\",VLOOKUP($L41,'protein 2018'!$A:$H,7,FALSE),\"\")","v":""}]
[null,null,null,null,null,null,null,null,null," ","","",{"$f":"IF(L42<>\"\",VLOOKUP($L42,'milk yield 2018'!$A:$H,8,FALSE),\"\")","v":""},{"$f":"IF(L42<>\"\",VLOOKUP($L42,'milk yield 2018'!$A:$H,7,FALSE),\"\")","v":""},{"$f":"IF(L42<>\"\",VLOOKUP($L42,'fat 2018'!$A:$H,8,FALSE),\"\")","v":""},{"$f":"IF(L42<>\"\",VLOOKUP($L42,'fat 2018'!$A:$H,7,FALSE),\"\")","v":""},{"$f":"IF(L42<>\"\",VLOOKUP($L42,'protein 2018'!$A:$H,8,FALSE),\"\")","v":""},{"$f":"IF(L42<>\"\",VLOOKUP($L42,'protein 2018'!$A:$H,7,FALSE),\"\")","v":""}]
[null,null,null,null,null,null,null,null,null," ","","",{"$f":"IF(L43<>\"\",VLOOKUP($L43,'milk yield 2018'!$A:$H,8,FALSE),\"\")","v":""},{"$f":"IF(L43<>\"\",VLOOKUP($L43,'milk yield 2018'!$A:$H,7,FALSE),\"\")","v":""},{"$f":"IF(L43<>\"\",VLOOKUP($L43,'fat 2018'!$A:$H,8,FALSE),\"\")","v":""},{"$f":"IF(L43<>\"\",VLOOKUP($L43,'fat 2018'!$A:$H,7,FALSE),\"\")","v":""},{"$f":"IF(L43<>\"\",VLOOKUP($L43,'protein 2018'!$A:$H,8,FALSE),\"\")","v":""},{"$f":"IF(L43<>\"\",VLOOKUP($L43,'protein 2018'!$A:$H,7,FALSE),\"\")","v":""}]
[null,null,null,null,null,null,null,null,null," ","","",{"$f":"IF(L44<>\"\",VLOOKUP($L44,'milk yield 2018'!$A:$H,8,FALSE),\"\")","v":""},{"$f":"IF(L44<>\"\",VLOOKUP($L44,'milk yield 2018'!$A:$H,7,FALSE),\"\")","v":""},{"$f":"IF(L44<>\"\",VLOOKUP($L44,'fat 2018'!$A:$H,8,FALSE),\"\")","v":""},{"$f":"IF(L44<>\"\",VLOOKUP($L44,'fat 2018'!$A:$H,7,FALSE),\"\")","v":""},{"$f":"IF(L44<>\"\",VLOOKUP($L44,'protein 2018'!$A:$H,8,FALSE),\"\")","v":""},{"$f":"IF(L44<>\"\",VLOOKUP($L44,'protein 2018'!$A:$H,7,FALSE),\"\")","v":""}]
[null,null,null,null,null,null,null,null,null," ","","",{"$f":"IF(L45<>\"\",VLOOKUP($L45,'milk yield 2018'!$A:$H,8,FALSE),\"\")","v":""},{"$f":"IF(L45<>\"\",VLOOKUP($L45,'milk yield 2018'!$A:$H,7,FALSE),\"\")","v":""},{"$f":"IF(L45<>\"\",VLOOKUP($L45,'fat 2018'!$A:$H,8,FALSE),\"\")","v":""},{"$f":"IF(L45<>\"\",VLOOKUP($L45,'fat 2018'!$A:$H,7,FALSE),\"\")","v":""},{"$f":"IF(L45<>\"\",VLOOKUP($L45,'protein 2018'!$A:$H,8,FALSE),\"\")","v":""},{"$f":"IF(L45<>\"\",VLOOKUP($L45,'protein 2018'!$A:$H,7,FALSE),\"\")","v":""}]
[null,null,null,null,null,null,null,null,null," ","","",{"$f":"IF(L46<>\"\",VLOOKUP($L46,'milk yield 2018'!$A:$H,8,FALSE),\"\")","v":""},{"$f":"IF(L46<>\"\",VLOOKUP($L46,'milk yield 2018'!$A:$H,7,FALSE),\"\")","v":""},{"$f":"IF(L46<>\"\",VLOOKUP($L46,'fat 2018'!$A:$H,8,FALSE),\"\")","v":""},{"$f":"IF(L46<>\"\",VLOOKUP($L46,'fat 2018'!$A:$H,7,FALSE),\"\")","v":""},{"$f":"IF(L46<>\"\",VLOOKUP($L46,'protein 2018'!$A:$H,8,FALSE),\"\")","v":""},{"$f":"IF(L46<>\"\",VLOOKUP($L46,'protein 2018'!$A:$H,7,FALSE),\"\")","v":""}]
[null,null,null,null,null,null,null,null,null," ","","",{"$f":"IF(L47<>\"\",VLOOKUP($L47,'milk yield 2018'!$A:$H,8,FALSE),\"\")","v":""},{"$f":"IF(L47<>\"\",VLOOKUP($L47,'milk yield 2018'!$A:$H,7,FALSE),\"\")","v":""},{"$f":"IF(L47<>\"\",VLOOKUP($L47,'fat 2018'!$A:$H,8,FALSE),\"\")","v":""},{"$f":"IF(L47<>\"\",VLOOKUP($L47,'fat 2018'!$A:$H,7,FALSE),\"\")","v":""},{"$f":"IF(L47<>\"\",VLOOKUP($L47,'protein 2018'!$A:$H,8,FALSE),\"\")","v":""},{"$f":"IF(L47<>\"\",VLOOKUP($L47,'protein 2018'!$A:$H,7,FALSE),\"\")","v":""}]
[null,null,null,null,null,null,null,null,null," ","","",{"$f":"IF(L48<>\"\",VLOOKUP($L48,'milk yield 2018'!$A:$H,8,FALSE),\"\")","v":""},{"$f":"IF(L48<>\"\",VLOOKUP($L48,'milk yield 2018'!$A:$H,7,FALSE),\"\")","v":""},{"$f":"IF(L48<>\"\",VLOOKUP($L48,'fat 2018'!$A:$H,8,FALSE),\"\")","v":""},{"$f":"IF(L48<>\"\",VLOOKUP($L48,'fat 2018'!$A:$H,7,FALSE),\"\")","v":""},{"$f":"IF(L48<>\"\",VLOOKUP($L48,'protein 2018'!$A:$H,8,FALSE),\"\")","v":""},{"$f":"IF(L48<>\"\",VLOOKUP($L48,'protein 2018'!$A:$H,7,FALSE),\"\")","v":""}]
[null,null,null,null,null,null,null,null,null," ","","",{"$f":"IF(L49<>\"\",VLOOKUP($L49,'milk yield 2018'!$A:$H,8,FALSE),\"\")","v":""},{"$f":"IF(L49<>\"\",VLOOKUP($L49,'milk yield 2018'!$A:$H,7,FALSE),\"\")","v":""},{"$f":"IF(L49<>\"\",VLOOKUP($L49,'fat 2018'!$A:$H,8,FALSE),\"\")","v":""},{"$f":"IF(L49<>\"\",VLOOKUP($L49,'fat 2018'!$A:$H,7,FALSE),\"\")","v":""},{"$f":"IF(L49<>\"\",VLOOKUP($L49,'protein 2018'!$A:$H,8,FALSE),\"\")","v":""},{"$f":"IF(L49<>\"\",VLOOKUP($L49,'protein 2018'!$A:$H,7,FALSE),\"\")","v":""}]
[null,null,null,null,null,null,null,null,null," ","","",{"$f":"IF(L50<>\"\",VLOOKUP($L50,'milk yield 2018'!$A:$H,8,FALSE),\"\")","v":""},{"$f":"IF(L50<>\"\",VLOOKUP($L50,'milk yield 2018'!$A:$H,7,FALSE),\"\")","v":""},{"$f":"IF(L50<>\"\",VLOOKUP($L50,'fat 2018'!$A:$H,8,FALSE),\"\")","v":""},{"$f":"IF(L50<>\"\",VLOOKUP($L50,'fat 2018'!$A:$H,7,FALSE),\"\")","v":""},{"$f":"IF(L50<>\"\",VLOOKUP($L50,'protein 2018'!$A:$H,8,FALSE),\"\")","v":""},{"$f":"IF(L50<>\"\",VLOOKUP($L50,'protein 2018'!$A:$H,7,FALSE),\"\")","v":""}]
[null,null,null,null,null,null,null,null,null," ",{"$f":"IF(B51<>\"\",IF(($E$8-$B51)<1,1,IF(($E$8-$B51)>360,7,(INT((1+($E$8-$B51)/60))))),\"\")","v":""},{"$f":"IF(AND(J51<>\"\",K51<>\"\"),$E$9*1000+$J51*100+$C$15*10+$K51,\"\")","v":""},{"$f":"IF(L51<>\"\",VLOOKUP($L51,'milk yield 2018'!$A:$H,8,FALSE),\"\")","v":""},{"$f":"IF(L51<>\"\",VLOOKUP($L51,'milk yield 2018'!$A:$H,7,FALSE),\"\")","v":""},{"$f":"IF(L51<>\"\",VLOOKUP($L51,'fat 2018'!$A:$H,8,FALSE),\"\")","v":""},{"$f":"IF(L51<>\"\",VLOOKUP($L51,'fat 2018'!$A:$H,7,FALSE),\"\")","v":""},{"$f":"IF(L51<>\"\",VLOOKUP($L51,'protein 2018'!$A:$H,8,FALSE),\"\")","v":""},{"$f":"IF(L51<>\"\",VLOOKUP($L51,'protein 2018'!$A:$H,7,FALSE),\"\")","v":""}]
[null,null,null,null,null,null,null,null,null," ","","",{"$f":"IF(L52<>\"\",VLOOKUP($L52,'milk yield 2018'!$A:$H,8,FALSE),\"\")","v":""},{"$f":"IF(L52<>\"\",VLOOKUP($L52,'milk yield 2018'!$A:$H,7,FALSE),\"\")","v":""},{"$f":"IF(L52<>\"\",VLOOKUP($L52,'fat 2018'!$A:$H,8,FALSE),\"\")","v":""},{"$f":"IF(L52<>\"\",VLOOKUP($L52,'fat 2018'!$A:$H,7,FALSE),\"\")","v":""},{"$f":"IF(L52<>\"\",VLOOKUP($L52,'protein 2018'!$A:$H,8,FALSE),\"\")","v":""},{"$f":"IF(L52<>\"\",VLOOKUP($L52,'protein 2018'!$A:$H,7,FALSE),\"\")","v":""}]
[null,null,null,null,null,null,null,null,null," ","","",{"$f":"IF(L53<>\"\",VLOOKUP($L53,'milk yield 2018'!$A:$H,8,FALSE),\"\")","v":""},{"$f":"IF(L53<>\"\",VLOOKUP($L53,'milk yield 2018'!$A:$H,7,FALSE),\"\")","v":""},{"$f":"IF(L53<>\"\",VLOOKUP($L53,'fat 2018'!$A:$H,8,FALSE),\"\")","v":""},{"$f":"IF(L53<>\"\",VLOOKUP($L53,'fat 2018'!$A:$H,7,FALSE),\"\")","v":""},{"$f":"IF(L53<>\"\",VLOOKUP($L53,'protein 2018'!$A:$H,8,FALSE),\"\")","v":""},{"$f":"IF(L53<>\"\",VLOOKUP($L53,'protein 2018'!$A:$H,7,FALSE),\"\")","v":""}]
[null,null,null,null,null,null,null,null,null," ","","",{"$f":"IF(L54<>\"\",VLOOKUP($L54,'milk yield 2018'!$A:$H,8,FALSE),\"\")","v":""},{"$f":"IF(L54<>\"\",VLOOKUP($L54,'milk yield 2018'!$A:$H,7,FALSE),\"\")","v":""},{"$f":"IF(L54<>\"\",VLOOKUP($L54,'fat 2018'!$A:$H,8,FALSE),\"\")","v":""},{"$f":"IF(L54<>\"\",VLOOKUP($L54,'fat 2018'!$A:$H,7,FALSE),\"\")","v":""},{"$f":"IF(L54<>\"\",VLOOKUP($L54,'protein 2018'!$A:$H,8,FALSE),\"\")","v":""},{"$f":"IF(L54<>\"\",VLOOKUP($L54,'protein 2018'!$A:$H,7,FALSE),\"\")","v":""}]
[null,null,null,null,null,null,null,null,null," ","","",{"$f":"IF(L55<>\"\",VLOOKUP($L55,'milk yield 2018'!$A:$H,8,FALSE),\"\")","v":""},{"$f":"IF(L55<>\"\",VLOOKUP($L55,'milk yield 2018'!$A:$H,7,FALSE),\"\")","v":""},{"$f":"IF(L55<>\"\",VLOOKUP($L55,'fat 2018'!$A:$H,8,FALSE),\"\")","v":""},{"$f":"IF(L55<>\"\",VLOOKUP($L55,'fat 2018'!$A:$H,7,FALSE),\"\")","v":""},{"$f":"IF(L55<>\"\",VLOOKUP($L55,'protein 2018'!$A:$H,8,FALSE),\"\")","v":""},{"$f":"IF(L55<>\"\",VLOOKUP($L55,'protein 2018'!$A:$H,7,FALSE),\"\")","v":""}]
[null,null,null,null,null,null,null,null,null," ","","",{"$f":"IF(L56<>\"\",VLOOKUP($L56,'milk yield 2018'!$A:$H,8,FALSE),\"\")","v":""},{"$f":"IF(L56<>\"\",VLOOKUP($L56,'milk yield 2018'!$A:$H,7,FALSE),\"\")","v":""},{"$f":"IF(L56<>\"\",VLOOKUP($L56,'fat 2018'!$A:$H,8,FALSE),\"\")","v":""},{"$f":"IF(L56<>\"\",VLOOKUP($L56,'fat 2018'!$A:$H,7,FALSE),\"\")","v":""},{"$f":"IF(L56<>\"\",VLOOKUP($L56,'protein 2018'!$A:$H,8,FALSE),\"\")","v":""},{"$f":"IF(L56<>\"\",VLOOKUP($L56,'protein 2018'!$A:$H,7,FALSE),\"\")","v":""}]
[null,null,null,null,null,null,null,null,null," ","","",{"$f":"IF(L57<>\"\",VLOOKUP($L57,'milk yield 2018'!$A:$H,8,FALSE),\"\")","v":""},{"$f":"IF(L57<>\"\",VLOOKUP($L57,'milk yield 2018'!$A:$H,7,FALSE),\"\")","v":""},{"$f":"IF(L57<>\"\",VLOOKUP($L57,'fat 2018'!$A:$H,8,FALSE),\"\")","v":""},{"$f":"IF(L57<>\"\",VLOOKUP($L57,'fat 2018'!$A:$H,7,FALSE),\"\")","v":""},{"$f":"IF(L57<>\"\",VLOOKUP($L57,'protein 2018'!$A:$H,8,FALSE),\"\")","v":""},{"$f":"IF(L57<>\"\",VLOOKUP($L57,'protein 2018'!$A:$H,7,FALSE),\"\")","v":""}]
[null,null,null,null,null,null,null,null,null," ","","",{"$f":"IF(L58<>\"\",VLOOKUP($L58,'milk yield 2018'!$A:$H,8,FALSE),\"\")","v":""},{"$f":"IF(L58<>\"\",VLOOKUP($L58,'milk yield 2018'!$A:$H,7,FALSE),\"\")","v":""},{"$f":"IF(L58<>\"\",VLOOKUP($L58,'fat 2018'!$A:$H,8,FALSE),\"\")","v":""},{"$f":"IF(L58<>\"\",VLOOKUP($L58,'fat 2018'!$A:$H,7,FALSE),\"\")","v":""},{"$f":"IF(L58<>\"\",VLOOKUP($L58,'protein 2018'!$A:$H,8,FALSE),\"\")","v":""},{"$f":"IF(L58<>\"\",VLOOKUP($L58,'protein 2018'!$A:$H,7,FALSE),\"\")","v":""}]
[null,null,null,null,null,null,null,null,null," ","","",{"$f":"IF(L59<>\"\",VLOOKUP($L59,'milk yield 2018'!$A:$H,8,FALSE),\"\")","v":""},{"$f":"IF(L59<>\"\",VLOOKUP($L59,'milk yield 2018'!$A:$H,7,FALSE),\"\")","v":""},{"$f":"IF(L59<>\"\",VLOOKUP($L59,'fat 2018'!$A:$H,8,FALSE),\"\")","v":""},{"$f":"IF(L59<>\"\",VLOOKUP($L59,'fat 2018'!$A:$H,7,FALSE),\"\")","v":""},{"$f":"IF(L59<>\"\",VLOOKUP($L59,'protein 2018'!$A:$H,8,FALSE),\"\")","v":""},{"$f":"IF(L59<>\"\",VLOOKUP($L59,'protein 2018'!$A:$H,7,FALSE),\"\")","v":""}]
[null,null,null,null,null,null,null,null,null," ","","",{"$f":"IF(L60<>\"\",VLOOKUP($L60,'milk yield 2018'!$A:$H,8,FALSE),\"\")","v":""},{"$f":"IF(L60<>\"\",VLOOKUP($L60,'milk yield 2018'!$A:$H,7,FALSE),\"\")","v":""},{"$f":"IF(L60<>\"\",VLOOKUP($L60,'fat 2018'!$A:$H,8,FALSE),\"\")","v":""},{"$f":"IF(L60<>\"\",VLOOKUP($L60,'fat 2018'!$A:$H,7,FALSE),\"\")","v":""},{"$f":"IF(L60<>\"\",VLOOKUP($L60,'protein 2018'!$A:$H,8,FALSE),\"\")","v":""},{"$f":"IF(L60<>\"\",VLOOKUP($L60,'protein 2018'!$A:$H,7,FALSE),\"\")","v":""}]
[null,null,null,null,null,null,null,null,null," ","","",{"$f":"IF(L61<>\"\",VLOOKUP($L61,'milk yield 2018'!$A:$H,8,FALSE),\"\")","v":""},{"$f":"IF(L61<>\"\",VLOOKUP($L61,'milk yield 2018'!$A:$H,7,FALSE),\"\")","v":""},{"$f":"IF(L61<>\"\",VLOOKUP($L61,'fat 2018'!$A:$H,8,FALSE),\"\")","v":""},{"$f":"IF(L61<>\"\",VLOOKUP($L61,'fat 2018'!$A:$H,7,FALSE),\"\")","v":""},{"$f":"IF(L61<>\"\",VLOOKUP($L61,'protein 2018'!$A:$H,8,FALSE),\"\")","v":""},{"$f":"IF(L61<>\"\",VLOOKUP($L61,'protein 2018'!$A:$H,7,FALSE),\"\")","v":""}]
[null,null,null,null,null,null,null,null,null," ","","",{"$f":"IF(L62<>\"\",VLOOKUP($L62,'milk yield 2018'!$A:$H,8,FALSE),\"\")","v":""},{"$f":"IF(L62<>\"\",VLOOKUP($L62,'milk yield 2018'!$A:$H,7,FALSE),\"\")","v":""},{"$f":"IF(L62<>\"\",VLOOKUP($L62,'fat 2018'!$A:$H,8,FALSE),\"\")","v":""},{"$f":"IF(L62<>\"\",VLOOKUP($L62,'fat 2018'!$A:$H,7,FALSE),\"\")","v":""},{"$f":"IF(L62<>\"\",VLOOKUP($L62,'protein 2018'!$A:$H,8,FALSE),\"\")","v":""},{"$f":"IF(L62<>\"\",VLOOKUP($L62,'protein 2018'!$A:$H,7,FALSE),\"\")","v":""}]
[null,null,null,null,null,null,null,null,null," ","","",{"$f":"IF(L63<>\"\",VLOOKUP($L63,'milk yield 2018'!$A:$H,8,FALSE),\"\")","v":""},{"$f":"IF(L63<>\"\",VLOOKUP($L63,'milk yield 2018'!$A:$H,7,FALSE),\"\")","v":""},{"$f":"IF(L63<>\"\",VLOOKUP($L63,'fat 2018'!$A:$H,8,FALSE),\"\")","v":""},{"$f":"IF(L63<>\"\",VLOOKUP($L63,'fat 2018'!$A:$H,7,FALSE),\"\")","v":""},{"$f":"IF(L63<>\"\",VLOOKUP($L63,'protein 2018'!$A:$H,8,FALSE),\"\")","v":""},{"$f":"IF(L63<>\"\",VLOOKUP($L63,'protein 2018'!$A:$H,7,FALSE),\"\")","v":""}]
[null,null,null,null,null,null,null,null,null," ","","",{"$f":"IF(L64<>\"\",VLOOKUP($L64,'milk yield 2018'!$A:$H,8,FALSE),\"\")","v":""},{"$f":"IF(L64<>\"\",VLOOKUP($L64,'milk yield 2018'!$A:$H,7,FALSE),\"\")","v":""},{"$f":"IF(L64<>\"\",VLOOKUP($L64,'fat 2018'!$A:$H,8,FALSE),\"\")","v":""},{"$f":"IF(L64<>\"\",VLOOKUP($L64,'fat 2018'!$A:$H,7,FALSE),\"\")","v":""},{"$f":"IF(L64<>\"\",VLOOKUP($L64,'protein 2018'!$A:$H,8,FALSE),\"\")","v":""},{"$f":"IF(L64<>\"\",VLOOKUP($L64,'protein 2018'!$A:$H,7,FALSE),\"\")","v":""}]
[null,null,null,null,null,null,null,null,null," ","","",{"$f":"IF(L65<>\"\",VLOOKUP($L65,'milk yield 2018'!$A:$H,8,FALSE),\"\")","v":""},{"$f":"IF(L65<>\"\",VLOOKUP($L65,'milk yield 2018'!$A:$H,7,FALSE),\"\")","v":""},{"$f":"IF(L65<>\"\",VLOOKUP($L65,'fat 2018'!$A:$H,8,FALSE),\"\")","v":""},{"$f":"IF(L65<>\"\",VLOOKUP($L65,'fat 2018'!$A:$H,7,FALSE),\"\")","v":""},{"$f":"IF(L65<>\"\",VLOOKUP($L65,'protein 2018'!$A:$H,8,FALSE),\"\")","v":""},{"$f":"IF(L65<>\"\",VLOOKUP($L65,'protein 2018'!$A:$H,7,FALSE),\"\")","v":""}]
[null,null,null,null,null,null,null,null,null," ","","",{"$f":"IF(L66<>\"\",VLOOKUP($L66,'milk yield 2018'!$A:$H,8,FALSE),\"\")","v":""},{"$f":"IF(L66<>\"\",VLOOKUP($L66,'milk yield 2018'!$A:$H,7,FALSE),\"\")","v":""},{"$f":"IF(L66<>\"\",VLOOKUP($L66,'fat 2018'!$A:$H,8,FALSE),\"\")","v":""},{"$f":"IF(L66<>\"\",VLOOKUP($L66,'fat 2018'!$A:$H,7,FALSE),\"\")","v":""},{"$f":"IF(L66<>\"\",VLOOKUP($L66,'protein 2018'!$A:$H,8,FALSE),\"\")","v":""},{"$f":"IF(L66<>\"\",VLOOKUP($L66,'protein 2018'!$A:$H,7,FALSE),\"\")","v":""}]
[null,null,null,null,null,null,null,null,null," ","","",{"$f":"IF(L67<>\"\",VLOOKUP($L67,'milk yield 2018'!$A:$H,8,FALSE),\"\")","v":""},{"$f":"IF(L67<>\"\",VLOOKUP($L67,'milk yield 2018'!$A:$H,7,FALSE),\"\")","v":""},{"$f":"IF(L67<>\"\",VLOOKUP($L67,'fat 2018'!$A:$H,8,FALSE),\"\")","v":""},{"$f":"IF(L67<>\"\",VLOOKUP($L67,'fat 2018'!$A:$H,7,FALSE),\"\")","v":""},{"$f":"IF(L67<>\"\",VLOOKUP($L67,'protein 2018'!$A:$H,8,FALSE),\"\")","v":""},{"$f":"IF(L67<>\"\",VLOOKUP($L67,'protein 2018'!$A:$H,7,FALSE),\"\")","v":""}]
[null,null,null,null,null,null,null,null,null," ","","",{"$f":"IF(L68<>\"\",VLOOKUP($L68,'milk yield 2018'!$A:$H,8,FALSE),\"\")","v":""},{"$f":"IF(L68<>\"\",VLOOKUP($L68,'milk yield 2018'!$A:$H,7,FALSE),\"\")","v":""},{"$f":"IF(L68<>\"\",VLOOKUP($L68,'fat 2018'!$A:$H,8,FALSE),\"\")","v":""},{"$f":"IF(L68<>\"\",VLOOKUP($L68,'fat 2018'!$A:$H,7,FALSE),\"\")","v":""},{"$f":"IF(L68<>\"\",VLOOKUP($L68,'protein 2018'!$A:$H,8,FALSE),\"\")","v":""},{"$f":"IF(L68<>\"\",VLOOKUP($L68,'protein 2018'!$A:$H,7,FALSE),\"\")","v":""}]
[null,null,null,null,null,null,null,null,null," ","","",{"$f":"IF(L69<>\"\",VLOOKUP($L69,'milk yield 2018'!$A:$H,8,FALSE),\"\")","v":""},{"$f":"IF(L69<>\"\",VLOOKUP($L69,'milk yield 2018'!$A:$H,7,FALSE),\"\")","v":""},{"$f":"IF(L69<>\"\",VLOOKUP($L69,'fat 2018'!$A:$H,8,FALSE),\"\")","v":""},{"$f":"IF(L69<>\"\",VLOOKUP($L69,'fat 2018'!$A:$H,7,FALSE),\"\")","v":""},{"$f":"IF(L69<>\"\",VLOOKUP($L69,'protein 2018'!$A:$H,8,FALSE),\"\")","v":""},{"$f":"IF(L69<>\"\",VLOOKUP($L69,'protein 2018'!$A:$H,7,FALSE),\"\")","v":""}]
[null,null,null,null,null,null,null,null,null," ","","",{"$f":"IF(L70<>\"\",VLOOKUP($L70,'milk yield 2018'!$A:$H,8,FALSE),\"\")","v":""},{"$f":"IF(L70<>\"\",VLOOKUP($L70,'milk yield 2018'!$A:$H,7,FALSE),\"\")","v":""},{"$f":"IF(L70<>\"\",VLOOKUP($L70,'fat 2018'!$A:$H,8,FALSE),\"\")","v":""},{"$f":"IF(L70<>\"\",VLOOKUP($L70,'fat 2018'!$A:$H,7,FALSE),\"\")","v":""},{"$f":"IF(L70<>\"\",VLOOKUP($L70,'protein 2018'!$A:$H,8,FALSE),\"\")","v":""},{"$f":"IF(L70<>\"\",VLOOKUP($L70,'protein 2018'!$A:$H,7,FALSE),\"\")","v":""}]
[null,null,null,null,null,null,null,null,null," ","","",{"$f":"IF(L71<>\"\",VLOOKUP($L71,'milk yield 2018'!$A:$H,8,FALSE),\"\")","v":""},{"$f":"IF(L71<>\"\",VLOOKUP($L71,'milk yield 2018'!$A:$H,7,FALSE),\"\")","v":""},{"$f":"IF(L71<>\"\",VLOOKUP($L71,'fat 2018'!$A:$H,8,FALSE),\"\")","v":""},{"$f":"IF(L71<>\"\",VLOOKUP($L71,'fat 2018'!$A:$H,7,FALSE),\"\")","v":""},{"$f":"IF(L71<>\"\",VLOOKUP($L71,'protein 2018'!$A:$H,8,FALSE),\"\")","v":""},{"$f":"IF(L71<>\"\",VLOOKUP($L71,'protein 2018'!$A:$H,7,FALSE),\"\")","v":""}]
[null,null,null,null,null,null,null,null,null," ","","",{"$f":"IF(L72<>\"\",VLOOKUP($L72,'milk yield 2018'!$A:$H,8,FALSE),\"\")","v":""},{"$f":"IF(L72<>\"\",VLOOKUP($L72,'milk yield 2018'!$A:$H,7,FALSE),\"\")","v":""},{"$f":"IF(L72<>\"\",VLOOKUP($L72,'fat 2018'!$A:$H,8,FALSE),\"\")","v":""},{"$f":"IF(L72<>\"\",VLOOKUP($L72,'fat 2018'!$A:$H,7,FALSE),\"\")","v":""},{"$f":"IF(L72<>\"\",VLOOKUP($L72,'protein 2018'!$A:$H,8,FALSE),\"\")","v":""},{"$f":"IF(L72<>\"\",VLOOKUP($L72,'protein 2018'!$A:$H,7,FALSE),\"\")","v":""}]
[null,null,null,null,null,null,null,null,null," ","","",{"$f":"IF(L73<>\"\",VLOOKUP($L73,'milk yield 2018'!$A:$H,8,FALSE),\"\")","v":""},{"$f":"IF(L73<>\"\",VLOOKUP($L73,'milk yield 2018'!$A:$H,7,FALSE),\"\")","v":""},{"$f":"IF(L73<>\"\",VLOOKUP($L73,'fat 2018'!$A:$H,8,FALSE),\"\")","v":""},{"$f":"IF(L73<>\"\",VLOOKUP($L73,'fat 2018'!$A:$H,7,FALSE),\"\")","v":""},{"$f":"IF(L73<>\"\",VLOOKUP($L73,'protein 2018'!$A:$H,8,FALSE),\"\")","v":""},{"$f":"IF(L73<>\"\",VLOOKUP($L73,'protein 2018'!$A:$H,7,FALSE),\"\")","v":""}]
[null,null,null,null,null,null,null,null,null," ","","",{"$f":"IF(L74<>\"\",VLOOKUP($L74,'milk yield 2018'!$A:$H,8,FALSE),\"\")","v":""},{"$f":"IF(L74<>\"\",VLOOKUP($L74,'milk yield 2018'!$A:$H,7,FALSE),\"\")","v":""},{"$f":"IF(L74<>\"\",VLOOKUP($L74,'fat 2018'!$A:$H,8,FALSE),\"\")","v":""},{"$f":"IF(L74<>\"\",VLOOKUP($L74,'fat 2018'!$A:$H,7,FALSE),\"\")","v":""},{"$f":"IF(L74<>\"\",VLOOKUP($L74,'protein 2018'!$A:$H,8,FALSE),\"\")","v":""},{"$f":"IF(L74<>\"\",VLOOKUP($L74,'protein 2018'!$A:$H,7,FALSE),\"\")","v":""}]
[null,null,null,null,null,null,null,null,null," ","","",{"$f":"IF(L75<>\"\",VLOOKUP($L75,'milk yield 2018'!$A:$H,8,FALSE),\"\")","v":""},{"$f":"IF(L75<>\"\",VLOOKUP($L75,'milk yield 2018'!$A:$H,7,FALSE),\"\")","v":""},{"$f":"IF(L75<>\"\",VLOOKUP($L75,'fat 2018'!$A:$H,8,FALSE),\"\")","v":""},{"$f":"IF(L75<>\"\",VLOOKUP($L75,'fat 2018'!$A:$H,7,FALSE),\"\")","v":""},{"$f":"IF(L75<>\"\",VLOOKUP($L75,'protein 2018'!$A:$H,8,FALSE),\"\")","v":""},{"$f":"IF(L75<>\"\",VLOOKUP($L75,'protein 2018'!$A:$H,7,FALSE),\"\")","v":""}]
[null,null,null,null,null,null,null,null,null," ","","",{"$f":"IF(L76<>\"\",VLOOKUP($L76,'milk yield 2018'!$A:$H,8,FALSE),\"\")","v":""},{"$f":"IF(L76<>\"\",VLOOKUP($L76,'milk yield 2018'!$A:$H,7,FALSE),\"\")","v":""},{"$f":"IF(L76<>\"\",VLOOKUP($L76,'fat 2018'!$A:$H,8,FALSE),\"\")","v":""},{"$f":"IF(L76<>\"\",VLOOKUP($L76,'fat 2018'!$A:$H,7,FALSE),\"\")","v":""},{"$f":"IF(L76<>\"\",VLOOKUP($L76,'protein 2018'!$A:$H,8,FALSE),\"\")","v":""},{"$f":"IF(L76<>\"\",VLOOKUP($L76,'protein 2018'!$A:$H,7,FALSE),\"\")","v":""}]
[null,null,null,null,null,null,null,null,null," ","","",{"$f":"IF(L77<>\"\",VLOOKUP($L77,'milk yield 2018'!$A:$H,8,FALSE),\"\")","v":""},{"$f":"IF(L77<>\"\",VLOOKUP($L77,'milk yield 2018'!$A:$H,7,FALSE),\"\")","v":""},{"$f":"IF(L77<>\"\",VLOOKUP($L77,'fat 2018'!$A:$H,8,FALSE),\"\")","v":""},{"$f":"IF(L77<>\"\",VLOOKUP($L77,'fat 2018'!$A:$H,7,FALSE),\"\")","v":""},{"$f":"IF(L77<>\"\",VLOOKUP($L77,'protein 2018'!$A:$H,8,FALSE),\"\")","v":""},{"$f":"IF(L77<>\"\",VLOOKUP($L77,'protein 2018'!$A:$H,7,FALSE),\"\")","v":""}]
[null,null,null,null,null,null,null,null,null," ","","",{"$f":"IF(L78<>\"\",VLOOKUP($L78,'milk yield 2018'!$A:$H,8,FALSE),\"\")","v":""},{"$f":"IF(L78<>\"\",VLOOKUP($L78,'milk yield 2018'!$A:$H,7,FALSE),\"\")","v":""},{"$f":"IF(L78<>\"\",VLOOKUP($L78,'fat 2018'!$A:$H,8,FALSE),\"\")","v":""},{"$f":"IF(L78<>\"\",VLOOKUP($L78,'fat 2018'!$A:$H,7,FALSE),\"\")","v":""},{"$f":"IF(L78<>\"\",VLOOKUP($L78,'protein 2018'!$A:$H,8,FALSE),\"\")","v":""},{"$f":"IF(L78<>\"\",VLOOKUP($L78,'protein 2018'!$A:$H,7,FALSE),\"\")","v":""}]
[null,null,null,null,null,null,null,null,null," ","","",{"$f":"IF(L79<>\"\",VLOOKUP($L79,'milk yield 2018'!$A:$H,8,FALSE),\"\")","v":""},{"$f":"IF(L79<>\"\",VLOOKUP($L79,'milk yield 2018'!$A:$H,7,FALSE),\"\")","v":""},{"$f":"IF(L79<>\"\",VLOOKUP($L79,'fat 2018'!$A:$H,8,FALSE),\"\")","v":""},{"$f":"IF(L79<>\"\",VLOOKUP($L79,'fat 2018'!$A:$H,7,FALSE),\"\")","v":""},{"$f":"IF(L79<>\"\",VLOOKUP($L79,'protein 2018'!$A:$H,8,FALSE),\"\")","v":""},{"$f":"IF(L79<>\"\",VLOOKUP($L79,'protein 2018'!$A:$H,7,FALSE),\"\")","v":""}]
[null,null,null,null,null,null,null,null,null," ","","",{"$f":"IF(L80<>\"\",VLOOKUP($L80,'milk yield 2018'!$A:$H,8,FALSE),\"\")","v":""},{"$f":"IF(L80<>\"\",VLOOKUP($L80,'milk yield 2018'!$A:$H,7,FALSE),\"\")","v":""},{"$f":"IF(L80<>\"\",VLOOKUP($L80,'fat 2018'!$A:$H,8,FALSE),\"\")","v":""},{"$f":"IF(L80<>\"\",VLOOKUP($L80,'fat 2018'!$A:$H,7,FALSE),\"\")","v":""},{"$f":"IF(L80<>\"\",VLOOKUP($L80,'protein 2018'!$A:$H,8,FALSE),\"\")","v":""},{"$f":"IF(L80<>\"\",VLOOKUP($L80,'protein 2018'!$A:$H,7,FALSE),\"\")","v":""}]
[null,null,null,null,null,null,null,null,null," ","","",{"$f":"IF(L81<>\"\",VLOOKUP($L81,'milk yield 2018'!$A:$H,8,FALSE),\"\")","v":""},{"$f":"IF(L81<>\"\",VLOOKUP($L81,'milk yield 2018'!$A:$H,7,FALSE),\"\")","v":""},{"$f":"IF(L81<>\"\",VLOOKUP($L81,'fat 2018'!$A:$H,8,FALSE),\"\")","v":""},{"$f":"IF(L81<>\"\",VLOOKUP($L81,'fat 2018'!$A:$H,7,FALSE),\"\")","v":""},{"$f":"IF(L81<>\"\",VLOOKUP($L81,'protein 2018'!$A:$H,8,FALSE),\"\")","v":""},{"$f":"IF(L81<>\"\",VLOOKUP($L81,'protein 2018'!$A:$H,7,FALSE),\"\")","v":""}]
[null,null,null,null,null,null,null,null,null," ","","",{"$f":"IF(L82<>\"\",VLOOKUP($L82,'milk yield 2018'!$A:$H,8,FALSE),\"\")","v":""},{"$f":"IF(L82<>\"\",VLOOKUP($L82,'milk yield 2018'!$A:$H,7,FALSE),\"\")","v":""},{"$f":"IF(L82<>\"\",VLOOKUP($L82,'fat 2018'!$A:$H,8,FALSE),\"\")","v":""},{"$f":"IF(L82<>\"\",VLOOKUP($L82,'fat 2018'!$A:$H,7,FALSE),\"\")","v":""},{"$f":"IF(L82<>\"\",VLOOKUP($L82,'protein 2018'!$A:$H,8,FALSE),\"\")","v":""},{"$f":"IF(L82<>\"\",VLOOKUP($L82,'protein 2018'!$A:$H,7,FALSE),\"\")","v":""}]
[null,null,null,null,null,null,null,null,null," ",{"$f":"IF(B83<>\"\",IF(($E$8-$B83)<1,1,IF(($E$8-$B83)>360,7,(INT((1+($E$8-$B83)/60))))),\"\")","v":""},{"$f":"IF(AND(J83<>\"\",K83<>\"\"),$E$9*1000+$J83*100+$C$15*10+$K83,\"\")","v":""},{"$f":"IF(L83<>\"\",VLOOKUP($L83,'milk yield 2018'!$A:$H,8,FALSE),\"\")","v":""},{"$f":"IF(L83<>\"\",VLOOKUP($L83,'milk yield 2018'!$A:$H,7,FALSE),\"\")","v":""},{"$f":"IF(L83<>\"\",VLOOKUP($L83,'fat 2018'!$A:$H,8,FALSE),\"\")","v":""},{"$f":"IF(L83<>\"\",VLOOKUP($L83,'fat 2018'!$A:$H,7,FALSE),\"\")","v":""},{"$f":"IF(L83<>\"\",VLOOKUP($L83,'protein 2018'!$A:$H,8,FALSE),\"\")","v":""},{"$f":"IF(L83<>\"\",VLOOKUP($L83,'protein 2018'!$A:$H,7,FALSE),\"\")","v":""}]
[null,null,null,null,null,null,null,null,null,{"$f":"IF($C84=1,1,IF($C84>1,2,\" \"))","v":" "},"","",{"$f":"IF(L84<>\"\",VLOOKUP($L84,'milk yield 2018'!$A:$H,8,FALSE),\"\")","v":""},{"$f":"IF(L84<>\"\",VLOOKUP($L84,'milk yield 2018'!$A:$H,7,FALSE),\"\")","v":""},{"$f":"IF(L84<>\"\",VLOOKUP($L84,'fat 2018'!$A:$H,8,FALSE),\"\")","v":""},{"$f":"IF(L84<>\"\",VLOOKUP($L84,'fat 2018'!$A:$H,7,FALSE),\"\")","v":""},{"$f":"IF(L84<>\"\",VLOOKUP($L84,'protein 2018'!$A:$H,8,FALSE),\"\")","v":""},{"$f":"IF(L84<>\"\",VLOOKUP($L84,'protein 2018'!$A:$H,7,FALSE),\"\")","v":""}]
[null,null,null,null,null,null,null,null,null," ","","",{"$f":"IF(L85<>\"\",VLOOKUP($L85,'milk yield 2018'!$A:$H,8,FALSE),\"\")","v":""},{"$f":"IF(L85<>\"\",VLOOKUP($L85,'milk yield 2018'!$A:$H,7,FALSE),\"\")","v":""},{"$f":"IF(L85<>\"\",VLOOKUP($L85,'fat 2018'!$A:$H,8,FALSE),\"\")","v":""},{"$f":"IF(L85<>\"\",VLOOKUP($L85,'fat 2018'!$A:$H,7,FALSE),\"\")","v":""},{"$f":"IF(L85<>\"\",VLOOKUP($L85,'protein 2018'!$A:$H,8,FALSE),\"\")","v":""},{"$f":"IF(L85<>\"\",VLOOKUP($L85,'protein 2018'!$A:$H,7,FALSE),\"\")","v":""}]
[null,null,null,null,null,null,null,null,null," ","","",{"$f":"IF(L86<>\"\",VLOOKUP($L86,'milk yield 2018'!$A:$H,8,FALSE),\"\")","v":""},{"$f":"IF(L86<>\"\",VLOOKUP($L86,'milk yield 2018'!$A:$H,7,FALSE),\"\")","v":""},{"$f":"IF(L86<>\"\",VLOOKUP($L86,'fat 2018'!$A:$H,8,FALSE),\"\")","v":""},{"$f":"IF(L86<>\"\",VLOOKUP($L86,'fat 2018'!$A:$H,7,FALSE),\"\")","v":""},{"$f":"IF(L86<>\"\",VLOOKUP($L86,'protein 2018'!$A:$H,8,FALSE),\"\")","v":""},{"$f":"IF(L86<>\"\",VLOOKUP($L86,'protein 2018'!$A:$H,7,FALSE),\"\")","v":""}]
[null,null,null,null,null,null,null,null,null," ","","",{"$f":"IF(L87<>\"\",VLOOKUP($L87,'milk yield 2018'!$A:$H,8,FALSE),\"\")","v":""},{"$f":"IF(L87<>\"\",VLOOKUP($L87,'milk yield 2018'!$A:$H,7,FALSE),\"\")","v":""},{"$f":"IF(L87<>\"\",VLOOKUP($L87,'fat 2018'!$A:$H,8,FALSE),\"\")","v":""},{"$f":"IF(L87<>\"\",VLOOKUP($L87,'fat 2018'!$A:$H,7,FALSE),\"\")","v":""},{"$f":"IF(L87<>\"\",VLOOKUP($L87,'protein 2018'!$A:$H,8,FALSE),\"\")","v":""},{"$f":"IF(L87<>\"\",VLOOKUP($L87,'protein 2018'!$A:$H,7,FALSE),\"\")","v":""}]
[null,null,null,null,null,null,null,null,null," ","","",{"$f":"IF(L88<>\"\",VLOOKUP($L88,'milk yield 2018'!$A:$H,8,FALSE),\"\")","v":""},{"$f":"IF(L88<>\"\",VLOOKUP($L88,'milk yield 2018'!$A:$H,7,FALSE),\"\")","v":""},{"$f":"IF(L88<>\"\",VLOOKUP($L88,'fat 2018'!$A:$H,8,FALSE),\"\")","v":""},{"$f":"IF(L88<>\"\",VLOOKUP($L88,'fat 2018'!$A:$H,7,FALSE),\"\")","v":""},{"$f":"IF(L88<>\"\",VLOOKUP($L88,'protein 2018'!$A:$H,8,FALSE),\"\")","v":""},{"$f":"IF(L88<>\"\",VLOOKUP($L88,'protein 2018'!$A:$H,7,FALSE),\"\")","v":""}]
[null,null,null,null,null,null,null,null,null," ","","",{"$f":"IF(L89<>\"\",VLOOKUP($L89,'milk yield 2018'!$A:$H,8,FALSE),\"\")","v":""},{"$f":"IF(L89<>\"\",VLOOKUP($L89,'milk yield 2018'!$A:$H,7,FALSE),\"\")","v":""},{"$f":"IF(L89<>\"\",VLOOKUP($L89,'fat 2018'!$A:$H,8,FALSE),\"\")","v":""},{"$f":"IF(L89<>\"\",VLOOKUP($L89,'fat 2018'!$A:$H,7,FALSE),\"\")","v":""},{"$f":"IF(L89<>\"\",VLOOKUP($L89,'protein 2018'!$A:$H,8,FALSE),\"\")","v":""},{"$f":"IF(L89<>\"\",VLOOKUP($L89,'protein 2018'!$A:$H,7,FALSE),\"\")","v":""}]
[null,null,null,null,null,null,null,null,null," ","","",{"$f":"IF(L90<>\"\",VLOOKUP($L90,'milk yield 2018'!$A:$H,8,FALSE),\"\")","v":""},{"$f":"IF(L90<>\"\",VLOOKUP($L90,'milk yield 2018'!$A:$H,7,FALSE),\"\")","v":""},{"$f":"IF(L90<>\"\",VLOOKUP($L90,'fat 2018'!$A:$H,8,FALSE),\"\")","v":""},{"$f":"IF(L90<>\"\",VLOOKUP($L90,'fat 2018'!$A:$H,7,FALSE),\"\")","v":""},{"$f":"IF(L90<>\"\",VLOOKUP($L90,'protein 2018'!$A:$H,8,FALSE),\"\")","v":""},{"$f":"IF(L90<>\"\",VLOOKUP($L90,'protein 2018'!$A:$H,7,FALSE),\"\")","v":""}]
[null,null,null,null,null,null,null,null,null," ","","",{"$f":"IF(L91<>\"\",VLOOKUP($L91,'milk yield 2018'!$A:$H,8,FALSE),\"\")","v":""},{"$f":"IF(L91<>\"\",VLOOKUP($L91,'milk yield 2018'!$A:$H,7,FALSE),\"\")","v":""},{"$f":"IF(L91<>\"\",VLOOKUP($L91,'fat 2018'!$A:$H,8,FALSE),\"\")","v":""},{"$f":"IF(L91<>\"\",VLOOKUP($L91,'fat 2018'!$A:$H,7,FALSE),\"\")","v":""},{"$f":"IF(L91<>\"\",VLOOKUP($L91,'protein 2018'!$A:$H,8,FALSE),\"\")","v":""},{"$f":"IF(L91<>\"\",VLOOKUP($L91,'protein 2018'!$A:$H,7,FALSE),\"\")","v":""}]
[null,null,null,null,null,null,null,null,null," ","","",{"$f":"IF(L92<>\"\",VLOOKUP($L92,'milk yield 2018'!$A:$H,8,FALSE),\"\")","v":""},{"$f":"IF(L92<>\"\",VLOOKUP($L92,'milk yield 2018'!$A:$H,7,FALSE),\"\")","v":""},{"$f":"IF(L92<>\"\",VLOOKUP($L92,'fat 2018'!$A:$H,8,FALSE),\"\")","v":""},{"$f":"IF(L92<>\"\",VLOOKUP($L92,'fat 2018'!$A:$H,7,FALSE),\"\")","v":""},{"$f":"IF(L92<>\"\",VLOOKUP($L92,'protein 2018'!$A:$H,8,FALSE),\"\")","v":""},{"$f":"IF(L92<>\"\",VLOOKUP($L92,'protein 2018'!$A:$H,7,FALSE),\"\")","v":""}]
[null,null,null,null,null,null,null,null,null," ","","",{"$f":"IF(L93<>\"\",VLOOKUP($L93,'milk yield 2018'!$A:$H,8,FALSE),\"\")","v":""},{"$f":"IF(L93<>\"\",VLOOKUP($L93,'milk yield 2018'!$A:$H,7,FALSE),\"\")","v":""},{"$f":"IF(L93<>\"\",VLOOKUP($L93,'fat 2018'!$A:$H,8,FALSE),\"\")","v":""},{"$f":"IF(L93<>\"\",VLOOKUP($L93,'fat 2018'!$A:$H,7,FALSE),\"\")","v":""},{"$f":"IF(L93<>\"\",VLOOKUP($L93,'protein 2018'!$A:$H,8,FALSE),\"\")","v":""},{"$f":"IF(L93<>\"\",VLOOKUP($L93,'protein 2018'!$A:$H,7,FALSE),\"\")","v":""}]
[null,null,null,null,null,null,null,null,null," ","","",{"$f":"IF(L94<>\"\",VLOOKUP($L94,'milk yield 2018'!$A:$H,8,FALSE),\"\")","v":""},{"$f":"IF(L94<>\"\",VLOOKUP($L94,'milk yield 2018'!$A:$H,7,FALSE),\"\")","v":""},{"$f":"IF(L94<>\"\",VLOOKUP($L94,'fat 2018'!$A:$H,8,FALSE),\"\")","v":""},{"$f":"IF(L94<>\"\",VLOOKUP($L94,'fat 2018'!$A:$H,7,FALSE),\"\")","v":""},{"$f":"IF(L94<>\"\",VLOOKUP($L94,'protein 2018'!$A:$H,8,FALSE),\"\")","v":""},{"$f":"IF(L94<>\"\",VLOOKUP($L94,'protein 2018'!$A:$H,7,FALSE),\"\")","v":""}]
[null,null,null,null,null,null,null,null,null," ","","",{"$f":"IF(L95<>\"\",VLOOKUP($L95,'milk yield 2018'!$A:$H,8,FALSE),\"\")","v":""},{"$f":"IF(L95<>\"\",VLOOKUP($L95,'milk yield 2018'!$A:$H,7,FALSE),\"\")","v":""},{"$f":"IF(L95<>\"\",VLOOKUP($L95,'fat 2018'!$A:$H,8,FALSE),\"\")","v":""},{"$f":"IF(L95<>\"\",VLOOKUP($L95,'fat 2018'!$A:$H,7,FALSE),\"\")","v":""},{"$f":"IF(L95<>\"\",VLOOKUP($L95,'protein 2018'!$A:$H,8,FALSE),\"\")","v":""},{"$f":"IF(L95<>\"\",VLOOKUP($L95,'protein 2018'!$A:$H,7,FALSE),\"\")","v":""}]
[null,null,null,null,null,null,null,null,null," ","","",{"$f":"IF(L96<>\"\",VLOOKUP($L96,'milk yield 2018'!$A:$H,8,FALSE),\"\")","v":""},{"$f":"IF(L96<>\"\",VLOOKUP($L96,'milk yield 2018'!$A:$H,7,FALSE),\"\")","v":""},{"$f":"IF(L96<>\"\",VLOOKUP($L96,'fat 2018'!$A:$H,8,FALSE),\"\")","v":""},{"$f":"IF(L96<>\"\",VLOOKUP($L96,'fat 2018'!$A:$H,7,FALSE),\"\")","v":""},{"$f":"IF(L96<>\"\",VLOOKUP($L96,'protein 2018'!$A:$H,8,FALSE),\"\")","v":""},{"$f":"IF(L96<>\"\",VLOOKUP($L96,'protein 2018'!$A:$H,7,FALSE),\"\")","v":""}]
[null,null,null,null,null,null,null,null,null," ","","",{"$f":"IF(L97<>\"\",VLOOKUP($L97,'milk yield 2018'!$A:$H,8,FALSE),\"\")","v":""},{"$f":"IF(L97<>\"\",VLOOKUP($L97,'milk yield 2018'!$A:$H,7,FALSE),\"\")","v":""},{"$f":"IF(L97<>\"\",VLOOKUP($L97,'fat 2018'!$A:$H,8,FALSE),\"\")","v":""},{"$f":"IF(L97<>\"\",VLOOKUP($L97,'fat 2018'!$A:$H,7,FALSE),\"\")","v":""},{"$f":"IF(L97<>\"\",VLOOKUP($L97,'protein 2018'!$A:$H,8,FALSE),\"\")","v":""},{"$f":"IF(L97<>\"\",VLOOKUP($L97,'protein 2018'!$A:$H,7,FALSE),\"\")","v":""}]
[null,null,null,null,null,null,null,null,null," ","","",{"$f":"IF(L98<>\"\",VLOOKUP($L98,'milk yield 2018'!$A:$H,8,FALSE),\"\")","v":""},{"$f":"IF(L98<>\"\",VLOOKUP($L98,'milk yield 2018'!$A:$H,7,FALSE),\"\")","v":""},{"$f":"IF(L98<>\"\",VLOOKUP($L98,'fat 2018'!$A:$H,8,FALSE),\"\")","v":""},{"$f":"IF(L98<>\"\",VLOOKUP($L98,'fat 2018'!$A:$H,7,FALSE),\"\")","v":""},{"$f":"IF(L98<>\"\",VLOOKUP($L98,'protein 2018'!$A:$H,8,FALSE),\"\")","v":""},{"$f":"IF(L98<>\"\",VLOOKUP($L98,'protein 2018'!$A:$H,7,FALSE),\"\")","v":""}]
[null,null,null,null,null,null,null,null,null," ","","",{"$f":"IF(L99<>\"\",VLOOKUP($L99,'milk yield 2018'!$A:$H,8,FALSE),\"\")","v":""},{"$f":"IF(L99<>\"\",VLOOKUP($L99,'milk yield 2018'!$A:$H,7,FALSE),\"\")","v":""},{"$f":"IF(L99<>\"\",VLOOKUP($L99,'fat 2018'!$A:$H,8,FALSE),\"\")","v":""},{"$f":"IF(L99<>\"\",VLOOKUP($L99,'fat 2018'!$A:$H,7,FALSE),\"\")","v":""},{"$f":"IF(L99<>\"\",VLOOKUP($L99,'protein 2018'!$A:$H,8,FALSE),\"\")","v":""},{"$f":"IF(L99<>\"\",VLOOKUP($L99,'protein 2018'!$A:$H,7,FALSE),\"\")","v":""}]
[null,null,null,null,null,null,null,null,null," ","","",{"$f":"IF(L100<>\"\",VLOOKUP($L100,'milk yield 2018'!$A:$H,8,FALSE),\"\")","v":""},{"$f":"IF(L100<>\"\",VLOOKUP($L100,'milk yield 2018'!$A:$H,7,FALSE),\"\")","v":""},{"$f":"IF(L100<>\"\",VLOOKUP($L100,'fat 2018'!$A:$H,8,FALSE),\"\")","v":""},{"$f":"IF(L100<>\"\",VLOOKUP($L100,'fat 2018'!$A:$H,7,FALSE),\"\")","v":""},{"$f":"IF(L100<>\"\",VLOOKUP($L100,'protein 2018'!$A:$H,8,FALSE),\"\")","v":""},{"$f":"IF(L100<>\"\",VLOOKUP($L100,'protein 2018'!$A:$H,7,FALSE),\"\")","v":""}]
[null,null,null,null,null,null,null,null,null," ","","",{"$f":"IF(L101<>\"\",VLOOKUP($L101,'milk yield 2018'!$A:$H,8,FALSE),\"\")","v":""},{"$f":"IF(L101<>\"\",VLOOKUP($L101,'milk yield 2018'!$A:$H,7,FALSE),\"\")","v":""},{"$f":"IF(L101<>\"\",VLOOKUP($L101,'fat 2018'!$A:$H,8,FALSE),\"\")","v":""},{"$f":"IF(L101<>\"\",VLOOKUP($L101,'fat 2018'!$A:$H,7,FALSE),\"\")","v":""},{"$f":"IF(L101<>\"\",VLOOKUP($L101,'protein 2018'!$A:$H,8,FALSE),\"\")","v":""},{"$f":"IF(L101<>\"\",VLOOKUP($L101,'protein 2018'!$A:$H,7,FALSE),\"\")","v":""}]
[null,null,null,null,null,null,null,null,null," ","","",{"$f":"IF(L102<>\"\",VLOOKUP($L102,'milk yield 2018'!$A:$H,8,FALSE),\"\")","v":""},{"$f":"IF(L102<>\"\",VLOOKUP($L102,'milk yield 2018'!$A:$H,7,FALSE),\"\")","v":""},{"$f":"IF(L102<>\"\",VLOOKUP($L102,'fat 2018'!$A:$H,8,FALSE),\"\")","v":""},{"$f":"IF(L102<>\"\",VLOOKUP($L102,'fat 2018'!$A:$H,7,FALSE),\"\")","v":""},{"$f":"IF(L102<>\"\",VLOOKUP($L102,'protein 2018'!$A:$H,8,FALSE),\"\")","v":""},{"$f":"IF(L102<>\"\",VLOOKUP($L102,'protein 2018'!$A:$H,7,FALSE),\"\")","v":""}]
[null,null,null,null,null,null,null,null,null," ","","",{"$f":"IF(L103<>\"\",VLOOKUP($L103,'milk yield 2018'!$A:$H,8,FALSE),\"\")","v":""},{"$f":"IF(L103<>\"\",VLOOKUP($L103,'milk yield 2018'!$A:$H,7,FALSE),\"\")","v":""},{"$f":"IF(L103<>\"\",VLOOKUP($L103,'fat 2018'!$A:$H,8,FALSE),\"\")","v":""},{"$f":"IF(L103<>\"\",VLOOKUP($L103,'fat 2018'!$A:$H,7,FALSE),\"\")","v":""},{"$f":"IF(L103<>\"\",VLOOKUP($L103,'protein 2018'!$A:$H,8,FALSE),\"\")","v":""},{"$f":"IF(L103<>\"\",VLOOKUP($L103,'protein 2018'!$A:$H,7,FALSE),\"\")","v":""}]
[null,null,null,null,null,null,null,null,null," ","","",{"$f":"IF(L104<>\"\",VLOOKUP($L104,'milk yield 2018'!$A:$H,8,FALSE),\"\")","v":""},{"$f":"IF(L104<>\"\",VLOOKUP($L104,'milk yield 2018'!$A:$H,7,FALSE),\"\")","v":""},{"$f":"IF(L104<>\"\",VLOOKUP($L104,'fat 2018'!$A:$H,8,FALSE),\"\")","v":""},{"$f":"IF(L104<>\"\",VLOOKUP($L104,'fat 2018'!$A:$H,7,FALSE),\"\")","v":""},{"$f":"IF(L104<>\"\",VLOOKUP($L104,'protein 2018'!$A:$H,8,FALSE),\"\")","v":""},{"$f":"IF(L104<>\"\",VLOOKUP($L104,'protein 2018'!$A:$H,7,FALSE),\"\")","v":""}]
[null,null,null,null,null,null,null,null,null," ","","",{"$f":"IF(L105<>\"\",VLOOKUP($L105,'milk yield 2018'!$A:$H,8,FALSE),\"\")","v":""},{"$f":"IF(L105<>\"\",VLOOKUP($L105,'milk yield 2018'!$A:$H,7,FALSE),\"\")","v":""},{"$f":"IF(L105<>\"\",VLOOKUP($L105,'fat 2018'!$A:$H,8,FALSE),\"\")","v":""},{"$f":"IF(L105<>\"\",VLOOKUP($L105,'fat 2018'!$A:$H,7,FALSE),\"\")","v":""},{"$f":"IF(L105<>\"\",VLOOKUP($L105,'protein 2018'!$A:$H,8,FALSE),\"\")","v":""},{"$f":"IF(L105<>\"\",VLOOKUP($L105,'protein 2018'!$A:$H,7,FALSE),\"\")","v":""}]
[null,null,null,null,null,null,null,null,null," ","","",{"$f":"IF(L106<>\"\",VLOOKUP($L106,'milk yield 2018'!$A:$H,8,FALSE),\"\")","v":""},{"$f":"IF(L106<>\"\",VLOOKUP($L106,'milk yield 2018'!$A:$H,7,FALSE),\"\")","v":""},{"$f":"IF(L106<>\"\",VLOOKUP($L106,'fat 2018'!$A:$H,8,FALSE),\"\")","v":""},{"$f":"IF(L106<>\"\",VLOOKUP($L106,'fat 2018'!$A:$H,7,FALSE),\"\")","v":""},{"$f":"IF(L106<>\"\",VLOOKUP($L106,'protein 2018'!$A:$H,8,FALSE),\"\")","v":""},{"$f":"IF(L106<>\"\",VLOOKUP($L106,'protein 2018'!$A:$H,7,FALSE),\"\")","v":""}]
[null,null,null,null,null,null,null,null,null," ","","",{"$f":"IF(L107<>\"\",VLOOKUP($L107,'milk yield 2018'!$A:$H,8,FALSE),\"\")","v":""},{"$f":"IF(L107<>\"\",VLOOKUP($L107,'milk yield 2018'!$A:$H,7,FALSE),\"\")","v":""},{"$f":"IF(L107<>\"\",VLOOKUP($L107,'fat 2018'!$A:$H,8,FALSE),\"\")","v":""},{"$f":"IF(L107<>\"\",VLOOKUP($L107,'fat 2018'!$A:$H,7,FALSE),\"\")","v":""},{"$f":"IF(L107<>\"\",VLOOKUP($L107,'protein 2018'!$A:$H,8,FALSE),\"\")","v":""},{"$f":"IF(L107<>\"\",VLOOKUP($L107,'protein 2018'!$A:$H,7,FALSE),\"\")","v":""}]
[null,null,null,null,null,null,null,null,null," ","","",{"$f":"IF(L108<>\"\",VLOOKUP($L108,'milk yield 2018'!$A:$H,8,FALSE),\"\")","v":""},{"$f":"IF(L108<>\"\",VLOOKUP($L108,'milk yield 2018'!$A:$H,7,FALSE),\"\")","v":""},{"$f":"IF(L108<>\"\",VLOOKUP($L108,'fat 2018'!$A:$H,8,FALSE),\"\")","v":""},{"$f":"IF(L108<>\"\",VLOOKUP($L108,'fat 2018'!$A:$H,7,FALSE),\"\")","v":""},{"$f":"IF(L108<>\"\",VLOOKUP($L108,'protein 2018'!$A:$H,8,FALSE),\"\")","v":""},{"$f":"IF(L108<>\"\",VLOOKUP($L108,'protein 2018'!$A:$H,7,FALSE),\"\")","v":""}]
[null,null,null,null,null,null,null,null,null," ","","",{"$f":"IF(L109<>\"\",VLOOKUP($L109,'milk yield 2018'!$A:$H,8,FALSE),\"\")","v":""},{"$f":"IF(L109<>\"\",VLOOKUP($L109,'milk yield 2018'!$A:$H,7,FALSE),\"\")","v":""},{"$f":"IF(L109<>\"\",VLOOKUP($L109,'fat 2018'!$A:$H,8,FALSE),\"\")","v":""},{"$f":"IF(L109<>\"\",VLOOKUP($L109,'fat 2018'!$A:$H,7,FALSE),\"\")","v":""},{"$f":"IF(L109<>\"\",VLOOKUP($L109,'protein 2018'!$A:$H,8,FALSE),\"\")","v":""},{"$f":"IF(L109<>\"\",VLOOKUP($L109,'protein 2018'!$A:$H,7,FALSE),\"\")","v":""}]
[null,null,null,null,null,null,null,null,null," ","","",{"$f":"IF(L110<>\"\",VLOOKUP($L110,'milk yield 2018'!$A:$H,8,FALSE),\"\")","v":""},{"$f":"IF(L110<>\"\",VLOOKUP($L110,'milk yield 2018'!$A:$H,7,FALSE),\"\")","v":""},{"$f":"IF(L110<>\"\",VLOOKUP($L110,'fat 2018'!$A:$H,8,FALSE),\"\")","v":""},{"$f":"IF(L110<>\"\",VLOOKUP($L110,'fat 2018'!$A:$H,7,FALSE),\"\")","v":""},{"$f":"IF(L110<>\"\",VLOOKUP($L110,'protein 2018'!$A:$H,8,FALSE),\"\")","v":""},{"$f":"IF(L110<>\"\",VLOOKUP($L110,'protein 2018'!$A:$H,7,FALSE),\"\")","v":""}]
[null,null,null,null,null,null,null,null,null," ","","",{"$f":"IF(L111<>\"\",VLOOKUP($L111,'milk yield 2018'!$A:$H,8,FALSE),\"\")","v":""},{"$f":"IF(L111<>\"\",VLOOKUP($L111,'milk yield 2018'!$A:$H,7,FALSE),\"\")","v":""},{"$f":"IF(L111<>\"\",VLOOKUP($L111,'fat 2018'!$A:$H,8,FALSE),\"\")","v":""},{"$f":"IF(L111<>\"\",VLOOKUP($L111,'fat 2018'!$A:$H,7,FALSE),\"\")","v":""},{"$f":"IF(L111<>\"\",VLOOKUP($L111,'protein 2018'!$A:$H,8,FALSE),\"\")","v":""},{"$f":"IF(L111<>\"\",VLOOKUP($L111,'protein 2018'!$A:$H,7,FALSE),\"\")","v":""}]
[null,null,null,null,null,null,null,null,null," ","","",{"$f":"IF(L112<>\"\",VLOOKUP($L112,'milk yield 2018'!$A:$H,8,FALSE),\"\")","v":""},{"$f":"IF(L112<>\"\",VLOOKUP($L112,'milk yield 2018'!$A:$H,7,FALSE),\"\")","v":""},{"$f":"IF(L112<>\"\",VLOOKUP($L112,'fat 2018'!$A:$H,8,FALSE),\"\")","v":""},{"$f":"IF(L112<>\"\",VLOOKUP($L112,'fat 2018'!$A:$H,7,FALSE),\"\")","v":""},{"$f":"IF(L112<>\"\",VLOOKUP($L112,'protein 2018'!$A:$H,8,FALSE),\"\")","v":""},{"$f":"IF(L112<>\"\",VLOOKUP($L112,'protein 2018'!$A:$H,7,FALSE),\"\")","v":""}]
[null,null,null,null,null,null,null,null,null," ","","",{"$f":"IF(L113<>\"\",VLOOKUP($L113,'milk yield 2018'!$A:$H,8,FALSE),\"\")","v":""},{"$f":"IF(L113<>\"\",VLOOKUP($L113,'milk yield 2018'!$A:$H,7,FALSE),\"\")","v":""},{"$f":"IF(L113<>\"\",VLOOKUP($L113,'fat 2018'!$A:$H,8,FALSE),\"\")","v":""},{"$f":"IF(L113<>\"\",VLOOKUP($L113,'fat 2018'!$A:$H,7,FALSE),\"\")","v":""},{"$f":"IF(L113<>\"\",VLOOKUP($L113,'protein 2018'!$A:$H,8,FALSE),\"\")","v":""},{"$f":"IF(L113<>\"\",VLOOKUP($L113,'protein 2018'!$A:$H,7,FALSE),\"\")","v":""}]
[null,null,null,null,null,null,null,null,null," ","","",{"$f":"IF(L114<>\"\",VLOOKUP($L114,'milk yield 2018'!$A:$H,8,FALSE),\"\")","v":""},{"$f":"IF(L114<>\"\",VLOOKUP($L114,'milk yield 2018'!$A:$H,7,FALSE),\"\")","v":""},{"$f":"IF(L114<>\"\",VLOOKUP($L114,'fat 2018'!$A:$H,8,FALSE),\"\")","v":""},{"$f":"IF(L114<>\"\",VLOOKUP($L114,'fat 2018'!$A:$H,7,FALSE),\"\")","v":""},{"$f":"IF(L114<>\"\",VLOOKUP($L114,'protein 2018'!$A:$H,8,FALSE),\"\")","v":""},{"$f":"IF(L114<>\"\",VLOOKUP($L114,'protein 2018'!$A:$H,7,FALSE),\"\")","v":""}]
[null,null,null,null,null,null,null,null,null," ",{"$f":"IF(B115<>\"\",IF(($E$8-$B115)<1,1,IF(($E$8-$B115)>360,7,(INT((1+($E$8-$B115)/60))))),\"\")","v":""},{"$f":"IF(AND(J115<>\"\",K115<>\"\"),$E$9*1000+$J115*100+$C$15*10+$K115,\"\")","v":""},{"$f":"IF(L115<>\"\",VLOOKUP($L115,'milk yield 2018'!$A:$H,8,FALSE),\"\")","v":""},{"$f":"IF(L115<>\"\",VLOOKUP($L115,'milk yield 2018'!$A:$H,7,FALSE),\"\")","v":""},{"$f":"IF(L115<>\"\",VLOOKUP($L115,'fat 2018'!$A:$H,8,FALSE),\"\")","v":""},{"$f":"IF(L115<>\"\",VLOOKUP($L115,'fat 2018'!$A:$H,7,FALSE),\"\")","v":""},{"$f":"IF(L115<>\"\",VLOOKUP($L115,'protein 2018'!$A:$H,8,FALSE),\"\")","v":""},{"$f":"IF(L115<>\"\",VLOOKUP($L115,'protein 2018'!$A:$H,7,FALSE),\"\")","v":""}]
[null,null,null,null,null,null,null,null,null," ","","",{"$f":"IF(L116<>\"\",VLOOKUP($L116,'milk yield 2018'!$A:$H,8,FALSE),\"\")","v":""},{"$f":"IF(L116<>\"\",VLOOKUP($L116,'milk yield 2018'!$A:$H,7,FALSE),\"\")","v":""},{"$f":"IF(L116<>\"\",VLOOKUP($L116,'fat 2018'!$A:$H,8,FALSE),\"\")","v":""},{"$f":"IF(L116<>\"\",VLOOKUP($L116,'fat 2018'!$A:$H,7,FALSE),\"\")","v":""},{"$f":"IF(L116<>\"\",VLOOKUP($L116,'protein 2018'!$A:$H,8,FALSE),\"\")","v":""},{"$f":"IF(L116<>\"\",VLOOKUP($L116,'protein 2018'!$A:$H,7,FALSE),\"\")","v":""}]
[null,null,null,null,null,null,null,null,null," ","","",{"$f":"IF(L117<>\"\",VLOOKUP($L117,'milk yield 2018'!$A:$H,8,FALSE),\"\")","v":""},{"$f":"IF(L117<>\"\",VLOOKUP($L117,'milk yield 2018'!$A:$H,7,FALSE),\"\")","v":""},{"$f":"IF(L117<>\"\",VLOOKUP($L117,'fat 2018'!$A:$H,8,FALSE),\"\")","v":""},{"$f":"IF(L117<>\"\",VLOOKUP($L117,'fat 2018'!$A:$H,7,FALSE),\"\")","v":""},{"$f":"IF(L117<>\"\",VLOOKUP($L117,'protein 2018'!$A:$H,8,FALSE),\"\")","v":""},{"$f":"IF(L117<>\"\",VLOOKUP($L117,'protein 2018'!$A:$H,7,FALSE),\"\")","v":""}]
[null,null,null,null,null,null,null,null,null," ","","",{"$f":"IF(L118<>\"\",VLOOKUP($L118,'milk yield 2018'!$A:$H,8,FALSE),\"\")","v":""},{"$f":"IF(L118<>\"\",VLOOKUP($L118,'milk yield 2018'!$A:$H,7,FALSE),\"\")","v":""},{"$f":"IF(L118<>\"\",VLOOKUP($L118,'fat 2018'!$A:$H,8,FALSE),\"\")","v":""},{"$f":"IF(L118<>\"\",VLOOKUP($L118,'fat 2018'!$A:$H,7,FALSE),\"\")","v":""},{"$f":"IF(L118<>\"\",VLOOKUP($L118,'protein 2018'!$A:$H,8,FALSE),\"\")","v":""},{"$f":"IF(L118<>\"\",VLOOKUP($L118,'protein 2018'!$A:$H,7,FALSE),\"\")","v":""}]
[null,null,null,null,null,null,null,null,null," ","","",{"$f":"IF(L119<>\"\",VLOOKUP($L119,'milk yield 2018'!$A:$H,8,FALSE),\"\")","v":""},{"$f":"IF(L119<>\"\",VLOOKUP($L119,'milk yield 2018'!$A:$H,7,FALSE),\"\")","v":""},{"$f":"IF(L119<>\"\",VLOOKUP($L119,'fat 2018'!$A:$H,8,FALSE),\"\")","v":""},{"$f":"IF(L119<>\"\",VLOOKUP($L119,'fat 2018'!$A:$H,7,FALSE),\"\")","v":""},{"$f":"IF(L119<>\"\",VLOOKUP($L119,'protein 2018'!$A:$H,8,FALSE),\"\")","v":""},{"$f":"IF(L119<>\"\",VLOOKUP($L119,'protein 2018'!$A:$H,7,FALSE),\"\")","v":""}]
[null,null,null,null,null,null,null,null,null," ","","",{"$f":"IF(L120<>\"\",VLOOKUP($L120,'milk yield 2018'!$A:$H,8,FALSE),\"\")","v":""},{"$f":"IF(L120<>\"\",VLOOKUP($L120,'milk yield 2018'!$A:$H,7,FALSE),\"\")","v":""},{"$f":"IF(L120<>\"\",VLOOKUP($L120,'fat 2018'!$A:$H,8,FALSE),\"\")","v":""},{"$f":"IF(L120<>\"\",VLOOKUP($L120,'fat 2018'!$A:$H,7,FALSE),\"\")","v":""},{"$f":"IF(L120<>\"\",VLOOKUP($L120,'protein 2018'!$A:$H,8,FALSE),\"\")","v":""},{"$f":"IF(L120<>\"\",VLOOKUP($L120,'protein 2018'!$A:$H,7,FALSE),\"\")","v":""}]
[null,null,null,null,null,null,null,null,null," ","","",{"$f":"IF(L121<>\"\",VLOOKUP($L121,'milk yield 2018'!$A:$H,8,FALSE),\"\")","v":""},{"$f":"IF(L121<>\"\",VLOOKUP($L121,'milk yield 2018'!$A:$H,7,FALSE),\"\")","v":""},{"$f":"IF(L121<>\"\",VLOOKUP($L121,'fat 2018'!$A:$H,8,FALSE),\"\")","v":""},{"$f":"IF(L121<>\"\",VLOOKUP($L121,'fat 2018'!$A:$H,7,FALSE),\"\")","v":""},{"$f":"IF(L121<>\"\",VLOOKUP($L121,'protein 2018'!$A:$H,8,FALSE),\"\")","v":""},{"$f":"IF(L121<>\"\",VLOOKUP($L121,'protein 2018'!$A:$H,7,FALSE),\"\")","v":""}]
[null,null,null,null,null,null,null,null,null," ","","",{"$f":"IF(L122<>\"\",VLOOKUP($L122,'milk yield 2018'!$A:$H,8,FALSE),\"\")","v":""},{"$f":"IF(L122<>\"\",VLOOKUP($L122,'milk yield 2018'!$A:$H,7,FALSE),\"\")","v":""},{"$f":"IF(L122<>\"\",VLOOKUP($L122,'fat 2018'!$A:$H,8,FALSE),\"\")","v":""},{"$f":"IF(L122<>\"\",VLOOKUP($L122,'fat 2018'!$A:$H,7,FALSE),\"\")","v":""},{"$f":"IF(L122<>\"\",VLOOKUP($L122,'protein 2018'!$A:$H,8,FALSE),\"\")","v":""},{"$f":"IF(L122<>\"\",VLOOKUP($L122,'protein 2018'!$A:$H,7,FALSE),\"\")","v":""}]
[null,null,null,null,null,null,null,null,null," ","","",{"$f":"IF(L123<>\"\",VLOOKUP($L123,'milk yield 2018'!$A:$H,8,FALSE),\"\")","v":""},{"$f":"IF(L123<>\"\",VLOOKUP($L123,'milk yield 2018'!$A:$H,7,FALSE),\"\")","v":""},{"$f":"IF(L123<>\"\",VLOOKUP($L123,'fat 2018'!$A:$H,8,FALSE),\"\")","v":""},{"$f":"IF(L123<>\"\",VLOOKUP($L123,'fat 2018'!$A:$H,7,FALSE),\"\")","v":""},{"$f":"IF(L123<>\"\",VLOOKUP($L123,'protein 2018'!$A:$H,8,FALSE),\"\")","v":""},{"$f":"IF(L123<>\"\",VLOOKUP($L123,'protein 2018'!$A:$H,7,FALSE),\"\")","v":""}]
[null,null,null,null,null,null,null,null,null," ","","",{"$f":"IF(L124<>\"\",VLOOKUP($L124,'milk yield 2018'!$A:$H,8,FALSE),\"\")","v":""},{"$f":"IF(L124<>\"\",VLOOKUP($L124,'milk yield 2018'!$A:$H,7,FALSE),\"\")","v":""},{"$f":"IF(L124<>\"\",VLOOKUP($L124,'fat 2018'!$A:$H,8,FALSE),\"\")","v":""},{"$f":"IF(L124<>\"\",VLOOKUP($L124,'fat 2018'!$A:$H,7,FALSE),\"\")","v":""},{"$f":"IF(L124<>\"\",VLOOKUP($L124,'protein 2018'!$A:$H,8,FALSE),\"\")","v":""},{"$f":"IF(L124<>\"\",VLOOKUP($L124,'protein 2018'!$A:$H,7,FALSE),\"\")","v":""}]
[null,null,null,null,null,null,null,null,null," ","","",{"$f":"IF(L125<>\"\",VLOOKUP($L125,'milk yield 2018'!$A:$H,8,FALSE),\"\")","v":""},{"$f":"IF(L125<>\"\",VLOOKUP($L125,'milk yield 2018'!$A:$H,7,FALSE),\"\")","v":""},{"$f":"IF(L125<>\"\",VLOOKUP($L125,'fat 2018'!$A:$H,8,FALSE),\"\")","v":""},{"$f":"IF(L125<>\"\",VLOOKUP($L125,'fat 2018'!$A:$H,7,FALSE),\"\")","v":""},{"$f":"IF(L125<>\"\",VLOOKUP($L125,'protein 2018'!$A:$H,8,FALSE),\"\")","v":""},{"$f":"IF(L125<>\"\",VLOOKUP($L125,'protein 2018'!$A:$H,7,FALSE),\"\")","v":""}]
[null,null,null,null,null,null,null,null,null," ","","",{"$f":"IF(L126<>\"\",VLOOKUP($L126,'milk yield 2018'!$A:$H,8,FALSE),\"\")","v":""},{"$f":"IF(L126<>\"\",VLOOKUP($L126,'milk yield 2018'!$A:$H,7,FALSE),\"\")","v":""},{"$f":"IF(L126<>\"\",VLOOKUP($L126,'fat 2018'!$A:$H,8,FALSE),\"\")","v":""},{"$f":"IF(L126<>\"\",VLOOKUP($L126,'fat 2018'!$A:$H,7,FALSE),\"\")","v":""},{"$f":"IF(L126<>\"\",VLOOKUP($L126,'protein 2018'!$A:$H,8,FALSE),\"\")","v":""},{"$f":"IF(L126<>\"\",VLOOKUP($L126,'protein 2018'!$A:$H,7,FALSE),\"\")","v":""}]
[null,null,null,null,null,null,null,null,null," ","","",{"$f":"IF(L127<>\"\",VLOOKUP($L127,'milk yield 2018'!$A:$H,8,FALSE),\"\")","v":""},{"$f":"IF(L127<>\"\",VLOOKUP($L127,'milk yield 2018'!$A:$H,7,FALSE),\"\")","v":""},{"$f":"IF(L127<>\"\",VLOOKUP($L127,'fat 2018'!$A:$H,8,FALSE),\"\")","v":""},{"$f":"IF(L127<>\"\",VLOOKUP($L127,'fat 2018'!$A:$H,7,FALSE),\"\")","v":""},{"$f":"IF(L127<>\"\",VLOOKUP($L127,'protein 2018'!$A:$H,8,FALSE),\"\")","v":""},{"$f":"IF(L127<>\"\",VLOOKUP($L127,'protein 2018'!$A:$H,7,FALSE),\"\")","v":""}]
[null,null,null,null,null,null,null,null,null," ","","",{"$f":"IF(L128<>\"\",VLOOKUP($L128,'milk yield 2018'!$A:$H,8,FALSE),\"\")","v":""},{"$f":"IF(L128<>\"\",VLOOKUP($L128,'milk yield 2018'!$A:$H,7,FALSE),\"\")","v":""},{"$f":"IF(L128<>\"\",VLOOKUP($L128,'fat 2018'!$A:$H,8,FALSE),\"\")","v":""},{"$f":"IF(L128<>\"\",VLOOKUP($L128,'fat 2018'!$A:$H,7,FALSE),\"\")","v":""},{"$f":"IF(L128<>\"\",VLOOKUP($L128,'protein 2018'!$A:$H,8,FALSE),\"\")","v":""},{"$f":"IF(L128<>\"\",VLOOKUP($L128,'protein 2018'!$A:$H,7,FALSE),\"\")","v":""}]
[null,null,null,null,null,null,null,null,null," ","","",{"$f":"IF(L129<>\"\",VLOOKUP($L129,'milk yield 2018'!$A:$H,8,FALSE),\"\")","v":""},{"$f":"IF(L129<>\"\",VLOOKUP($L129,'milk yield 2018'!$A:$H,7,FALSE),\"\")","v":""},{"$f":"IF(L129<>\"\",VLOOKUP($L129,'fat 2018'!$A:$H,8,FALSE),\"\")","v":""},{"$f":"IF(L129<>\"\",VLOOKUP($L129,'fat 2018'!$A:$H,7,FALSE),\"\")","v":""},{"$f":"IF(L129<>\"\",VLOOKUP($L129,'protein 2018'!$A:$H,8,FALSE),\"\")","v":""},{"$f":"IF(L129<>\"\",VLOOKUP($L129,'protein 2018'!$A:$H,7,FALSE),\"\")","v":""}]
[null,null,null,null,null,null,null,null,null," ","","",{"$f":"IF(L130<>\"\",VLOOKUP($L130,'milk yield 2018'!$A:$H,8,FALSE),\"\")","v":""},{"$f":"IF(L130<>\"\",VLOOKUP($L130,'milk yield 2018'!$A:$H,7,FALSE),\"\")","v":""},{"$f":"IF(L130<>\"\",VLOOKUP($L130,'fat 2018'!$A:$H,8,FALSE),\"\")","v":""},{"$f":"IF(L130<>\"\",VLOOKUP($L130,'fat 2018'!$A:$H,7,FALSE),\"\")","v":""},{"$f":"IF(L130<>\"\",VLOOKUP($L130,'protein 2018'!$A:$H,8,FALSE),\"\")","v":""},{"$f":"IF(L130<>\"\",VLOOKUP($L130,'protein 2018'!$A:$H,7,FALSE),\"\")","v":""}]
[null,null,null,null,null,null,null,null,null," ","","",{"$f":"IF(L131<>\"\",VLOOKUP($L131,'milk yield 2018'!$A:$H,8,FALSE),\"\")","v":""},{"$f":"IF(L131<>\"\",VLOOKUP($L131,'milk yield 2018'!$A:$H,7,FALSE),\"\")","v":""},{"$f":"IF(L131<>\"\",VLOOKUP($L131,'fat 2018'!$A:$H,8,FALSE),\"\")","v":""},{"$f":"IF(L131<>\"\",VLOOKUP($L131,'fat 2018'!$A:$H,7,FALSE),\"\")","v":""},{"$f":"IF(L131<>\"\",VLOOKUP($L131,'protein 2018'!$A:$H,8,FALSE),\"\")","v":""},{"$f":"IF(L131<>\"\",VLOOKUP($L131,'protein 2018'!$A:$H,7,FALSE),\"\")","v":""}]
[null,null,null,null,null,null,null,null,null," ","","",{"$f":"IF(L132<>\"\",VLOOKUP($L132,'milk yield 2018'!$A:$H,8,FALSE),\"\")","v":""},{"$f":"IF(L132<>\"\",VLOOKUP($L132,'milk yield 2018'!$A:$H,7,FALSE),\"\")","v":""},{"$f":"IF(L132<>\"\",VLOOKUP($L132,'fat 2018'!$A:$H,8,FALSE),\"\")","v":""},{"$f":"IF(L132<>\"\",VLOOKUP($L132,'fat 2018'!$A:$H,7,FALSE),\"\")","v":""},{"$f":"IF(L132<>\"\",VLOOKUP($L132,'protein 2018'!$A:$H,8,FALSE),\"\")","v":""},{"$f":"IF(L132<>\"\",VLOOKUP($L132,'protein 2018'!$A:$H,7,FALSE),\"\")","v":""}]
[null,null,null,null,null,null,null,null,null," ","","",{"$f":"IF(L133<>\"\",VLOOKUP($L133,'milk yield 2018'!$A:$H,8,FALSE),\"\")","v":""},{"$f":"IF(L133<>\"\",VLOOKUP($L133,'milk yield 2018'!$A:$H,7,FALSE),\"\")","v":""},{"$f":"IF(L133<>\"\",VLOOKUP($L133,'fat 2018'!$A:$H,8,FALSE),\"\")","v":""},{"$f":"IF(L133<>\"\",VLOOKUP($L133,'fat 2018'!$A:$H,7,FALSE),\"\")","v":""},{"$f":"IF(L133<>\"\",VLOOKUP($L133,'protein 2018'!$A:$H,8,FALSE),\"\")","v":""},{"$f":"IF(L133<>\"\",VLOOKUP($L133,'protein 2018'!$A:$H,7,FALSE),\"\")","v":""}]
[null,null,null,null,null,null,null,null,null," ","","",{"$f":"IF(L134<>\"\",VLOOKUP($L134,'milk yield 2018'!$A:$H,8,FALSE),\"\")","v":""},{"$f":"IF(L134<>\"\",VLOOKUP($L134,'milk yield 2018'!$A:$H,7,FALSE),\"\")","v":""},{"$f":"IF(L134<>\"\",VLOOKUP($L134,'fat 2018'!$A:$H,8,FALSE),\"\")","v":""},{"$f":"IF(L134<>\"\",VLOOKUP($L134,'fat 2018'!$A:$H,7,FALSE),\"\")","v":""},{"$f":"IF(L134<>\"\",VLOOKUP($L134,'protein 2018'!$A:$H,8,FALSE),\"\")","v":""},{"$f":"IF(L134<>\"\",VLOOKUP($L134,'protein 2018'!$A:$H,7,FALSE),\"\")","v":""}]
[null,null,null,null,null,null,null,null,null," ","","",{"$f":"IF(L135<>\"\",VLOOKUP($L135,'milk yield 2018'!$A:$H,8,FALSE),\"\")","v":""},{"$f":"IF(L135<>\"\",VLOOKUP($L135,'milk yield 2018'!$A:$H,7,FALSE),\"\")","v":""},{"$f":"IF(L135<>\"\",VLOOKUP($L135,'fat 2018'!$A:$H,8,FALSE),\"\")","v":""},{"$f":"IF(L135<>\"\",VLOOKUP($L135,'fat 2018'!$A:$H,7,FALSE),\"\")","v":""},{"$f":"IF(L135<>\"\",VLOOKUP($L135,'protein 2018'!$A:$H,8,FALSE),\"\")","v":""},{"$f":"IF(L135<>\"\",VLOOKUP($L135,'protein 2018'!$A:$H,7,FALSE),\"\")","v":""}]
[null,null,null,null,null,null,null,null,null," ","","",{"$f":"IF(L136<>\"\",VLOOKUP($L136,'milk yield 2018'!$A:$H,8,FALSE),\"\")","v":""},{"$f":"IF(L136<>\"\",VLOOKUP($L136,'milk yield 2018'!$A:$H,7,FALSE),\"\")","v":""},{"$f":"IF(L136<>\"\",VLOOKUP($L136,'fat 2018'!$A:$H,8,FALSE),\"\")","v":""},{"$f":"IF(L136<>\"\",VLOOKUP($L136,'fat 2018'!$A:$H,7,FALSE),\"\")","v":""},{"$f":"IF(L136<>\"\",VLOOKUP($L136,'protein 2018'!$A:$H,8,FALSE),\"\")","v":""},{"$f":"IF(L136<>\"\",VLOOKUP($L136,'protein 2018'!$A:$H,7,FALSE),\"\")","v":""}]
[null,null,null,null,null,null,null,null,null," ","","",{"$f":"IF(L137<>\"\",VLOOKUP($L137,'milk yield 2018'!$A:$H,8,FALSE),\"\")","v":""},{"$f":"IF(L137<>\"\",VLOOKUP($L137,'milk yield 2018'!$A:$H,7,FALSE),\"\")","v":""},{"$f":"IF(L137<>\"\",VLOOKUP($L137,'fat 2018'!$A:$H,8,FALSE),\"\")","v":""},{"$f":"IF(L137<>\"\",VLOOKUP($L137,'fat 2018'!$A:$H,7,FALSE),\"\")","v":""},{"$f":"IF(L137<>\"\",VLOOKUP($L137,'protein 2018'!$A:$H,8,FALSE),\"\")","v":""},{"$f":"IF(L137<>\"\",VLOOKUP($L137,'protein 2018'!$A:$H,7,FALSE),\"\")","v":""}]
[null,null,null,null,null,null,null,null,null," ","","",{"$f":"IF(L138<>\"\",VLOOKUP($L138,'milk yield 2018'!$A:$H,8,FALSE),\"\")","v":""},{"$f":"IF(L138<>\"\",VLOOKUP($L138,'milk yield 2018'!$A:$H,7,FALSE),\"\")","v":""},{"$f":"IF(L138<>\"\",VLOOKUP($L138,'fat 2018'!$A:$H,8,FALSE),\"\")","v":""},{"$f":"IF(L138<>\"\",VLOOKUP($L138,'fat 2018'!$A:$H,7,FALSE),\"\")","v":""},{"$f":"IF(L138<>\"\",VLOOKUP($L138,'protein 2018'!$A:$H,8,FALSE),\"\")","v":""},{"$f":"IF(L138<>\"\",VLOOKUP($L138,'protein 2018'!$A:$H,7,FALSE),\"\")","v":""}]
[null,null,null,null,null,null,null,null,null," ","","",{"$f":"IF(L139<>\"\",VLOOKUP($L139,'milk yield 2018'!$A:$H,8,FALSE),\"\")","v":""},{"$f":"IF(L139<>\"\",VLOOKUP($L139,'milk yield 2018'!$A:$H,7,FALSE),\"\")","v":""},{"$f":"IF(L139<>\"\",VLOOKUP($L139,'fat 2018'!$A:$H,8,FALSE),\"\")","v":""},{"$f":"IF(L139<>\"\",VLOOKUP($L139,'fat 2018'!$A:$H,7,FALSE),\"\")","v":""},{"$f":"IF(L139<>\"\",VLOOKUP($L139,'protein 2018'!$A:$H,8,FALSE),\"\")","v":""},{"$f":"IF(L139<>\"\",VLOOKUP($L139,'protein 2018'!$A:$H,7,FALSE),\"\")","v":""}]
[null,null,null,null,null,null,null,null,null," ","","",{"$f":"IF(L140<>\"\",VLOOKUP($L140,'milk yield 2018'!$A:$H,8,FALSE),\"\")","v":""},{"$f":"IF(L140<>\"\",VLOOKUP($L140,'milk yield 2018'!$A:$H,7,FALSE),\"\")","v":""},{"$f":"IF(L140<>\"\",VLOOKUP($L140,'fat 2018'!$A:$H,8,FALSE),\"\")","v":""},{"$f":"IF(L140<>\"\",VLOOKUP($L140,'fat 2018'!$A:$H,7,FALSE),\"\")","v":""},{"$f":"IF(L140<>\"\",VLOOKUP($L140,'protein 2018'!$A:$H,8,FALSE),\"\")","v":""},{"$f":"IF(L140<>\"\",VLOOKUP($L140,'protein 2018'!$A:$H,7,FALSE),\"\")","v":""}]
[null,null,null,null,null,null,null,null,null," ","","",{"$f":"IF(L141<>\"\",VLOOKUP($L141,'milk yield 2018'!$A:$H,8,FALSE),\"\")","v":""},{"$f":"IF(L141<>\"\",VLOOKUP($L141,'milk yield 2018'!$A:$H,7,FALSE),\"\")","v":""},{"$f":"IF(L141<>\"\",VLOOKUP($L141,'fat 2018'!$A:$H,8,FALSE),\"\")","v":""},{"$f":"IF(L141<>\"\",VLOOKUP($L141,'fat 2018'!$A:$H,7,FALSE),\"\")","v":""},{"$f":"IF(L141<>\"\",VLOOKUP($L141,'protein 2018'!$A:$H,8,FALSE),\"\")","v":""},{"$f":"IF(L141<>\"\",VLOOKUP($L141,'protein 2018'!$A:$H,7,FALSE),\"\")","v":""}]
[null,null,null,null,null,null,null,null,null," ","","",{"$f":"IF(L142<>\"\",VLOOKUP($L142,'milk yield 2018'!$A:$H,8,FALSE),\"\")","v":""},{"$f":"IF(L142<>\"\",VLOOKUP($L142,'milk yield 2018'!$A:$H,7,FALSE),\"\")","v":""},{"$f":"IF(L142<>\"\",VLOOKUP($L142,'fat 2018'!$A:$H,8,FALSE),\"\")","v":""},{"$f":"IF(L142<>\"\",VLOOKUP($L142,'fat 2018'!$A:$H,7,FALSE),\"\")","v":""},{"$f":"IF(L142<>\"\",VLOOKUP($L142,'protein 2018'!$A:$H,8,FALSE),\"\")","v":""},{"$f":"IF(L142<>\"\",VLOOKUP($L142,'protein 2018'!$A:$H,7,FALSE),\"\")","v":""}]
[null,null,null,null,null,null,null,null,null," ","","",{"$f":"IF(L143<>\"\",VLOOKUP($L143,'milk yield 2018'!$A:$H,8,FALSE),\"\")","v":""},{"$f":"IF(L143<>\"\",VLOOKUP($L143,'milk yield 2018'!$A:$H,7,FALSE),\"\")","v":""},{"$f":"IF(L143<>\"\",VLOOKUP($L143,'fat 2018'!$A:$H,8,FALSE),\"\")","v":""},{"$f":"IF(L143<>\"\",VLOOKUP($L143,'fat 2018'!$A:$H,7,FALSE),\"\")","v":""},{"$f":"IF(L143<>\"\",VLOOKUP($L143,'protein 2018'!$A:$H,8,FALSE),\"\")","v":""},{"$f":"IF(L143<>\"\",VLOOKUP($L143,'protein 2018'!$A:$H,7,FALSE),\"\")","v":""}]
[null,null,null,null,null,null,null,null,null," ","","",{"$f":"IF(L144<>\"\",VLOOKUP($L144,'milk yield 2018'!$A:$H,8,FALSE),\"\")","v":""},{"$f":"IF(L144<>\"\",VLOOKUP($L144,'milk yield 2018'!$A:$H,7,FALSE),\"\")","v":""},{"$f":"IF(L144<>\"\",VLOOKUP($L144,'fat 2018'!$A:$H,8,FALSE),\"\")","v":""},{"$f":"IF(L144<>\"\",VLOOKUP($L144,'fat 2018'!$A:$H,7,FALSE),\"\")","v":""},{"$f":"IF(L144<>\"\",VLOOKUP($L144,'protein 2018'!$A:$H,8,FALSE),\"\")","v":""},{"$f":"IF(L144<>\"\",VLOOKUP($L144,'protein 2018'!$A:$H,7,FALSE),\"\")","v":""}]
[null,null,null,null,null,null,null,null,null," ","","",{"$f":"IF(L145<>\"\",VLOOKUP($L145,'milk yield 2018'!$A:$H,8,FALSE),\"\")","v":""},{"$f":"IF(L145<>\"\",VLOOKUP($L145,'milk yield 2018'!$A:$H,7,FALSE),\"\")","v":""},{"$f":"IF(L145<>\"\",VLOOKUP($L145,'fat 2018'!$A:$H,8,FALSE),\"\")","v":""},{"$f":"IF(L145<>\"\",VLOOKUP($L145,'fat 2018'!$A:$H,7,FALSE),\"\")","v":""},{"$f":"IF(L145<>\"\",VLOOKUP($L145,'protein 2018'!$A:$H,8,FALSE),\"\")","v":""},{"$f":"IF(L145<>\"\",VLOOKUP($L145,'protein 2018'!$A:$H,7,FALSE),\"\")","v":""}]
[null,null,null,null,null,null,null,null,null," ","","",{"$f":"IF(L146<>\"\",VLOOKUP($L146,'milk yield 2018'!$A:$H,8,FALSE),\"\")","v":""},{"$f":"IF(L146<>\"\",VLOOKUP($L146,'milk yield 2018'!$A:$H,7,FALSE),\"\")","v":""},{"$f":"IF(L146<>\"\",VLOOKUP($L146,'fat 2018'!$A:$H,8,FALSE),\"\")","v":""},{"$f":"IF(L146<>\"\",VLOOKUP($L146,'fat 2018'!$A:$H,7,FALSE),\"\")","v":""},{"$f":"IF(L146<>\"\",VLOOKUP($L146,'protein 2018'!$A:$H,8,FALSE),\"\")","v":""},{"$f":"IF(L146<>\"\",VLOOKUP($L146,'protein 2018'!$A:$H,7,FALSE),\"\")","v":""}]
[null,null,null,null,null,null,null,null,null," ",{"$f":"IF(B147<>\"\",IF(($E$8-$B147)<1,1,IF(($E$8-$B147)>360,7,(INT((1+($E$8-$B147)/60))))),\"\")","v":""},{"$f":"IF(AND(J147<>\"\",K147<>\"\"),$E$9*1000+$J147*100+$C$15*10+$K147,\"\")","v":""},{"$f":"IF(L147<>\"\",VLOOKUP($L147,'milk yield 2018'!$A:$H,8,FALSE),\"\")","v":""},{"$f":"IF(L147<>\"\",VLOOKUP($L147,'milk yield 2018'!$A:$H,7,FALSE),\"\")","v":""},{"$f":"IF(L147<>\"\",VLOOKUP($L147,'fat 2018'!$A:$H,8,FALSE),\"\")","v":""},{"$f":"IF(L147<>\"\",VLOOKUP($L147,'fat 2018'!$A:$H,7,FALSE),\"\")","v":""},{"$f":"IF(L147<>\"\",VLOOKUP($L147,'protein 2018'!$A:$H,8,FALSE),\"\")","v":""},{"$f":"IF(L147<>\"\",VLOOKUP($L147,'protein 2018'!$A:$H,7,FALSE),\"\")","v":""}]
[null,null,null,null,null,null,null,null,null,{"$f":"IF($C148=1,1,IF($C148>1,2,\" \"))","v":" "},"","",{"$f":"IF(L148<>\"\",VLOOKUP($L148,'milk yield 2018'!$A:$H,8,FALSE),\"\")","v":""},{"$f":"IF(L148<>\"\",VLOOKUP($L148,'milk yield 2018'!$A:$H,7,FALSE),\"\")","v":""},{"$f":"IF(L148<>\"\",VLOOKUP($L148,'fat 2018'!$A:$H,8,FALSE),\"\")","v":""},{"$f":"IF(L148<>\"\",VLOOKUP($L148,'fat 2018'!$A:$H,7,FALSE),\"\")","v":""},{"$f":"IF(L148<>\"\",VLOOKUP($L148,'protein 2018'!$A:$H,8,FALSE),\"\")","v":""},{"$f":"IF(L148<>\"\",VLOOKUP($L148,'protein 2018'!$A:$H,7,FALSE),\"\")","v":""}]
[null,null,null,null,null,null,null,null,null," ","","",{"$f":"IF(L149<>\"\",VLOOKUP($L149,'milk yield 2018'!$A:$H,8,FALSE),\"\")","v":""},{"$f":"IF(L149<>\"\",VLOOKUP($L149,'milk yield 2018'!$A:$H,7,FALSE),\"\")","v":""},{"$f":"IF(L149<>\"\",VLOOKUP($L149,'fat 2018'!$A:$H,8,FALSE),\"\")","v":""},{"$f":"IF(L149<>\"\",VLOOKUP($L149,'fat 2018'!$A:$H,7,FALSE),\"\")","v":""},{"$f":"IF(L149<>\"\",VLOOKUP($L149,'protein 2018'!$A:$H,8,FALSE),\"\")","v":""},{"$f":"IF(L149<>\"\",VLOOKUP($L149,'protein 2018'!$A:$H,7,FALSE),\"\")","v":""}]
[null,null,null,null,null,null,null,null,null," ","","",{"$f":"IF(L150<>\"\",VLOOKUP($L150,'milk yield 2018'!$A:$H,8,FALSE),\"\")","v":""},{"$f":"IF(L150<>\"\",VLOOKUP($L150,'milk yield 2018'!$A:$H,7,FALSE),\"\")","v":""},{"$f":"IF(L150<>\"\",VLOOKUP($L150,'fat 2018'!$A:$H,8,FALSE),\"\")","v":""},{"$f":"IF(L150<>\"\",VLOOKUP($L150,'fat 2018'!$A:$H,7,FALSE),\"\")","v":""},{"$f":"IF(L150<>\"\",VLOOKUP($L150,'protein 2018'!$A:$H,8,FALSE),\"\")","v":""},{"$f":"IF(L150<>\"\",VLOOKUP($L150,'protein 2018'!$A:$H,7,FALSE),\"\")","v":""}]
[null,null,null,null,null,null,null,null,null," ","","",{"$f":"IF(L151<>\"\",VLOOKUP($L151,'milk yield 2018'!$A:$H,8,FALSE),\"\")","v":""},{"$f":"IF(L151<>\"\",VLOOKUP($L151,'milk yield 2018'!$A:$H,7,FALSE),\"\")","v":""},{"$f":"IF(L151<>\"\",VLOOKUP($L151,'fat 2018'!$A:$H,8,FALSE),\"\")","v":""},{"$f":"IF(L151<>\"\",VLOOKUP($L151,'fat 2018'!$A:$H,7,FALSE),\"\")","v":""},{"$f":"IF(L151<>\"\",VLOOKUP($L151,'protein 2018'!$A:$H,8,FALSE),\"\")","v":""},{"$f":"IF(L151<>\"\",VLOOKUP($L151,'protein 2018'!$A:$H,7,FALSE),\"\")","v":""}]
[null,null,null,null,null,null,null,null,null," ","","",{"$f":"IF(L152<>\"\",VLOOKUP($L152,'milk yield 2018'!$A:$H,8,FALSE),\"\")","v":""},{"$f":"IF(L152<>\"\",VLOOKUP($L152,'milk yield 2018'!$A:$H,7,FALSE),\"\")","v":""},{"$f":"IF(L152<>\"\",VLOOKUP($L152,'fat 2018'!$A:$H,8,FALSE),\"\")","v":""},{"$f":"IF(L152<>\"\",VLOOKUP($L152,'fat 2018'!$A:$H,7,FALSE),\"\")","v":""},{"$f":"IF(L152<>\"\",VLOOKUP($L152,'protein 2018'!$A:$H,8,FALSE),\"\")","v":""},{"$f":"IF(L152<>\"\",VLOOKUP($L152,'protein 2018'!$A:$H,7,FALSE),\"\")","v":""}]
[null,null,null,null,null,null,null,null,null," ","","",{"$f":"IF(L153<>\"\",VLOOKUP($L153,'milk yield 2018'!$A:$H,8,FALSE),\"\")","v":""},{"$f":"IF(L153<>\"\",VLOOKUP($L153,'milk yield 2018'!$A:$H,7,FALSE),\"\")","v":""},{"$f":"IF(L153<>\"\",VLOOKUP($L153,'fat 2018'!$A:$H,8,FALSE),\"\")","v":""},{"$f":"IF(L153<>\"\",VLOOKUP($L153,'fat 2018'!$A:$H,7,FALSE),\"\")","v":""},{"$f":"IF(L153<>\"\",VLOOKUP($L153,'protein 2018'!$A:$H,8,FALSE),\"\")","v":""},{"$f":"IF(L153<>\"\",VLOOKUP($L153,'protein 2018'!$A:$H,7,FALSE),\"\")","v":""}]
[null,null,null,null,null,null,null,null,null," ","","",{"$f":"IF(L154<>\"\",VLOOKUP($L154,'milk yield 2018'!$A:$H,8,FALSE),\"\")","v":""},{"$f":"IF(L154<>\"\",VLOOKUP($L154,'milk yield 2018'!$A:$H,7,FALSE),\"\")","v":""},{"$f":"IF(L154<>\"\",VLOOKUP($L154,'fat 2018'!$A:$H,8,FALSE),\"\")","v":""},{"$f":"IF(L154<>\"\",VLOOKUP($L154,'fat 2018'!$A:$H,7,FALSE),\"\")","v":""},{"$f":"IF(L154<>\"\",VLOOKUP($L154,'protein 2018'!$A:$H,8,FALSE),\"\")","v":""},{"$f":"IF(L154<>\"\",VLOOKUP($L154,'protein 2018'!$A:$H,7,FALSE),\"\")","v":""}]
[null,null,null,null,null,null,null,null,null," ","","",{"$f":"IF(L155<>\"\",VLOOKUP($L155,'milk yield 2018'!$A:$H,8,FALSE),\"\")","v":""},{"$f":"IF(L155<>\"\",VLOOKUP($L155,'milk yield 2018'!$A:$H,7,FALSE),\"\")","v":""},{"$f":"IF(L155<>\"\",VLOOKUP($L155,'fat 2018'!$A:$H,8,FALSE),\"\")","v":""},{"$f":"IF(L155<>\"\",VLOOKUP($L155,'fat 2018'!$A:$H,7,FALSE),\"\")","v":""},{"$f":"IF(L155<>\"\",VLOOKUP($L155,'protein 2018'!$A:$H,8,FALSE),\"\")","v":""},{"$f":"IF(L155<>\"\",VLOOKUP($L155,'protein 2018'!$A:$H,7,FALSE),\"\")","v":""}]
[null,null,null,null,null,null,null,null,null," ","","",{"$f":"IF(L156<>\"\",VLOOKUP($L156,'milk yield 2018'!$A:$H,8,FALSE),\"\")","v":""},{"$f":"IF(L156<>\"\",VLOOKUP($L156,'milk yield 2018'!$A:$H,7,FALSE),\"\")","v":""},{"$f":"IF(L156<>\"\",VLOOKUP($L156,'fat 2018'!$A:$H,8,FALSE),\"\")","v":""},{"$f":"IF(L156<>\"\",VLOOKUP($L156,'fat 2018'!$A:$H,7,FALSE),\"\")","v":""},{"$f":"IF(L156<>\"\",VLOOKUP($L156,'protein 2018'!$A:$H,8,FALSE),\"\")","v":""},{"$f":"IF(L156<>\"\",VLOOKUP($L156,'protein 2018'!$A:$H,7,FALSE),\"\")","v":""}]
[null,null,null,null,null,null,null,null,null," ","","",{"$f":"IF(L157<>\"\",VLOOKUP($L157,'milk yield 2018'!$A:$H,8,FALSE),\"\")","v":""},{"$f":"IF(L157<>\"\",VLOOKUP($L157,'milk yield 2018'!$A:$H,7,FALSE),\"\")","v":""},{"$f":"IF(L157<>\"\",VLOOKUP($L157,'fat 2018'!$A:$H,8,FALSE),\"\")","v":""},{"$f":"IF(L157<>\"\",VLOOKUP($L157,'fat 2018'!$A:$H,7,FALSE),\"\")","v":""},{"$f":"IF(L157<>\"\",VLOOKUP($L157,'protein 2018'!$A:$H,8,FALSE),\"\")","v":""},{"$f":"IF(L157<>\"\",VLOOKUP($L157,'protein 2018'!$A:$H,7,FALSE),\"\")","v":""}]
[null,null,null,null,null,null,null,null,null," ","","",{"$f":"IF(L158<>\"\",VLOOKUP($L158,'milk yield 2018'!$A:$H,8,FALSE),\"\")","v":""},{"$f":"IF(L158<>\"\",VLOOKUP($L158,'milk yield 2018'!$A:$H,7,FALSE),\"\")","v":""},{"$f":"IF(L158<>\"\",VLOOKUP($L158,'fat 2018'!$A:$H,8,FALSE),\"\")","v":""},{"$f":"IF(L158<>\"\",VLOOKUP($L158,'fat 2018'!$A:$H,7,FALSE),\"\")","v":""},{"$f":"IF(L158<>\"\",VLOOKUP($L158,'protein 2018'!$A:$H,8,FALSE),\"\")","v":""},{"$f":"IF(L158<>\"\",VLOOKUP($L158,'protein 2018'!$A:$H,7,FALSE),\"\")","v":""}]
[null,null,null,null,null,null,null,null,null," ","","",{"$f":"IF(L159<>\"\",VLOOKUP($L159,'milk yield 2018'!$A:$H,8,FALSE),\"\")","v":""},{"$f":"IF(L159<>\"\",VLOOKUP($L159,'milk yield 2018'!$A:$H,7,FALSE),\"\")","v":""},{"$f":"IF(L159<>\"\",VLOOKUP($L159,'fat 2018'!$A:$H,8,FALSE),\"\")","v":""},{"$f":"IF(L159<>\"\",VLOOKUP($L159,'fat 2018'!$A:$H,7,FALSE),\"\")","v":""},{"$f":"IF(L159<>\"\",VLOOKUP($L159,'protein 2018'!$A:$H,8,FALSE),\"\")","v":""},{"$f":"IF(L159<>\"\",VLOOKUP($L159,'protein 2018'!$A:$H,7,FALSE),\"\")","v":""}]
[null,null,null,null,null,null,null,null,null," ","","",{"$f":"IF(L160<>\"\",VLOOKUP($L160,'milk yield 2018'!$A:$H,8,FALSE),\"\")","v":""},{"$f":"IF(L160<>\"\",VLOOKUP($L160,'milk yield 2018'!$A:$H,7,FALSE),\"\")","v":""},{"$f":"IF(L160<>\"\",VLOOKUP($L160,'fat 2018'!$A:$H,8,FALSE),\"\")","v":""},{"$f":"IF(L160<>\"\",VLOOKUP($L160,'fat 2018'!$A:$H,7,FALSE),\"\")","v":""},{"$f":"IF(L160<>\"\",VLOOKUP($L160,'protein 2018'!$A:$H,8,FALSE),\"\")","v":""},{"$f":"IF(L160<>\"\",VLOOKUP($L160,'protein 2018'!$A:$H,7,FALSE),\"\")","v":""}]
[null,null,null,null,null,null,null,null,null," ","","",{"$f":"IF(L161<>\"\",VLOOKUP($L161,'milk yield 2018'!$A:$H,8,FALSE),\"\")","v":""},{"$f":"IF(L161<>\"\",VLOOKUP($L161,'milk yield 2018'!$A:$H,7,FALSE),\"\")","v":""},{"$f":"IF(L161<>\"\",VLOOKUP($L161,'fat 2018'!$A:$H,8,FALSE),\"\")","v":""},{"$f":"IF(L161<>\"\",VLOOKUP($L161,'fat 2018'!$A:$H,7,FALSE),\"\")","v":""},{"$f":"IF(L161<>\"\",VLOOKUP($L161,'protein 2018'!$A:$H,8,FALSE),\"\")","v":""},{"$f":"IF(L161<>\"\",VLOOKUP($L161,'protein 2018'!$A:$H,7,FALSE),\"\")","v":""}]
[null,null,null,null,null,null,null,null,null," ","","",{"$f":"IF(L162<>\"\",VLOOKUP($L162,'milk yield 2018'!$A:$H,8,FALSE),\"\")","v":""},{"$f":"IF(L162<>\"\",VLOOKUP($L162,'milk yield 2018'!$A:$H,7,FALSE),\"\")","v":""},{"$f":"IF(L162<>\"\",VLOOKUP($L162,'fat 2018'!$A:$H,8,FALSE),\"\")","v":""},{"$f":"IF(L162<>\"\",VLOOKUP($L162,'fat 2018'!$A:$H,7,FALSE),\"\")","v":""},{"$f":"IF(L162<>\"\",VLOOKUP($L162,'protein 2018'!$A:$H,8,FALSE),\"\")","v":""},{"$f":"IF(L162<>\"\",VLOOKUP($L162,'protein 2018'!$A:$H,7,FALSE),\"\")","v":""}]
[null,null,null,null,null,null,null,null,null," ","","",{"$f":"IF(L163<>\"\",VLOOKUP($L163,'milk yield 2018'!$A:$H,8,FALSE),\"\")","v":""},{"$f":"IF(L163<>\"\",VLOOKUP($L163,'milk yield 2018'!$A:$H,7,FALSE),\"\")","v":""},{"$f":"IF(L163<>\"\",VLOOKUP($L163,'fat 2018'!$A:$H,8,FALSE),\"\")","v":""},{"$f":"IF(L163<>\"\",VLOOKUP($L163,'fat 2018'!$A:$H,7,FALSE),\"\")","v":""},{"$f":"IF(L163<>\"\",VLOOKUP($L163,'protein 2018'!$A:$H,8,FALSE),\"\")","v":""},{"$f":"IF(L163<>\"\",VLOOKUP($L163,'protein 2018'!$A:$H,7,FALSE),\"\")","v":""}]
[null,null,null,null,null,null,null,null,null," ","","",{"$f":"IF(L164<>\"\",VLOOKUP($L164,'milk yield 2018'!$A:$H,8,FALSE),\"\")","v":""},{"$f":"IF(L164<>\"\",VLOOKUP($L164,'milk yield 2018'!$A:$H,7,FALSE),\"\")","v":""},{"$f":"IF(L164<>\"\",VLOOKUP($L164,'fat 2018'!$A:$H,8,FALSE),\"\")","v":""},{"$f":"IF(L164<>\"\",VLOOKUP($L164,'fat 2018'!$A:$H,7,FALSE),\"\")","v":""},{"$f":"IF(L164<>\"\",VLOOKUP($L164,'protein 2018'!$A:$H,8,FALSE),\"\")","v":""},{"$f":"IF(L164<>\"\",VLOOKUP($L164,'protein 2018'!$A:$H,7,FALSE),\"\")","v":""}]
[null,null,null,null,null,null,null,null,null," ","","",{"$f":"IF(L165<>\"\",VLOOKUP($L165,'milk yield 2018'!$A:$H,8,FALSE),\"\")","v":""},{"$f":"IF(L165<>\"\",VLOOKUP($L165,'milk yield 2018'!$A:$H,7,FALSE),\"\")","v":""},{"$f":"IF(L165<>\"\",VLOOKUP($L165,'fat 2018'!$A:$H,8,FALSE),\"\")","v":""},{"$f":"IF(L165<>\"\",VLOOKUP($L165,'fat 2018'!$A:$H,7,FALSE),\"\")","v":""},{"$f":"IF(L165<>\"\",VLOOKUP($L165,'protein 2018'!$A:$H,8,FALSE),\"\")","v":""},{"$f":"IF(L165<>\"\",VLOOKUP($L165,'protein 2018'!$A:$H,7,FALSE),\"\")","v":""}]
[null,null,null,null,null,null,null,null,null," ","","",{"$f":"IF(L166<>\"\",VLOOKUP($L166,'milk yield 2018'!$A:$H,8,FALSE),\"\")","v":""},{"$f":"IF(L166<>\"\",VLOOKUP($L166,'milk yield 2018'!$A:$H,7,FALSE),\"\")","v":""},{"$f":"IF(L166<>\"\",VLOOKUP($L166,'fat 2018'!$A:$H,8,FALSE),\"\")","v":""},{"$f":"IF(L166<>\"\",VLOOKUP($L166,'fat 2018'!$A:$H,7,FALSE),\"\")","v":""},{"$f":"IF(L166<>\"\",VLOOKUP($L166,'protein 2018'!$A:$H,8,FALSE),\"\")","v":""},{"$f":"IF(L166<>\"\",VLOOKUP($L166,'protein 2018'!$A:$H,7,FALSE),\"\")","v":""}]
[null,null,null,null,null,null,null,null,null," ","","",{"$f":"IF(L167<>\"\",VLOOKUP($L167,'milk yield 2018'!$A:$H,8,FALSE),\"\")","v":""},{"$f":"IF(L167<>\"\",VLOOKUP($L167,'milk yield 2018'!$A:$H,7,FALSE),\"\")","v":""},{"$f":"IF(L167<>\"\",VLOOKUP($L167,'fat 2018'!$A:$H,8,FALSE),\"\")","v":""},{"$f":"IF(L167<>\"\",VLOOKUP($L167,'fat 2018'!$A:$H,7,FALSE),\"\")","v":""},{"$f":"IF(L167<>\"\",VLOOKUP($L167,'protein 2018'!$A:$H,8,FALSE),\"\")","v":""},{"$f":"IF(L167<>\"\",VLOOKUP($L167,'protein 2018'!$A:$H,7,FALSE),\"\")","v":""}]
[null,null,null,null,null,null,null,null,null," ","","",{"$f":"IF(L168<>\"\",VLOOKUP($L168,'milk yield 2018'!$A:$H,8,FALSE),\"\")","v":""},{"$f":"IF(L168<>\"\",VLOOKUP($L168,'milk yield 2018'!$A:$H,7,FALSE),\"\")","v":""},{"$f":"IF(L168<>\"\",VLOOKUP($L168,'fat 2018'!$A:$H,8,FALSE),\"\")","v":""},{"$f":"IF(L168<>\"\",VLOOKUP($L168,'fat 2018'!$A:$H,7,FALSE),\"\")","v":""},{"$f":"IF(L168<>\"\",VLOOKUP($L168,'protein 2018'!$A:$H,8,FALSE),\"\")","v":""},{"$f":"IF(L168<>\"\",VLOOKUP($L168,'protein 2018'!$A:$H,7,FALSE),\"\")","v":""}]
[null,null,null,null,null,null,null,null,null," ","","",{"$f":"IF(L169<>\"\",VLOOKUP($L169,'milk yield 2018'!$A:$H,8,FALSE),\"\")","v":""},{"$f":"IF(L169<>\"\",VLOOKUP($L169,'milk yield 2018'!$A:$H,7,FALSE),\"\")","v":""},{"$f":"IF(L169<>\"\",VLOOKUP($L169,'fat 2018'!$A:$H,8,FALSE),\"\")","v":""},{"$f":"IF(L169<>\"\",VLOOKUP($L169,'fat 2018'!$A:$H,7,FALSE),\"\")","v":""},{"$f":"IF(L169<>\"\",VLOOKUP($L169,'protein 2018'!$A:$H,8,FALSE),\"\")","v":""},{"$f":"IF(L169<>\"\",VLOOKUP($L169,'protein 2018'!$A:$H,7,FALSE),\"\")","v":""}]
[null,null,null,null,null,null,null,null,null," ","","",{"$f":"IF(L170<>\"\",VLOOKUP($L170,'milk yield 2018'!$A:$H,8,FALSE),\"\")","v":""},{"$f":"IF(L170<>\"\",VLOOKUP($L170,'milk yield 2018'!$A:$H,7,FALSE),\"\")","v":""},{"$f":"IF(L170<>\"\",VLOOKUP($L170,'fat 2018'!$A:$H,8,FALSE),\"\")","v":""},{"$f":"IF(L170<>\"\",VLOOKUP($L170,'fat 2018'!$A:$H,7,FALSE),\"\")","v":""},{"$f":"IF(L170<>\"\",VLOOKUP($L170,'protein 2018'!$A:$H,8,FALSE),\"\")","v":""},{"$f":"IF(L170<>\"\",VLOOKUP($L170,'protein 2018'!$A:$H,7,FALSE),\"\")","v":""}]
[null,null,null,null,null,null,null,null,null," ","","",{"$f":"IF(L171<>\"\",VLOOKUP($L171,'milk yield 2018'!$A:$H,8,FALSE),\"\")","v":""},{"$f":"IF(L171<>\"\",VLOOKUP($L171,'milk yield 2018'!$A:$H,7,FALSE),\"\")","v":""},{"$f":"IF(L171<>\"\",VLOOKUP($L171,'fat 2018'!$A:$H,8,FALSE),\"\")","v":""},{"$f":"IF(L171<>\"\",VLOOKUP($L171,'fat 2018'!$A:$H,7,FALSE),\"\")","v":""},{"$f":"IF(L171<>\"\",VLOOKUP($L171,'protein 2018'!$A:$H,8,FALSE),\"\")","v":""},{"$f":"IF(L171<>\"\",VLOOKUP($L171,'protein 2018'!$A:$H,7,FALSE),\"\")","v":""}]
[null,null,null,null,null,null,null,null,null," ","","",{"$f":"IF(L172<>\"\",VLOOKUP($L172,'milk yield 2018'!$A:$H,8,FALSE),\"\")","v":""},{"$f":"IF(L172<>\"\",VLOOKUP($L172,'milk yield 2018'!$A:$H,7,FALSE),\"\")","v":""},{"$f":"IF(L172<>\"\",VLOOKUP($L172,'fat 2018'!$A:$H,8,FALSE),\"\")","v":""},{"$f":"IF(L172<>\"\",VLOOKUP($L172,'fat 2018'!$A:$H,7,FALSE),\"\")","v":""},{"$f":"IF(L172<>\"\",VLOOKUP($L172,'protein 2018'!$A:$H,8,FALSE),\"\")","v":""},{"$f":"IF(L172<>\"\",VLOOKUP($L172,'protein 2018'!$A:$H,7,FALSE),\"\")","v":""}]
[null,null,null,null,null,null,null,null,null," ","","",{"$f":"IF(L173<>\"\",VLOOKUP($L173,'milk yield 2018'!$A:$H,8,FALSE),\"\")","v":""},{"$f":"IF(L173<>\"\",VLOOKUP($L173,'milk yield 2018'!$A:$H,7,FALSE),\"\")","v":""},{"$f":"IF(L173<>\"\",VLOOKUP($L173,'fat 2018'!$A:$H,8,FALSE),\"\")","v":""},{"$f":"IF(L173<>\"\",VLOOKUP($L173,'fat 2018'!$A:$H,7,FALSE),\"\")","v":""},{"$f":"IF(L173<>\"\",VLOOKUP($L173,'protein 2018'!$A:$H,8,FALSE),\"\")","v":""},{"$f":"IF(L173<>\"\",VLOOKUP($L173,'protein 2018'!$A:$H,7,FALSE),\"\")","v":""}]
[null,null,null,null,null,null,null,null,null," ","","",{"$f":"IF(L174<>\"\",VLOOKUP($L174,'milk yield 2018'!$A:$H,8,FALSE),\"\")","v":""},{"$f":"IF(L174<>\"\",VLOOKUP($L174,'milk yield 2018'!$A:$H,7,FALSE),\"\")","v":""},{"$f":"IF(L174<>\"\",VLOOKUP($L174,'fat 2018'!$A:$H,8,FALSE),\"\")","v":""},{"$f":"IF(L174<>\"\",VLOOKUP($L174,'fat 2018'!$A:$H,7,FALSE),\"\")","v":""},{"$f":"IF(L174<>\"\",VLOOKUP($L174,'protein 2018'!$A:$H,8,FALSE),\"\")","v":""},{"$f":"IF(L174<>\"\",VLOOKUP($L174,'protein 2018'!$A:$H,7,FALSE),\"\")","v":""}]
[null,null,null,null,null,null,null,null,null," ","","",{"$f":"IF(L175<>\"\",VLOOKUP($L175,'milk yield 2018'!$A:$H,8,FALSE),\"\")","v":""},{"$f":"IF(L175<>\"\",VLOOKUP($L175,'milk yield 2018'!$A:$H,7,FALSE),\"\")","v":""},{"$f":"IF(L175<>\"\",VLOOKUP($L175,'fat 2018'!$A:$H,8,FALSE),\"\")","v":""},{"$f":"IF(L175<>\"\",VLOOKUP($L175,'fat 2018'!$A:$H,7,FALSE),\"\")","v":""},{"$f":"IF(L175<>\"\",VLOOKUP($L175,'protein 2018'!$A:$H,8,FALSE),\"\")","v":""},{"$f":"IF(L175<>\"\",VLOOKUP($L175,'protein 2018'!$A:$H,7,FALSE),\"\")","v":""}]
[null,null,null,null,null,null,null,null,null," ","","",{"$f":"IF(L176<>\"\",VLOOKUP($L176,'milk yield 2018'!$A:$H,8,FALSE),\"\")","v":""},{"$f":"IF(L176<>\"\",VLOOKUP($L176,'milk yield 2018'!$A:$H,7,FALSE),\"\")","v":""},{"$f":"IF(L176<>\"\",VLOOKUP($L176,'fat 2018'!$A:$H,8,FALSE),\"\")","v":""},{"$f":"IF(L176<>\"\",VLOOKUP($L176,'fat 2018'!$A:$H,7,FALSE),\"\")","v":""},{"$f":"IF(L176<>\"\",VLOOKUP($L176,'protein 2018'!$A:$H,8,FALSE),\"\")","v":""},{"$f":"IF(L176<>\"\",VLOOKUP($L176,'protein 2018'!$A:$H,7,FALSE),\"\")","v":""}]
[null,null,null,null,null,null,null,null,null," ","","",{"$f":"IF(L177<>\"\",VLOOKUP($L177,'milk yield 2018'!$A:$H,8,FALSE),\"\")","v":""},{"$f":"IF(L177<>\"\",VLOOKUP($L177,'milk yield 2018'!$A:$H,7,FALSE),\"\")","v":""},{"$f":"IF(L177<>\"\",VLOOKUP($L177,'fat 2018'!$A:$H,8,FALSE),\"\")","v":""},{"$f":"IF(L177<>\"\",VLOOKUP($L177,'fat 2018'!$A:$H,7,FALSE),\"\")","v":""},{"$f":"IF(L177<>\"\",VLOOKUP($L177,'protein 2018'!$A:$H,8,FALSE),\"\")","v":""},{"$f":"IF(L177<>\"\",VLOOKUP($L177,'protein 2018'!$A:$H,7,FALSE),\"\")","v":""}]
[null,null,null,null,null,null,null,null,null," ","","",{"$f":"IF(L178<>\"\",VLOOKUP($L178,'milk yield 2018'!$A:$H,8,FALSE),\"\")","v":""},{"$f":"IF(L178<>\"\",VLOOKUP($L178,'milk yield 2018'!$A:$H,7,FALSE),\"\")","v":""},{"$f":"IF(L178<>\"\",VLOOKUP($L178,'fat 2018'!$A:$H,8,FALSE),\"\")","v":""},{"$f":"IF(L178<>\"\",VLOOKUP($L178,'fat 2018'!$A:$H,7,FALSE),\"\")","v":""},{"$f":"IF(L178<>\"\",VLOOKUP($L178,'protein 2018'!$A:$H,8,FALSE),\"\")","v":""},{"$f":"IF(L178<>\"\",VLOOKUP($L178,'protein 2018'!$A:$H,7,FALSE),\"\")","v":""}]
[null,null,null,null,null,null,null,null,null," ",{"$f":"IF(B179<>\"\",IF(($E$8-$B179)<1,1,IF(($E$8-$B179)>360,7,(INT((1+($E$8-$B179)/60))))),\"\")","v":""},{"$f":"IF(AND(J179<>\"\",K179<>\"\"),$E$9*1000+$J179*100+$C$15*10+$K179,\"\")","v":""},{"$f":"IF(L179<>\"\",VLOOKUP($L179,'milk yield 2018'!$A:$H,8,FALSE),\"\")","v":""},{"$f":"IF(L179<>\"\",VLOOKUP($L179,'milk yield 2018'!$A:$H,7,FALSE),\"\")","v":""},{"$f":"IF(L179<>\"\",VLOOKUP($L179,'fat 2018'!$A:$H,8,FALSE),\"\")","v":""},{"$f":"IF(L179<>\"\",VLOOKUP($L179,'fat 2018'!$A:$H,7,FALSE),\"\")","v":""},{"$f":"IF(L179<>\"\",VLOOKUP($L179,'protein 2018'!$A:$H,8,FALSE),\"\")","v":""},{"$f":"IF(L179<>\"\",VLOOKUP($L179,'protein 2018'!$A:$H,7,FALSE),\"\")","v":""}]
[null,null,null,null,null,null,null,null,null," ","","",{"$f":"IF(L180<>\"\",VLOOKUP($L180,'milk yield 2018'!$A:$H,8,FALSE),\"\")","v":""},{"$f":"IF(L180<>\"\",VLOOKUP($L180,'milk yield 2018'!$A:$H,7,FALSE),\"\")","v":""},{"$f":"IF(L180<>\"\",VLOOKUP($L180,'fat 2018'!$A:$H,8,FALSE),\"\")","v":""},{"$f":"IF(L180<>\"\",VLOOKUP($L180,'fat 2018'!$A:$H,7,FALSE),\"\")","v":""},{"$f":"IF(L180<>\"\",VLOOKUP($L180,'protein 2018'!$A:$H,8,FALSE),\"\")","v":""},{"$f":"IF(L180<>\"\",VLOOKUP($L180,'protein 2018'!$A:$H,7,FALSE),\"\")","v":""}]
[null,null,null,null,null,null,null,null,null," ","","",{"$f":"IF(L181<>\"\",VLOOKUP($L181,'milk yield 2018'!$A:$H,8,FALSE),\"\")","v":""},{"$f":"IF(L181<>\"\",VLOOKUP($L181,'milk yield 2018'!$A:$H,7,FALSE),\"\")","v":""},{"$f":"IF(L181<>\"\",VLOOKUP($L181,'fat 2018'!$A:$H,8,FALSE),\"\")","v":""},{"$f":"IF(L181<>\"\",VLOOKUP($L181,'fat 2018'!$A:$H,7,FALSE),\"\")","v":""},{"$f":"IF(L181<>\"\",VLOOKUP($L181,'protein 2018'!$A:$H,8,FALSE),\"\")","v":""},{"$f":"IF(L181<>\"\",VLOOKUP($L181,'protein 2018'!$A:$H,7,FALSE),\"\")","v":""}]
[null,null,null,null,null,null,null,null,null," ","","",{"$f":"IF(L182<>\"\",VLOOKUP($L182,'milk yield 2018'!$A:$H,8,FALSE),\"\")","v":""},{"$f":"IF(L182<>\"\",VLOOKUP($L182,'milk yield 2018'!$A:$H,7,FALSE),\"\")","v":""},{"$f":"IF(L182<>\"\",VLOOKUP($L182,'fat 2018'!$A:$H,8,FALSE),\"\")","v":""},{"$f":"IF(L182<>\"\",VLOOKUP($L182,'fat 2018'!$A:$H,7,FALSE),\"\")","v":""},{"$f":"IF(L182<>\"\",VLOOKUP($L182,'protein 2018'!$A:$H,8,FALSE),\"\")","v":""},{"$f":"IF(L182<>\"\",VLOOKUP($L182,'protein 2018'!$A:$H,7,FALSE),\"\")","v":""}]
[null,null,null,null,null,null,null,null,null," ","","",{"$f":"IF(L183<>\"\",VLOOKUP($L183,'milk yield 2018'!$A:$H,8,FALSE),\"\")","v":""},{"$f":"IF(L183<>\"\",VLOOKUP($L183,'milk yield 2018'!$A:$H,7,FALSE),\"\")","v":""},{"$f":"IF(L183<>\"\",VLOOKUP($L183,'fat 2018'!$A:$H,8,FALSE),\"\")","v":""},{"$f":"IF(L183<>\"\",VLOOKUP($L183,'fat 2018'!$A:$H,7,FALSE),\"\")","v":""},{"$f":"IF(L183<>\"\",VLOOKUP($L183,'protein 2018'!$A:$H,8,FALSE),\"\")","v":""},{"$f":"IF(L183<>\"\",VLOOKUP($L183,'protein 2018'!$A:$H,7,FALSE),\"\")","v":""}]
[null,null,null,null,null,null,null,null,null," ","","",{"$f":"IF(L184<>\"\",VLOOKUP($L184,'milk yield 2018'!$A:$H,8,FALSE),\"\")","v":""},{"$f":"IF(L184<>\"\",VLOOKUP($L184,'milk yield 2018'!$A:$H,7,FALSE),\"\")","v":""},{"$f":"IF(L184<>\"\",VLOOKUP($L184,'fat 2018'!$A:$H,8,FALSE),\"\")","v":""},{"$f":"IF(L184<>\"\",VLOOKUP($L184,'fat 2018'!$A:$H,7,FALSE),\"\")","v":""},{"$f":"IF(L184<>\"\",VLOOKUP($L184,'protein 2018'!$A:$H,8,FALSE),\"\")","v":""},{"$f":"IF(L184<>\"\",VLOOKUP($L184,'protein 2018'!$A:$H,7,FALSE),\"\")","v":""}]
[null,null,null,null,null,null,null,null,null," ","","",{"$f":"IF(L185<>\"\",VLOOKUP($L185,'milk yield 2018'!$A:$H,8,FALSE),\"\")","v":""},{"$f":"IF(L185<>\"\",VLOOKUP($L185,'milk yield 2018'!$A:$H,7,FALSE),\"\")","v":""},{"$f":"IF(L185<>\"\",VLOOKUP($L185,'fat 2018'!$A:$H,8,FALSE),\"\")","v":""},{"$f":"IF(L185<>\"\",VLOOKUP($L185,'fat 2018'!$A:$H,7,FALSE),\"\")","v":""},{"$f":"IF(L185<>\"\",VLOOKUP($L185,'protein 2018'!$A:$H,8,FALSE),\"\")","v":""},{"$f":"IF(L185<>\"\",VLOOKUP($L185,'protein 2018'!$A:$H,7,FALSE),\"\")","v":""}]
[null,null,null,null,null,null,null,null,null," ","","",{"$f":"IF(L186<>\"\",VLOOKUP($L186,'milk yield 2018'!$A:$H,8,FALSE),\"\")","v":""},{"$f":"IF(L186<>\"\",VLOOKUP($L186,'milk yield 2018'!$A:$H,7,FALSE),\"\")","v":""},{"$f":"IF(L186<>\"\",VLOOKUP($L186,'fat 2018'!$A:$H,8,FALSE),\"\")","v":""},{"$f":"IF(L186<>\"\",VLOOKUP($L186,'fat 2018'!$A:$H,7,FALSE),\"\")","v":""},{"$f":"IF(L186<>\"\",VLOOKUP($L186,'protein 2018'!$A:$H,8,FALSE),\"\")","v":""},{"$f":"IF(L186<>\"\",VLOOKUP($L186,'protein 2018'!$A:$H,7,FALSE),\"\")","v":""}]
[null,null,null,null,null,null,null,null,null," ","","",{"$f":"IF(L187<>\"\",VLOOKUP($L187,'milk yield 2018'!$A:$H,8,FALSE),\"\")","v":""},{"$f":"IF(L187<>\"\",VLOOKUP($L187,'milk yield 2018'!$A:$H,7,FALSE),\"\")","v":""},{"$f":"IF(L187<>\"\",VLOOKUP($L187,'fat 2018'!$A:$H,8,FALSE),\"\")","v":""},{"$f":"IF(L187<>\"\",VLOOKUP($L187,'fat 2018'!$A:$H,7,FALSE),\"\")","v":""},{"$f":"IF(L187<>\"\",VLOOKUP($L187,'protein 2018'!$A:$H,8,FALSE),\"\")","v":""},{"$f":"IF(L187<>\"\",VLOOKUP($L187,'protein 2018'!$A:$H,7,FALSE),\"\")","v":""}]
[null,null,null,null,null,null,null,null,null," ","","",{"$f":"IF(L188<>\"\",VLOOKUP($L188,'milk yield 2018'!$A:$H,8,FALSE),\"\")","v":""},{"$f":"IF(L188<>\"\",VLOOKUP($L188,'milk yield 2018'!$A:$H,7,FALSE),\"\")","v":""},{"$f":"IF(L188<>\"\",VLOOKUP($L188,'fat 2018'!$A:$H,8,FALSE),\"\")","v":""},{"$f":"IF(L188<>\"\",VLOOKUP($L188,'fat 2018'!$A:$H,7,FALSE),\"\")","v":""},{"$f":"IF(L188<>\"\",VLOOKUP($L188,'protein 2018'!$A:$H,8,FALSE),\"\")","v":""},{"$f":"IF(L188<>\"\",VLOOKUP($L188,'protein 2018'!$A:$H,7,FALSE),\"\")","v":""}]
[null,null,null,null,null,null,null,null,null," ","","",{"$f":"IF(L189<>\"\",VLOOKUP($L189,'milk yield 2018'!$A:$H,8,FALSE),\"\")","v":""},{"$f":"IF(L189<>\"\",VLOOKUP($L189,'milk yield 2018'!$A:$H,7,FALSE),\"\")","v":""},{"$f":"IF(L189<>\"\",VLOOKUP($L189,'fat 2018'!$A:$H,8,FALSE),\"\")","v":""},{"$f":"IF(L189<>\"\",VLOOKUP($L189,'fat 2018'!$A:$H,7,FALSE),\"\")","v":""},{"$f":"IF(L189<>\"\",VLOOKUP($L189,'protein 2018'!$A:$H,8,FALSE),\"\")","v":""},{"$f":"IF(L189<>\"\",VLOOKUP($L189,'protein 2018'!$A:$H,7,FALSE),\"\")","v":""}]
[null,null,null,null,null,null,null,null,null," ","","",{"$f":"IF(L190<>\"\",VLOOKUP($L190,'milk yield 2018'!$A:$H,8,FALSE),\"\")","v":""},{"$f":"IF(L190<>\"\",VLOOKUP($L190,'milk yield 2018'!$A:$H,7,FALSE),\"\")","v":""},{"$f":"IF(L190<>\"\",VLOOKUP($L190,'fat 2018'!$A:$H,8,FALSE),\"\")","v":""},{"$f":"IF(L190<>\"\",VLOOKUP($L190,'fat 2018'!$A:$H,7,FALSE),\"\")","v":""},{"$f":"IF(L190<>\"\",VLOOKUP($L190,'protein 2018'!$A:$H,8,FALSE),\"\")","v":""},{"$f":"IF(L190<>\"\",VLOOKUP($L190,'protein 2018'!$A:$H,7,FALSE),\"\")","v":""}]
[null,null,null,null,null,null,null,null,null," ","","",{"$f":"IF(L191<>\"\",VLOOKUP($L191,'milk yield 2018'!$A:$H,8,FALSE),\"\")","v":""},{"$f":"IF(L191<>\"\",VLOOKUP($L191,'milk yield 2018'!$A:$H,7,FALSE),\"\")","v":""},{"$f":"IF(L191<>\"\",VLOOKUP($L191,'fat 2018'!$A:$H,8,FALSE),\"\")","v":""},{"$f":"IF(L191<>\"\",VLOOKUP($L191,'fat 2018'!$A:$H,7,FALSE),\"\")","v":""},{"$f":"IF(L191<>\"\",VLOOKUP($L191,'protein 2018'!$A:$H,8,FALSE),\"\")","v":""},{"$f":"IF(L191<>\"\",VLOOKUP($L191,'protein 2018'!$A:$H,7,FALSE),\"\")","v":""}]
[null,null,null,null,null,null,null,null,null," ","","",{"$f":"IF(L192<>\"\",VLOOKUP($L192,'milk yield 2018'!$A:$H,8,FALSE),\"\")","v":""},{"$f":"IF(L192<>\"\",VLOOKUP($L192,'milk yield 2018'!$A:$H,7,FALSE),\"\")","v":""},{"$f":"IF(L192<>\"\",VLOOKUP($L192,'fat 2018'!$A:$H,8,FALSE),\"\")","v":""},{"$f":"IF(L192<>\"\",VLOOKUP($L192,'fat 2018'!$A:$H,7,FALSE),\"\")","v":""},{"$f":"IF(L192<>\"\",VLOOKUP($L192,'protein 2018'!$A:$H,8,FALSE),\"\")","v":""},{"$f":"IF(L192<>\"\",VLOOKUP($L192,'protein 2018'!$A:$H,7,FALSE),\"\")","v":""}]
[null,null,null,null,null,null,null,null,null," ","","",{"$f":"IF(L193<>\"\",VLOOKUP($L193,'milk yield 2018'!$A:$H,8,FALSE),\"\")","v":""},{"$f":"IF(L193<>\"\",VLOOKUP($L193,'milk yield 2018'!$A:$H,7,FALSE),\"\")","v":""},{"$f":"IF(L193<>\"\",VLOOKUP($L193,'fat 2018'!$A:$H,8,FALSE),\"\")","v":""},{"$f":"IF(L193<>\"\",VLOOKUP($L193,'fat 2018'!$A:$H,7,FALSE),\"\")","v":""},{"$f":"IF(L193<>\"\",VLOOKUP($L193,'protein 2018'!$A:$H,8,FALSE),\"\")","v":""},{"$f":"IF(L193<>\"\",VLOOKUP($L193,'protein 2018'!$A:$H,7,FALSE),\"\")","v":""}]
[null,null,null,null,null,null,null,null,null," ","","",{"$f":"IF(L194<>\"\",VLOOKUP($L194,'milk yield 2018'!$A:$H,8,FALSE),\"\")","v":""},{"$f":"IF(L194<>\"\",VLOOKUP($L194,'milk yield 2018'!$A:$H,7,FALSE),\"\")","v":""},{"$f":"IF(L194<>\"\",VLOOKUP($L194,'fat 2018'!$A:$H,8,FALSE),\"\")","v":""},{"$f":"IF(L194<>\"\",VLOOKUP($L194,'fat 2018'!$A:$H,7,FALSE),\"\")","v":""},{"$f":"IF(L194<>\"\",VLOOKUP($L194,'protein 2018'!$A:$H,8,FALSE),\"\")","v":""},{"$f":"IF(L194<>\"\",VLOOKUP($L194,'protein 2018'!$A:$H,7,FALSE),\"\")","v":""}]
[null,null,null,null,null,null,null,null,null," ","","",{"$f":"IF(L195<>\"\",VLOOKUP($L195,'milk yield 2018'!$A:$H,8,FALSE),\"\")","v":""},{"$f":"IF(L195<>\"\",VLOOKUP($L195,'milk yield 2018'!$A:$H,7,FALSE),\"\")","v":""},{"$f":"IF(L195<>\"\",VLOOKUP($L195,'fat 2018'!$A:$H,8,FALSE),\"\")","v":""},{"$f":"IF(L195<>\"\",VLOOKUP($L195,'fat 2018'!$A:$H,7,FALSE),\"\")","v":""},{"$f":"IF(L195<>\"\",VLOOKUP($L195,'protein 2018'!$A:$H,8,FALSE),\"\")","v":""},{"$f":"IF(L195<>\"\",VLOOKUP($L195,'protein 2018'!$A:$H,7,FALSE),\"\")","v":""}]
[null,null,null,null,null,null,null,null,null," ","","",{"$f":"IF(L196<>\"\",VLOOKUP($L196,'milk yield 2018'!$A:$H,8,FALSE),\"\")","v":""},{"$f":"IF(L196<>\"\",VLOOKUP($L196,'milk yield 2018'!$A:$H,7,FALSE),\"\")","v":""},{"$f":"IF(L196<>\"\",VLOOKUP($L196,'fat 2018'!$A:$H,8,FALSE),\"\")","v":""},{"$f":"IF(L196<>\"\",VLOOKUP($L196,'fat 2018'!$A:$H,7,FALSE),\"\")","v":""},{"$f":"IF(L196<>\"\",VLOOKUP($L196,'protein 2018'!$A:$H,8,FALSE),\"\")","v":""},{"$f":"IF(L196<>\"\",VLOOKUP($L196,'protein 2018'!$A:$H,7,FALSE),\"\")","v":""}]
[null,null,null,null,null,null,null,null,null," ","","",{"$f":"IF(L197<>\"\",VLOOKUP($L197,'milk yield 2018'!$A:$H,8,FALSE),\"\")","v":""},{"$f":"IF(L197<>\"\",VLOOKUP($L197,'milk yield 2018'!$A:$H,7,FALSE),\"\")","v":""},{"$f":"IF(L197<>\"\",VLOOKUP($L197,'fat 2018'!$A:$H,8,FALSE),\"\")","v":""},{"$f":"IF(L197<>\"\",VLOOKUP($L197,'fat 2018'!$A:$H,7,FALSE),\"\")","v":""},{"$f":"IF(L197<>\"\",VLOOKUP($L197,'protein 2018'!$A:$H,8,FALSE),\"\")","v":""},{"$f":"IF(L197<>\"\",VLOOKUP($L197,'protein 2018'!$A:$H,7,FALSE),\"\")","v":""}]
[null,null,null,null,null,null,null,null,null," ","","",{"$f":"IF(L198<>\"\",VLOOKUP($L198,'milk yield 2018'!$A:$H,8,FALSE),\"\")","v":""},{"$f":"IF(L198<>\"\",VLOOKUP($L198,'milk yield 2018'!$A:$H,7,FALSE),\"\")","v":""},{"$f":"IF(L198<>\"\",VLOOKUP($L198,'fat 2018'!$A:$H,8,FALSE),\"\")","v":""},{"$f":"IF(L198<>\"\",VLOOKUP($L198,'fat 2018'!$A:$H,7,FALSE),\"\")","v":""},{"$f":"IF(L198<>\"\",VLOOKUP($L198,'protein 2018'!$A:$H,8,FALSE),\"\")","v":""},{"$f":"IF(L198<>\"\",VLOOKUP($L198,'protein 2018'!$A:$H,7,FALSE),\"\")","v":""}]
[null,null,null,null,null,null,null,null,null," ","","",{"$f":"IF(L199<>\"\",VLOOKUP($L199,'milk yield 2018'!$A:$H,8,FALSE),\"\")","v":""},{"$f":"IF(L199<>\"\",VLOOKUP($L199,'milk yield 2018'!$A:$H,7,FALSE),\"\")","v":""},{"$f":"IF(L199<>\"\",VLOOKUP($L199,'fat 2018'!$A:$H,8,FALSE),\"\")","v":""},{"$f":"IF(L199<>\"\",VLOOKUP($L199,'fat 2018'!$A:$H,7,FALSE),\"\")","v":""},{"$f":"IF(L199<>\"\",VLOOKUP($L199,'protein 2018'!$A:$H,8,FALSE),\"\")","v":""},{"$f":"IF(L199<>\"\",VLOOKUP($L199,'protein 2018'!$A:$H,7,FALSE),\"\")","v":""}]
[null,null,null,null,null,null,null,null,null," ","","",{"$f":"IF(L200<>\"\",VLOOKUP($L200,'milk yield 2018'!$A:$H,8,FALSE),\"\")","v":""},{"$f":"IF(L200<>\"\",VLOOKUP($L200,'milk yield 2018'!$A:$H,7,FALSE),\"\")","v":""},{"$f":"IF(L200<>\"\",VLOOKUP($L200,'fat 2018'!$A:$H,8,FALSE),\"\")","v":""},{"$f":"IF(L200<>\"\",VLOOKUP($L200,'fat 2018'!$A:$H,7,FALSE),\"\")","v":""},{"$f":"IF(L200<>\"\",VLOOKUP($L200,'protein 2018'!$A:$H,8,FALSE),\"\")","v":""},{"$f":"IF(L200<>\"\",VLOOKUP($L200,'protein 2018'!$A:$H,7,FALSE),\"\")","v":""}]
[null,null,null,null,null,null,null,null,null," ","","",{"$f":"IF(L201<>\"\",VLOOKUP($L201,'milk yield 2018'!$A:$H,8,FALSE),\"\")","v":""},{"$f":"IF(L201<>\"\",VLOOKUP($L201,'milk yield 2018'!$A:$H,7,FALSE),\"\")","v":""},{"$f":"IF(L201<>\"\",VLOOKUP($L201,'fat 2018'!$A:$H,8,FALSE),\"\")","v":""},{"$f":"IF(L201<>\"\",VLOOKUP($L201,'fat 2018'!$A:$H,7,FALSE),\"\")","v":""},{"$f":"IF(L201<>\"\",VLOOKUP($L201,'protein 2018'!$A:$H,8,FALSE),\"\")","v":""},{"$f":"IF(L201<>\"\",VLOOKUP($L201,'protein 2018'!$A:$H,7,FALSE),\"\")","v":""}]
[null,null,null,null,null,null,null,null,null," ","","",{"$f":"IF(L202<>\"\",VLOOKUP($L202,'milk yield 2018'!$A:$H,8,FALSE),\"\")","v":""},{"$f":"IF(L202<>\"\",VLOOKUP($L202,'milk yield 2018'!$A:$H,7,FALSE),\"\")","v":""},{"$f":"IF(L202<>\"\",VLOOKUP($L202,'fat 2018'!$A:$H,8,FALSE),\"\")","v":""},{"$f":"IF(L202<>\"\",VLOOKUP($L202,'fat 2018'!$A:$H,7,FALSE),\"\")","v":""},{"$f":"IF(L202<>\"\",VLOOKUP($L202,'protein 2018'!$A:$H,8,FALSE),\"\")","v":""},{"$f":"IF(L202<>\"\",VLOOKUP($L202,'protein 2018'!$A:$H,7,FALSE),\"\")","v":""}]
[null,null,null,null,null,null,null,null,null," ","","",{"$f":"IF(L203<>\"\",VLOOKUP($L203,'milk yield 2018'!$A:$H,8,FALSE),\"\")","v":""},{"$f":"IF(L203<>\"\",VLOOKUP($L203,'milk yield 2018'!$A:$H,7,FALSE),\"\")","v":""},{"$f":"IF(L203<>\"\",VLOOKUP($L203,'fat 2018'!$A:$H,8,FALSE),\"\")","v":""},{"$f":"IF(L203<>\"\",VLOOKUP($L203,'fat 2018'!$A:$H,7,FALSE),\"\")","v":""},{"$f":"IF(L203<>\"\",VLOOKUP($L203,'protein 2018'!$A:$H,8,FALSE),\"\")","v":""},{"$f":"IF(L203<>\"\",VLOOKUP($L203,'protein 2018'!$A:$H,7,FALSE),\"\")","v":""}]
[null,null,null,null,null,null,null,null,null," ","","",{"$f":"IF(L204<>\"\",VLOOKUP($L204,'milk yield 2018'!$A:$H,8,FALSE),\"\")","v":""},{"$f":"IF(L204<>\"\",VLOOKUP($L204,'milk yield 2018'!$A:$H,7,FALSE),\"\")","v":""},{"$f":"IF(L204<>\"\",VLOOKUP($L204,'fat 2018'!$A:$H,8,FALSE),\"\")","v":""},{"$f":"IF(L204<>\"\",VLOOKUP($L204,'fat 2018'!$A:$H,7,FALSE),\"\")","v":""},{"$f":"IF(L204<>\"\",VLOOKUP($L204,'protein 2018'!$A:$H,8,FALSE),\"\")","v":""},{"$f":"IF(L204<>\"\",VLOOKUP($L204,'protein 2018'!$A:$H,7,FALSE),\"\")","v":""}]
[null,null,null,null,null,null,null,null,null," ","","",{"$f":"IF(L205<>\"\",VLOOKUP($L205,'milk yield 2018'!$A:$H,8,FALSE),\"\")","v":""},{"$f":"IF(L205<>\"\",VLOOKUP($L205,'milk yield 2018'!$A:$H,7,FALSE),\"\")","v":""},{"$f":"IF(L205<>\"\",VLOOKUP($L205,'fat 2018'!$A:$H,8,FALSE),\"\")","v":""},{"$f":"IF(L205<>\"\",VLOOKUP($L205,'fat 2018'!$A:$H,7,FALSE),\"\")","v":""},{"$f":"IF(L205<>\"\",VLOOKUP($L205,'protein 2018'!$A:$H,8,FALSE),\"\")","v":""},{"$f":"IF(L205<>\"\",VLOOKUP($L205,'protein 2018'!$A:$H,7,FALSE),\"\")","v":""}]
[null,null,null,null,null,null,null,null,null," ","","",{"$f":"IF(L206<>\"\",VLOOKUP($L206,'milk yield 2018'!$A:$H,8,FALSE),\"\")","v":""},{"$f":"IF(L206<>\"\",VLOOKUP($L206,'milk yield 2018'!$A:$H,7,FALSE),\"\")","v":""},{"$f":"IF(L206<>\"\",VLOOKUP($L206,'fat 2018'!$A:$H,8,FALSE),\"\")","v":""},{"$f":"IF(L206<>\"\",VLOOKUP($L206,'fat 2018'!$A:$H,7,FALSE),\"\")","v":""},{"$f":"IF(L206<>\"\",VLOOKUP($L206,'protein 2018'!$A:$H,8,FALSE),\"\")","v":""},{"$f":"IF(L206<>\"\",VLOOKUP($L206,'protein 2018'!$A:$H,7,FALSE),\"\")","v":""}]
[null,null,null,null,null,null,null,null,null," ","","",{"$f":"IF(L207<>\"\",VLOOKUP($L207,'milk yield 2018'!$A:$H,8,FALSE),\"\")","v":""},{"$f":"IF(L207<>\"\",VLOOKUP($L207,'milk yield 2018'!$A:$H,7,FALSE),\"\")","v":""},{"$f":"IF(L207<>\"\",VLOOKUP($L207,'fat 2018'!$A:$H,8,FALSE),\"\")","v":""},{"$f":"IF(L207<>\"\",VLOOKUP($L207,'fat 2018'!$A:$H,7,FALSE),\"\")","v":""},{"$f":"IF(L207<>\"\",VLOOKUP($L207,'protein 2018'!$A:$H,8,FALSE),\"\")","v":""},{"$f":"IF(L207<>\"\",VLOOKUP($L207,'protein 2018'!$A:$H,7,FALSE),\"\")","v":""}]
[null,null,null,null,null,null,null,null,null," ","","",{"$f":"IF(L208<>\"\",VLOOKUP($L208,'milk yield 2018'!$A:$H,8,FALSE),\"\")","v":""},{"$f":"IF(L208<>\"\",VLOOKUP($L208,'milk yield 2018'!$A:$H,7,FALSE),\"\")","v":""},{"$f":"IF(L208<>\"\",VLOOKUP($L208,'fat 2018'!$A:$H,8,FALSE),\"\")","v":""},{"$f":"IF(L208<>\"\",VLOOKUP($L208,'fat 2018'!$A:$H,7,FALSE),\"\")","v":""},{"$f":"IF(L208<>\"\",VLOOKUP($L208,'protein 2018'!$A:$H,8,FALSE),\"\")","v":""},{"$f":"IF(L208<>\"\",VLOOKUP($L208,'protein 2018'!$A:$H,7,FALSE),\"\")","v":""}]
[null,null,null,null,null,null,null,null,null," ","","",{"$f":"IF(L209<>\"\",VLOOKUP($L209,'milk yield 2018'!$A:$H,8,FALSE),\"\")","v":""},{"$f":"IF(L209<>\"\",VLOOKUP($L209,'milk yield 2018'!$A:$H,7,FALSE),\"\")","v":""},{"$f":"IF(L209<>\"\",VLOOKUP($L209,'fat 2018'!$A:$H,8,FALSE),\"\")","v":""},{"$f":"IF(L209<>\"\",VLOOKUP($L209,'fat 2018'!$A:$H,7,FALSE),\"\")","v":""},{"$f":"IF(L209<>\"\",VLOOKUP($L209,'protein 2018'!$A:$H,8,FALSE),\"\")","v":""},{"$f":"IF(L209<>\"\",VLOOKUP($L209,'protein 2018'!$A:$H,7,FALSE),\"\")","v":""}]
[null,null,null,null,null,null,null,null,null," ","","",{"$f":"IF(L210<>\"\",VLOOKUP($L210,'milk yield 2018'!$A:$H,8,FALSE),\"\")","v":""},{"$f":"IF(L210<>\"\",VLOOKUP($L210,'milk yield 2018'!$A:$H,7,FALSE),\"\")","v":""},{"$f":"IF(L210<>\"\",VLOOKUP($L210,'fat 2018'!$A:$H,8,FALSE),\"\")","v":""},{"$f":"IF(L210<>\"\",VLOOKUP($L210,'fat 2018'!$A:$H,7,FALSE),\"\")","v":""},{"$f":"IF(L210<>\"\",VLOOKUP($L210,'protein 2018'!$A:$H,8,FALSE),\"\")","v":""},{"$f":"IF(L210<>\"\",VLOOKUP($L210,'protein 2018'!$A:$H,7,FALSE),\"\")","v":""}]
[null,null,null,null,null,null,null,null,null," ",{"$f":"IF(B211<>\"\",IF(($E$8-$B211)<1,1,IF(($E$8-$B211)>360,7,(INT((1+($E$8-$B211)/60))))),\"\")","v":""},{"$f":"IF(AND(J211<>\"\",K211<>\"\"),$E$9*1000+$J211*100+$C$15*10+$K211,\"\")","v":""},{"$f":"IF(L211<>\"\",VLOOKUP($L211,'milk yield 2018'!$A:$H,8,FALSE),\"\")","v":""},{"$f":"IF(L211<>\"\",VLOOKUP($L211,'milk yield 2018'!$A:$H,7,FALSE),\"\")","v":""},{"$f":"IF(L211<>\"\",VLOOKUP($L211,'fat 2018'!$A:$H,8,FALSE),\"\")","v":""},{"$f":"IF(L211<>\"\",VLOOKUP($L211,'fat 2018'!$A:$H,7,FALSE),\"\")","v":""},{"$f":"IF(L211<>\"\",VLOOKUP($L211,'protein 2018'!$A:$H,8,FALSE),\"\")","v":""},{"$f":"IF(L211<>\"\",VLOOKUP($L211,'protein 2018'!$A:$H,7,FALSE),\"\")","v":""}]
[null,null,null,null,null,null,null,null,null,{"$f":"IF($C212=1,1,IF($C212>1,2,\" \"))","v":" "},"","",{"$f":"IF(L212<>\"\",VLOOKUP($L212,'milk yield 2018'!$A:$H,8,FALSE),\"\")","v":""},{"$f":"IF(L212<>\"\",VLOOKUP($L212,'milk yield 2018'!$A:$H,7,FALSE),\"\")","v":""},{"$f":"IF(L212<>\"\",VLOOKUP($L212,'fat 2018'!$A:$H,8,FALSE),\"\")","v":""},{"$f":"IF(L212<>\"\",VLOOKUP($L212,'fat 2018'!$A:$H,7,FALSE),\"\")","v":""},{"$f":"IF(L212<>\"\",VLOOKUP($L212,'protein 2018'!$A:$H,8,FALSE),\"\")","v":""},{"$f":"IF(L212<>\"\",VLOOKUP($L212,'protein 2018'!$A:$H,7,FALSE),\"\")","v":""}]
[null,null,null,null,null,null,null,null,null," ","","",{"$f":"IF(L213<>\"\",VLOOKUP($L213,'milk yield 2018'!$A:$H,8,FALSE),\"\")","v":""},{"$f":"IF(L213<>\"\",VLOOKUP($L213,'milk yield 2018'!$A:$H,7,FALSE),\"\")","v":""},{"$f":"IF(L213<>\"\",VLOOKUP($L213,'fat 2018'!$A:$H,8,FALSE),\"\")","v":""},{"$f":"IF(L213<>\"\",VLOOKUP($L213,'fat 2018'!$A:$H,7,FALSE),\"\")","v":""},{"$f":"IF(L213<>\"\",VLOOKUP($L213,'protein 2018'!$A:$H,8,FALSE),\"\")","v":""},{"$f":"IF(L213<>\"\",VLOOKUP($L213,'protein 2018'!$A:$H,7,FALSE),\"\")","v":""}]
[null,null,null,null,null,null,null,null,null," ","","",{"$f":"IF(L214<>\"\",VLOOKUP($L214,'milk yield 2018'!$A:$H,8,FALSE),\"\")","v":""},{"$f":"IF(L214<>\"\",VLOOKUP($L214,'milk yield 2018'!$A:$H,7,FALSE),\"\")","v":""},{"$f":"IF(L214<>\"\",VLOOKUP($L214,'fat 2018'!$A:$H,8,FALSE),\"\")","v":""},{"$f":"IF(L214<>\"\",VLOOKUP($L214,'fat 2018'!$A:$H,7,FALSE),\"\")","v":""},{"$f":"IF(L214<>\"\",VLOOKUP($L214,'protein 2018'!$A:$H,8,FALSE),\"\")","v":""},{"$f":"IF(L214<>\"\",VLOOKUP($L214,'protein 2018'!$A:$H,7,FALSE),\"\")","v":""}]
[null,null,null,null,null,null,null,null,null," ","","",{"$f":"IF(L215<>\"\",VLOOKUP($L215,'milk yield 2018'!$A:$H,8,FALSE),\"\")","v":""},{"$f":"IF(L215<>\"\",VLOOKUP($L215,'milk yield 2018'!$A:$H,7,FALSE),\"\")","v":""},{"$f":"IF(L215<>\"\",VLOOKUP($L215,'fat 2018'!$A:$H,8,FALSE),\"\")","v":""},{"$f":"IF(L215<>\"\",VLOOKUP($L215,'fat 2018'!$A:$H,7,FALSE),\"\")","v":""},{"$f":"IF(L215<>\"\",VLOOKUP($L215,'protein 2018'!$A:$H,8,FALSE),\"\")","v":""},{"$f":"IF(L215<>\"\",VLOOKUP($L215,'protein 2018'!$A:$H,7,FALSE),\"\")","v":""}]
[null,null,null,null,null,null,null,null,null," ","","",{"$f":"IF(L216<>\"\",VLOOKUP($L216,'milk yield 2018'!$A:$H,8,FALSE),\"\")","v":""},{"$f":"IF(L216<>\"\",VLOOKUP($L216,'milk yield 2018'!$A:$H,7,FALSE),\"\")","v":""},{"$f":"IF(L216<>\"\",VLOOKUP($L216,'fat 2018'!$A:$H,8,FALSE),\"\")","v":""},{"$f":"IF(L216<>\"\",VLOOKUP($L216,'fat 2018'!$A:$H,7,FALSE),\"\")","v":""},{"$f":"IF(L216<>\"\",VLOOKUP($L216,'protein 2018'!$A:$H,8,FALSE),\"\")","v":""},{"$f":"IF(L216<>\"\",VLOOKUP($L216,'protein 2018'!$A:$H,7,FALSE),\"\")","v":""}]
[null,null,null,null,null,null,null,null,null," ","","",{"$f":"IF(L217<>\"\",VLOOKUP($L217,'milk yield 2018'!$A:$H,8,FALSE),\"\")","v":""},{"$f":"IF(L217<>\"\",VLOOKUP($L217,'milk yield 2018'!$A:$H,7,FALSE),\"\")","v":""},{"$f":"IF(L217<>\"\",VLOOKUP($L217,'fat 2018'!$A:$H,8,FALSE),\"\")","v":""},{"$f":"IF(L217<>\"\",VLOOKUP($L217,'fat 2018'!$A:$H,7,FALSE),\"\")","v":""},{"$f":"IF(L217<>\"\",VLOOKUP($L217,'protein 2018'!$A:$H,8,FALSE),\"\")","v":""},{"$f":"IF(L217<>\"\",VLOOKUP($L217,'protein 2018'!$A:$H,7,FALSE),\"\")","v":""}]
[null,null,null,null,null,null,null,null,null," ","","",{"$f":"IF(L218<>\"\",VLOOKUP($L218,'milk yield 2018'!$A:$H,8,FALSE),\"\")","v":""},{"$f":"IF(L218<>\"\",VLOOKUP($L218,'milk yield 2018'!$A:$H,7,FALSE),\"\")","v":""},{"$f":"IF(L218<>\"\",VLOOKUP($L218,'fat 2018'!$A:$H,8,FALSE),\"\")","v":""},{"$f":"IF(L218<>\"\",VLOOKUP($L218,'fat 2018'!$A:$H,7,FALSE),\"\")","v":""},{"$f":"IF(L218<>\"\",VLOOKUP($L218,'protein 2018'!$A:$H,8,FALSE),\"\")","v":""},{"$f":"IF(L218<>\"\",VLOOKUP($L218,'protein 2018'!$A:$H,7,FALSE),\"\")","v":""}]

{"sheet":"Makro1","index":1,"n_rows":0,"n_cols":0,"rows_kept":0,"cut":false,"hidden":true,"merged":[]}

{"sheet":"results","index":2,"n_rows":208,"n_cols":9,"rows_kept":208,"cut":false,"hidden":true,"merged":[[6,6,6,8],[5,6,5,8],[1,0,1,5]]}
[]
["AT calculation 2019 (Liu method)"]
[null,null,{"$f":"IF(data!E12 =1,\"AT calculation\",IF(data!E12=2,\"recalculation to original data\",\"\"))","v":"AT calculation"}]
[]
[]
[null,null,null,null,null,null,"out of range"]
[null,null,null,null,null,null,"in the case of small milk amount or extrem ingridients"]
[null,"cow","calving date","milkyield","fat %","protein %","milkyield","fat %","protein %"]
[{"$f":"IF(smoothing!A15=\"out of range\",\"out of range\",\"\")","v":""},{"$f":"IF(ISBLANK(data!A19),\"\",data!A19)","v":2132},{"$f":"IF(ISBLANK(data!B19),\"\",data!B19)","v":"1999-11-28"},{"$f":"IF(ISBLANK(data!$A19),\"\",IF(ISBLANK(data!$B19),\"\",IF(ISBLANK(data!$C19),\"\",IF(ISBLANK(data!D19),\"\",data!G19))))","v":44.723453999999997},{"$f":"IF(ISBLANK(data!$A19),\"\",IF(ISBLANK(data!$B19),\"\",IF(ISBLANK(data!$C19),\"\",IF(ISBLANK(data!E19),\"\",data!H19))))","v":4.1543695439980999},{"$f":"IF(ISBLANK(data!$A19),\"\",IF(ISBLANK(data!$B19),\"\",IF(ISBLANK(data!$C19),\"\",IF(ISBLANK(data!F19),\"\",data!I19))))","v":3.179988915882928},{"$f":"IF(smoothing!C15=\"\",\"\",smoothing!B15)","v":""},{"$f":"IF(smoothing!G15=\"\",\"\",smoothing!F15)","v":""},{"$f":"IF(smoothing!K15=\"\",\"\",smoothing!J15)","v":""}]
[{"$f":"IF(smoothing!A16=\"out of range\",\"out of range\",\"\")","v":""},{"$f":"IF(ISBLANK(data!A20),\"\",data!A20)","v":""},{"$f":"IF(ISBLANK(data!B20),\"\",data!B20)","v":""},{"$f":"IF(ISBLANK(data!$A20),\"\",IF(ISBLANK(data!$B20),\"\",IF(ISBLANK(data!$C20),\"\",IF(ISBLANK(data!D20),\"\",data!G20))))","v":""},{"$f":"IF(ISBLANK(data!$A20),\"\",IF(ISBLANK(data!$B20),\"\",IF(ISBLANK(data!$C20),\"\",IF(ISBLANK(data!E20),\"\",data!H20))))","v":""},{"$f":"IF(ISBLANK(data!$A20),\"\",IF(ISBLANK(data!$B20),\"\",IF(ISBLANK(data!$C20),\"\",IF(ISBLANK(data!F20),\"\",data!I20))))","v":""},{"$f":"IF(smoothing!C16=\"\",\"\",smoothing!B16)","v":""},{"$f":"IF(smoothing!G16=\"\",\"\",smoothing!F16)","v":""},{"$f":"IF(smoothing!K16=\"\",\"\",smoothing!J16)","v":""}]
[{"$f":"IF(smoothing!A17=\"out of range\",\"out of range\",\"\")","v":""},{"$f":"IF(ISBLANK(data!A21),\"\",data!A21)","v":""},{"$f":"IF(ISBLANK(data!B21),\"\",data!B21)","v":""},{"$f":"IF(ISBLANK(data!$A21),\"\",IF(ISBLANK(data!$B21),\"\",IF(ISBLANK(data!$C21),\"\",IF(ISBLANK(data!D21),\"\",data!G21))))","v":""},{"$f":"IF(ISBLANK(data!$A21),\"\",IF(ISBLANK(data!$B21),\"\",IF(ISBLANK(data!$C21),\"\",IF(ISBLANK(data!E21),\"\",data!H21))))","v":""},{"$f":"IF(ISBLANK(data!$A21),\"\",IF(ISBLANK(data!$B21),\"\",IF(ISBLANK(data!$C21),\"\",IF(ISBLANK(data!F21),\"\",data!I21))))","v":""},{"$f":"IF(smoothing!C17=\"\",\"\",smoothing!B17)","v":""},{"$f":"IF(smoothing!G17=\"\",\"\",smoothing!F17)","v":""},{"$f":"IF(smoothing!K17=\"\",\"\",smoothing!J17)","v":""}]
[{"$f":"IF(smoothing!A18=\"out of range\",\"out of range\",\"\")","v":""},{"$f":"IF(ISBLANK(data!A22),\"\",data!A22)","v":""},{"$f":"IF(ISBLANK(data!B22),\"\",data!B22)","v":""},{"$f":"IF(ISBLANK(data!$A22),\"\",IF(ISBLANK(data!$B22),\"\",IF(ISBLANK(data!$C22),\"\",IF(ISBLANK(data!D22),\"\",data!G22))))","v":""},{"$f":"IF(ISBLANK(data!$A22),\"\",IF(ISBLANK(data!$B22),\"\",IF(ISBLANK(data!$C22),\"\",IF(ISBLANK(data!E22),\"\",data!H22))))","v":""},{"$f":"IF(ISBLANK(data!$A22),\"\",IF(ISBLANK(data!$B22),\"\",IF(ISBLANK(data!$C22),\"\",IF(ISBLANK(data!F22),\"\",data!I22))))","v":""},{"$f":"IF(smoothing!C18=\"\",\"\",smoothing!B18)","v":""},{"$f":"IF(smoothing!G18=\"\",\"\",smoothing!F18)","v":""},{"$f":"IF(smoothing!K18=\"\",\"\",smoothing!J18)","v":""}]
[{"$f":"IF(smoothing!A19=\"out of range\",\"out of range\",\"\")","v":""},{"$f":"IF(ISBLANK(data!A23),\"\",data!A23)","v":""},{"$f":"IF(ISBLANK(data!B23),\"\",data!B23)","v":""},{"$f":"IF(ISBLANK(data!$A23),\"\",IF(ISBLANK(data!$B23),\"\",IF(ISBLANK(data!$C23),\"\",IF(ISBLANK(data!D23),\"\",data!G23))))","v":""},{"$f":"IF(ISBLANK(data!$A23),\"\",IF(ISBLANK(data!$B23),\"\",IF(ISBLANK(data!$C23),\"\",IF(ISBLANK(data!E23),\"\",data!H23))))","v":""},{"$f":"IF(ISBLANK(data!$A23),\"\",IF(ISBLANK(data!$B23),\"\",IF(ISBLANK(data!$C23),\"\",IF(ISBLANK(data!F23),\"\",data!I23))))","v":""},{"$f":"IF(smoothing!C19=\"\",\"\",smoothing!B19)","v":""},{"$f":"IF(smoothing!G19=\"\",\"\",smoothing!F19)","v":""},{"$f":"IF(smoothing!K19=\"\",\"\",smoothing!J19)","v":""}]
[{"$f":"IF(smoothing!A20=\"out of range\",\"out of range\",\"\")","v":""},{"$f":"IF(ISBLANK(data!A24),\"\",data!A24)","v":""},{"$f":"IF(ISBLANK(data!B24),\"\",data!B24)","v":""},{"$f":"IF(ISBLANK(data!$A24),\"\",IF(ISBLANK(data!$B24),\"\",IF(ISBLANK(data!$C24),\"\",IF(ISBLANK(data!D24),\"\",data!G24))))","v":""},{"$f":"IF(ISBLANK(data!$A24),\"\",IF(ISBLANK(data!$B24),\"\",IF(ISBLANK(data!$C24),\"\",IF(ISBLANK(data!E24),\"\",data!H24))))","v":""},{"$f":"IF(ISBLANK(data!$A24),\"\",IF(ISBLANK(data!$B24),\"\",IF(ISBLANK(data!$C24),\"\",IF(ISBLANK(data!F24),\"\",data!I24))))","v":""},{"$f":"IF(smoothing!C20=\"\",\"\",smoothing!B20)","v":""},{"$f":"IF(smoothing!G20=\"\",\"\",smoothing!F20)","v":""},{"$f":"IF(smoothing!K20=\"\",\"\",smoothing!J20)","v":""}]
[{"$f":"IF(smoothing!A21=\"out of range\",\"out of range\",\"\")","v":""},{"$f":"IF(ISBLANK(data!A25),\"\",data!A25)","v":""},{"$f":"IF(ISBLANK(data!B25),\"\",data!B25)","v":""},{"$f":"IF(ISBLANK(data!$A25),\"\",IF(ISBLANK(data!$B25),\"\",IF(ISBLANK(data!$C25),\"\",IF(ISBLANK(data!D25),\"\",data!G25))))","v":""},{"$f":"IF(ISBLANK(data!$A25),\"\",IF(ISBLANK(data!$B25),\"\",IF(ISBLANK(data!$C25),\"\",IF(ISBLANK(data!E25),\"\",data!H25))))","v":""},{"$f":"IF(ISBLANK(data!$A25),\"\",IF(ISBLANK(data!$B25),\"\",IF(ISBLANK(data!$C25),\"\",IF(ISBLANK(data!F25),\"\",data!I25))))","v":""},{"$f":"IF(smoothing!C21=\"\",\"\",smoothing!B21)","v":""},{"$f":"IF(smoothing!G21=\"\",\"\",smoothing!F21)","v":""},{"$f":"IF(smoothing!K21=\"\",\"\",smoothing!J21)","v":""}]
[{"$f":"IF(smoothing!A22=\"out of range\",\"out of range\",\"\")","v":""},{"$f":"IF(ISBLANK(data!A26),\"\",data!A26)","v":""},{"$f":"IF(ISBLANK(data!B26),\"\",data!B26)","v":""},{"$f":"IF(ISBLANK(data!$A26),\"\",IF(ISBLANK(data!$B26),\"\",IF(ISBLANK(data!$C26),\"\",IF(ISBLANK(data!D26),\"\",data!G26))))","v":""},{"$f":"IF(ISBLANK(data!$A26),\"\",IF(ISBLANK(data!$B26),\"\",IF(ISBLANK(data!$C26),\"\",IF(ISBLANK(data!E26),\"\",data!H26))))","v":""},{"$f":"IF(ISBLANK(data!$A26),\"\",IF(ISBLANK(data!$B26),\"\",IF(ISBLANK(data!$C26),\"\",IF(ISBLANK(data!F26),\"\",data!I26))))","v":""},{"$f":"IF(smoothing!C22=\"\",\"\",smoothing!B22)","v":""},{"$f":"IF(smoothing!G22=\"\",\"\",smoothing!F22)","v":""},{"$f":"IF(smoothing!K22=\"\",\"\",smoothing!J22)","v":""}]
[{"$f":"IF(smoothing!A23=\"out of range\",\"out of range\",\"\")","v":""},{"$f":"IF(ISBLANK(data!A27),\"\",data!A27)","v":""},{"$f":"IF(ISBLANK(data!B27),\"\",data!B27)","v":""},{"$f":"IF(ISBLANK(data!$A27),\"\",IF(ISBLANK(data!$B27),\"\",IF(ISBLANK(data!$C27),\"\",IF(ISBLANK(data!D27),\"\",data!G27))))","v":""},{"$f":"IF(ISBLANK(data!$A27),\"\",IF(ISBLANK(data!$B27),\"\",IF(ISBLANK(data!$C27),\"\",IF(ISBLANK(data!E27),\"\",data!H27))))","v":""},{"$f":"IF(ISBLANK(data!$A27),\"\",IF(ISBLANK(data!$B27),\"\",IF(ISBLANK(data!$C27),\"\",IF(ISBLANK(data!F27),\"\",data!I27))))","v":""},{"$f":"IF(smoothing!C23=\"\",\"\",smoothing!B23)","v":""},{"$f":"IF(smoothing!G23=\"\",\"\",smoothing!F23)","v":""},{"$f":"IF(smoothing!K23=\"\",\"\",smoothing!J23)","v":""}]
[{"$f":"IF(smoothing!A24=\"out of range\",\"out of range\",\"\")","v":""},{"$f":"IF(ISBLANK(data!A28),\"\",data!A28)","v":""},{"$f":"IF(ISBLANK(data!B28),\"\",data!B28)","v":""},{"$f":"IF(ISBLANK(data!$A28),\"\",IF(ISBLANK(data!$B28),\"\",IF(ISBLANK(data!$C28),\"\",IF(ISBLANK(data!D28),\"\",data!G28))))","v":""},{"$f":"IF(ISBLANK(data!$A28),\"\",IF(ISBLANK(data!$B28),\"\",IF(ISBLANK(data!$C28),\"\",IF(ISBLANK(data!E28),\"\",data!H28))))","v":""},{"$f":"IF(ISBLANK(data!$A28),\"\",IF(ISBLANK(data!$B28),\"\",IF(ISBLANK(data!$C28),\"\",IF(ISBLANK(data!F28),\"\",data!I28))))","v":""},{"$f":"IF(smoothing!C24=\"\",\"\",smoothing!B24)","v":""},{"$f":"IF(smoothing!G24=\"\",\"\",smoothing!F24)","v":""},{"$f":"IF(smoothing!K24=\"\",\"\",smoothing!J24)","v":""}]
[{"$f":"IF(smoothing!A25=\"out of range\",\"out of range\",\"\")","v":""},{"$f":"IF(ISBLANK(data!A29),\"\",data!A29)","v":""},{"$f":"IF(ISBLANK(data!B29),\"\",data!B29)","v":""},{"$f":"IF(ISBLANK(data!$A29),\"\",IF(ISBLANK(data!$B29),\"\",IF(ISBLANK(data!$C29),\"\",IF(ISBLANK(data!D29),\"\",data!G29))))","v":""},{"$f":"IF(ISBLANK(data!$A29),\"\",IF(ISBLANK(data!$B29),\"\",IF(ISBLANK(data!$C29),\"\",IF(ISBLANK(data!E29),\"\",data!H29))))","v":""},{"$f":"IF(ISBLANK(data!$A29),\"\",IF(ISBLANK(data!$B29),\"\",IF(ISBLANK(data!$C29),\"\",IF(ISBLANK(data!F29),\"\",data!I29))))","v":""},{"$f":"IF(smoothing!C25=\"\",\"\",smoothing!B25)","v":""},{"$f":"IF(smoothing!G25=\"\",\"\",smoothing!F25)","v":""},{"$f":"IF(smoothing!K25=\"\",\"\",smoothing!J25)","v":""}]
[{"$f":"IF(smoothing!A26=\"out of range\",\"out of range\",\"\")","v":""},{"$f":"IF(ISBLANK(data!A30),\"\",data!A30)","v":""},{"$f":"IF(ISBLANK(data!B30),\"\",data!B30)","v":""},{"$f":"IF(ISBLANK(data!$A30),\"\",IF(ISBLANK(data!$B30),\"\",IF(ISBLANK(data!$C30),\"\",IF(ISBLANK(data!D30),\"\",data!G30))))","v":""},{"$f":"IF(ISBLANK(data!$A30),\"\",IF(ISBLANK(data!$B30),\"\",IF(ISBLANK(data!$C30),\"\",IF(ISBLANK(data!E30),\"\",data!H30))))","v":""},{"$f":"IF(ISBLANK(data!$A30),\"\",IF(ISBLANK(data!$B30),\"\",IF(ISBLANK(data!$C30),\"\",IF(ISBLANK(data!F30),\"\",data!I30))))","v":""},{"$f":"IF(smoothing!C26=\"\",\"\",smoothing!B26)","v":""},{"$f":"IF(smoothing!G26=\"\",\"\",smoothing!F26)","v":""},{"$f":"IF(smoothing!K26=\"\",\"\",smoothing!J26)","v":""}]
[{"$f":"IF(smoothing!A27=\"out of range\",\"out of range\",\"\")","v":""},{"$f":"IF(ISBLANK(data!A31),\"\",data!A31)","v":""},{"$f":"IF(ISBLANK(data!B31),\"\",data!B31)","v":""},{"$f":"IF(ISBLANK(data!$A31),\"\",IF(ISBLANK(data!$B31),\"\",IF(ISBLANK(data!$C31),\"\",IF(ISBLANK(data!D31),\"\",data!G31))))","v":""},{"$f":"IF(ISBLANK(data!$A31),\"\",IF(ISBLANK(data!$B31),\"\",IF(ISBLANK(data!$C31),\"\",IF(ISBLANK(data!E31),\"\",data!H31))))","v":""},{"$f":"IF(ISBLANK(data!$A31),\"\",IF(ISBLANK(data!$B31),\"\",IF(ISBLANK(data!$C31),\"\",IF(ISBLANK(data!F31),\"\",data!I31))))","v":""},{"$f":"IF(smoothing!C27=\"\",\"\",smoothing!B27)","v":""},{"$f":"IF(smoothing!G27=\"\",\"\",smoothing!F27)","v":""},{"$f":"IF(smoothing!K27=\"\",\"\",smoothing!J27)","v":""}]
[{"$f":"IF(smoothing!A28=\"out of range\",\"out of range\",\"\")","v":""},{"$f":"IF(ISBLANK(data!A32),\"\",data!A32)","v":""},{"$f":"IF(ISBLANK(data!B32),\"\",data!B32)","v":""},{"$f":"IF(ISBLANK(data!$A32),\"\",IF(ISBLANK(data!$B32),\"\",IF(ISBLANK(data!$C32),\"\",IF(ISBLANK(data!D32),\"\",data!G32))))","v":""},{"$f":"IF(ISBLANK(data!$A32),\"\",IF(ISBLANK(data!$B32),\"\",IF(ISBLANK(data!$C32),\"\",IF(ISBLANK(data!E32),\"\",data!H32))))","v":""},{"$f":"IF(ISBLANK(data!$A32),\"\",IF(ISBLANK(data!$B32),\"\",IF(ISBLANK(data!$C32),\"\",IF(ISBLANK(data!F32),\"\",data!I32))))","v":""},{"$f":"IF(smoothing!C28=\"\",\"\",smoothing!B28)","v":""},{"$f":"IF(smoothing!G28=\"\",\"\",smoothing!F28)","v":""},{"$f":"IF(smoothing!K28=\"\",\"\",smoothing!J28)","v":""}]
[{"$f":"IF(smoothing!A29=\"out of range\",\"out of range\",\"\")","v":""},{"$f":"IF(ISBLANK(data!A33),\"\",data!A33)","v":""},{"$f":"IF(ISBLANK(data!B33),\"\",data!B33)","v":""},{"$f":"IF(ISBLANK(data!$A33),\"\",IF(ISBLANK(data!$B33),\"\",IF(ISBLANK(data!$C33),\"\",IF(ISBLANK(data!D33),\"\",data!G33))))","v":""},{"$f":"IF(ISBLANK(data!$A33),\"\",IF(ISBLANK(data!$B33),\"\",IF(ISBLANK(data!$C33),\"\",IF(ISBLANK(data!E33),\"\",data!H33))))","v":""},{"$f":"IF(ISBLANK(data!$A33),\"\",IF(ISBLANK(data!$B33),\"\",IF(ISBLANK(data!$C33),\"\",IF(ISBLANK(data!F33),\"\",data!I33))))","v":""},{"$f":"IF(smoothing!C29=\"\",\"\",smoothing!B29)","v":""},{"$f":"IF(smoothing!G29=\"\",\"\",smoothing!F29)","v":""},{"$f":"IF(smoothing!K29=\"\",\"\",smoothing!J29)","v":""}]
[{"$f":"IF(smoothing!A30=\"out of range\",\"out of range\",\"\")","v":""},{"$f":"IF(ISBLANK(data!A34),\"\",data!A34)","v":""},{"$f":"IF(ISBLANK(data!B34),\"\",data!B34)","v":""},{"$f":"IF(ISBLANK(data!$A34),\"\",IF(ISBLANK(data!$B34),\"\",IF(ISBLANK(data!$C34),\"\",IF(ISBLANK(data!D34),\"\",data!G34))))","v":""},{"$f":"IF(ISBLANK(data!$A34),\"\",IF(ISBLANK(data!$B34),\"\",IF(ISBLANK(data!$C34),\"\",IF(ISBLANK(data!E34),\"\",data!H34))))","v":""},{"$f":"IF(ISBLANK(data!$A34),\"\",IF(ISBLANK(data!$B34),\"\",IF(ISBLANK(data!$C34),\"\",IF(ISBLANK(data!F34),\"\",data!I34))))","v":""},{"$f":"IF(smoothing!C30=\"\",\"\",smoothing!B30)","v":""},{"$f":"IF(smoothing!G30=\"\",\"\",smoothing!F30)","v":""},{"$f":"IF(smoothing!K30=\"\",\"\",smoothing!J30)","v":""}]
[{"$f":"IF(smoothing!A31=\"out of range\",\"out of range\",\"\")","v":""},{"$f":"IF(ISBLANK(data!A35),\"\",data!A35)","v":""},{"$f":"IF(ISBLANK(data!B35),\"\",data!B35)","v":""},{"$f":"IF(ISBLANK(data!$A35),\"\",IF(ISBLANK(data!$B35),\"\",IF(ISBLANK(data!$C35),\"\",IF(ISBLANK(data!D35),\"\",data!G35))))","v":""},{"$f":"IF(ISBLANK(data!$A35),\"\",IF(ISBLANK(data!$B35),\"\",IF(ISBLANK(data!$C35),\"\",IF(ISBLANK(data!E35),\"\",data!H35))))","v":""},{"$f":"IF(ISBLANK(data!$A35),\"\",IF(ISBLANK(data!$B35),\"\",IF(ISBLANK(data!$C35),\"\",IF(ISBLANK(data!F35),\"\",data!I35))))","v":""},{"$f":"IF(smoothing!C31=\"\",\"\",smoothing!B31)","v":""},{"$f":"IF(smoothing!G31=\"\",\"\",smoothing!F31)","v":""},{"$f":"IF(smoothing!K31=\"\",\"\",smoothing!J31)","v":""}]
[{"$f":"IF(smoothing!A32=\"out of range\",\"out of range\",\"\")","v":""},{"$f":"IF(ISBLANK(data!A36),\"\",data!A36)","v":""},{"$f":"IF(ISBLANK(data!B36),\"\",data!B36)","v":""},{"$f":"IF(ISBLANK(data!$A36),\"\",IF(ISBLANK(data!$B36),\"\",IF(ISBLANK(data!$C36),\"\",IF(ISBLANK(data!D36),\"\",data!G36))))","v":""},{"$f":"IF(ISBLANK(data!$A36),\"\",IF(ISBLANK(data!$B36),\"\",IF(ISBLANK(data!$C36),\"\",IF(ISBLANK(data!E36),\"\",data!H36))))","v":""},{"$f":"IF(ISBLANK(data!$A36),\"\",IF(ISBLANK(data!$B36),\"\",IF(ISBLANK(data!$C36),\"\",IF(ISBLANK(data!F36),\"\",data!I36))))","v":""},{"$f":"IF(smoothing!C32=\"\",\"\",smoothing!B32)","v":""},{"$f":"IF(smoothing!G32=\"\",\"\",smoothing!F32)","v":""},{"$f":"IF(smoothing!K32=\"\",\"\",smoothing!J32)","v":""}]
[{"$f":"IF(smoothing!A33=\"out of range\",\"out of range\",\"\")","v":""},{"$f":"IF(ISBLANK(data!A37),\"\",data!A37)","v":""},{"$f":"IF(ISBLANK(data!B37),\"\",data!B37)","v":""},{"$f":"IF(ISBLANK(data!$A37),\"\",IF(ISBLANK(data!$B37),\"\",IF(ISBLANK(data!$C37),\"\",IF(ISBLANK(data!D37),\"\",data!G37))))","v":""},{"$f":"IF(ISBLANK(data!$A37),\"\",IF(ISBLANK(data!$B37),\"\",IF(ISBLANK(data!$C37),\"\",IF(ISBLANK(data!E37),\"\",data!H37))))","v":""},{"$f":"IF(ISBLANK(data!$A37),\"\",IF(ISBLANK(data!$B37),\"\",IF(ISBLANK(data!$C37),\"\",IF(ISBLANK(data!F37),\"\",data!I37))))","v":""},{"$f":"IF(smoothing!C33=\"\",\"\",smoothing!B33)","v":""},{"$f":"IF(smoothing!G33=\"\",\"\",smoothing!F33)","v":""},{"$f":"IF(smoothing!K33=\"\",\"\",smoothing!J33)","v":""}]
[{"$f":"IF(smoothing!A34=\"out of range\",\"out of range\",\"\")","v":""},{"$f":"IF(ISBLANK(data!A38),\"\",data!A38)","v":""},{"$f":"IF(ISBLANK(data!B38),\"\",data!B38)","v":""},{"$f":"IF(ISBLANK(data!$A38),\"\",IF(ISBLANK(data!$B38),\"\",IF(ISBLANK(data!$C38),\"\",IF(ISBLANK(data!D38),\"\",data!G38))))","v":""},{"$f":"IF(ISBLANK(data!$A38),\"\",IF(ISBLANK(data!$B38),\"\",IF(ISBLANK(data!$C38),\"\",IF(ISBLANK(data!E38),\"\",data!H38))))","v":""},{"$f":"IF(ISBLANK(data!$A38),\"\",IF(ISBLANK(data!$B38),\"\",IF(ISBLANK(data!$C38),\"\",IF(ISBLANK(data!F38),\"\",data!I38))))","v":""},{"$f":"IF(smoothing!C34=\"\",\"\",smoothing!B34)","v":""},{"$f":"IF(smoothing!G34=\"\",\"\",smoothing!F34)","v":""},{"$f":"IF(smoothing!K34=\"\",\"\",smoothing!J34)","v":""}]
[{"$f":"IF(smoothing!A35=\"out of range\",\"out of range\",\"\")","v":""},{"$f":"IF(ISBLANK(data!A39),\"\",data!A39)","v":""},{"$f":"IF(ISBLANK(data!B39),\"\",data!B39)","v":""},{"$f":"IF(ISBLANK(data!$A39),\"\",IF(ISBLANK(data!$B39),\"\",IF(ISBLANK(data!$C39),\"\",IF(ISBLANK(data!D39),\"\",data!G39))))","v":""},{"$f":"IF(ISBLANK(data!$A39),\"\",IF(ISBLANK(data!$B39),\"\",IF(ISBLANK(data!$C39),\"\",IF(ISBLANK(data!E39),\"\",data!H39))))","v":""},{"$f":"IF(ISBLANK(data!$A39),\"\",IF(ISBLANK(data!$B39),\"\",IF(ISBLANK(data!$C39),\"\",IF(ISBLANK(data!F39),\"\",data!I39))))","v":""},{"$f":"IF(smoothing!C35=\"\",\"\",smoothing!B35)","v":""},{"$f":"IF(smoothing!G35=\"\",\"\",smoothing!F35)","v":""},{"$f":"IF(smoothing!K35=\"\",\"\",smoothing!J35)","v":""}]
[{"$f":"IF(smoothing!A36=\"out of range\",\"out of range\",\"\")","v":""},{"$f":"IF(ISBLANK(data!A40),\"\",data!A40)","v":""},{"$f":"IF(ISBLANK(data!B40),\"\",data!B40)","v":""},{"$f":"IF(ISBLANK(data!$A40),\"\",IF(ISBLANK(data!$B40),\"\",IF(ISBLANK(data!$C40),\"\",IF(ISBLANK(data!D40),\"\",data!G40))))","v":""},{"$f":"IF(ISBLANK(data!$A40),\"\",IF(ISBLANK(data!$B40),\"\",IF(ISBLANK(data!$C40),\"\",IF(ISBLANK(data!E40),\"\",data!H40))))","v":""},{"$f":"IF(ISBLANK(data!$A40),\"\",IF(ISBLANK(data!$B40),\"\",IF(ISBLANK(data!$C40),\"\",IF(ISBLANK(data!F40),\"\",data!I40))))","v":""},{"$f":"IF(smoothing!C36=\"\",\"\",smoothing!B36)","v":""},{"$f":"IF(smoothing!G36=\"\",\"\",smoothing!F36)","v":""},{"$f":"IF(smoothing!K36=\"\",\"\",smoothing!J36)","v":""}]
[{"$f":"IF(smoothing!A37=\"out of range\",\"out of range\",\"\")","v":""},{"$f":"IF(ISBLANK(data!A41),\"\",data!A41)","v":""},{"$f":"IF(ISBLANK(data!B41),\"\",data!B41)","v":""},{"$f":"IF(ISBLANK(data!$A41),\"\",IF(ISBLANK(data!$B41),\"\",IF(ISBLANK(data!$C41),\"\",IF(ISBLANK(data!D41),\"\",data!G41))))","v":""},{"$f":"IF(ISBLANK(data!$A41),\"\",IF(ISBLANK(data!$B41),\"\",IF(ISBLANK(data!$C41),\"\",IF(ISBLANK(data!E41),\"\",data!H41))))","v":""},{"$f":"IF(ISBLANK(data!$A41),\"\",IF(ISBLANK(data!$B41),\"\",IF(ISBLANK(data!$C41),\"\",IF(ISBLANK(data!F41),\"\",data!I41))))","v":""},{"$f":"IF(smoothing!C37=\"\",\"\",smoothing!B37)","v":""},{"$f":"IF(smoothing!G37=\"\",\"\",smoothing!F37)","v":""},{"$f":"IF(smoothing!K37=\"\",\"\",smoothing!J37)","v":""}]
[{"$f":"IF(smoothing!A38=\"out of range\",\"out of range\",\"\")","v":""},{"$f":"IF(ISBLANK(data!A42),\"\",data!A42)","v":""},{"$f":"IF(ISBLANK(data!B42),\"\",data!B42)","v":""},{"$f":"IF(ISBLANK(data!$A42),\"\",IF(ISBLANK(data!$B42),\"\",IF(ISBLANK(data!$C42),\"\",IF(ISBLANK(data!D42),\"\",data!G42))))","v":""},{"$f":"IF(ISBLANK(data!$A42),\"\",IF(ISBLANK(data!$B42),\"\",IF(ISBLANK(data!$C42),\"\",IF(ISBLANK(data!E42),\"\",data!H42))))","v":""},{"$f":"IF(ISBLANK(data!$A42),\"\",IF(ISBLANK(data!$B42),\"\",IF(ISBLANK(data!$C42),\"\",IF(ISBLANK(data!F42),\"\",data!I42))))","v":""},{"$f":"IF(smoothing!C38=\"\",\"\",smoothing!B38)","v":""},{"$f":"IF(smoothing!G38=\"\",\"\",smoothing!F38)","v":""},{"$f":"IF(smoothing!K38=\"\",\"\",smoothing!J38)","v":""}]
[{"$f":"IF(smoothing!A39=\"out of range\",\"out of range\",\"\")","v":""},{"$f":"IF(ISBLANK(data!A43),\"\",data!A43)","v":""},{"$f":"IF(ISBLANK(data!B43),\"\",data!B43)","v":""},{"$f":"IF(ISBLANK(data!$A43),\"\",IF(ISBLANK(data!$B43),\"\",IF(ISBLANK(data!$C43),\"\",IF(ISBLANK(data!D43),\"\",data!G43))))","v":""},{"$f":"IF(ISBLANK(data!$A43),\"\",IF(ISBLANK(data!$B43),\"\",IF(ISBLANK(data!$C43),\"\",IF(ISBLANK(data!E43),\"\",data!H43))))","v":""},{"$f":"IF(ISBLANK(data!$A43),\"\",IF(ISBLANK(data!$B43),\"\",IF(ISBLANK(data!$C43),\"\",IF(ISBLANK(data!F43),\"\",data!I43))))","v":""},{"$f":"IF(smoothing!C39=\"\",\"\",smoothing!B39)","v":""},{"$f":"IF(smoothing!G39=\"\",\"\",smoothing!F39)","v":""},{"$f":"IF(smoothing!K39=\"\",\"\",smoothing!J39)","v":""}]
[{"$f":"IF(smoothing!A40=\"out of range\",\"out of range\",\"\")","v":""},{"$f":"IF(ISBLANK(data!A44),\"\",data!A44)","v":""},{"$f":"IF(ISBLANK(data!B44),\"\",data!B44)","v":""},{"$f":"IF(ISBLANK(data!$A44),\"\",IF(ISBLANK(data!$B44),\"\",IF(ISBLANK(data!$C44),\"\",IF(ISBLANK(data!D44),\"\",data!G44))))","v":""},{"$f":"IF(ISBLANK(data!$A44),\"\",IF(ISBLANK(data!$B44),\"\",IF(ISBLANK(data!$C44),\"\",IF(ISBLANK(data!E44),\"\",data!H44))))","v":""},{"$f":"IF(ISBLANK(data!$A44),\"\",IF(ISBLANK(data!$B44),\"\",IF(ISBLANK(data!$C44),\"\",IF(ISBLANK(data!F44),\"\",data!I44))))","v":""},{"$f":"IF(smoothing!C40=\"\",\"\",smoothing!B40)","v":""},{"$f":"IF(smoothing!G40=\"\",\"\",smoothing!F40)","v":""},{"$f":"IF(smoothing!K40=\"\",\"\",smoothing!J40)","v":""}]
[{"$f":"IF(smoothing!A41=\"out of range\",\"out of range\",\"\")","v":""},{"$f":"IF(ISBLANK(data!A45),\"\",data!A45)","v":""},{"$f":"IF(ISBLANK(data!B45),\"\",data!B45)","v":""},{"$f":"IF(ISBLANK(data!$A45),\"\",IF(ISBLANK(data!$B45),\"\",IF(ISBLANK(data!$C45),\"\",IF(ISBLANK(data!D45),\"\",data!G45))))","v":""},{"$f":"IF(ISBLANK(data!$A45),\"\",IF(ISBLANK(data!$B45),\"\",IF(ISBLANK(data!$C45),\"\",IF(ISBLANK(data!E45),\"\",data!H45))))","v":""},{"$f":"IF(ISBLANK(data!$A45),\"\",IF(ISBLANK(data!$B45),\"\",IF(ISBLANK(data!$C45),\"\",IF(ISBLANK(data!F45),\"\",data!I45))))","v":""},{"$f":"IF(smoothing!C41=\"\",\"\",smoothing!B41)","v":""},{"$f":"IF(smoothing!G41=\"\",\"\",smoothing!F41)","v":""},{"$f":"IF(smoothing!K41=\"\",\"\",smoothing!J41)","v":""}]
[{"$f":"IF(smoothing!A42=\"out of range\",\"out of range\",\"\")","v":""},{"$f":"IF(ISBLANK(data!A46),\"\",data!A46)","v":""},{"$f":"IF(ISBLANK(data!B46),\"\",data!B46)","v":""},{"$f":"IF(ISBLANK(data!$A46),\"\",IF(ISBLANK(data!$B46),\"\",IF(ISBLANK(data!$C46),\"\",IF(ISBLANK(data!D46),\"\",data!G46))))","v":""},{"$f":"IF(ISBLANK(data!$A46),\"\",IF(ISBLANK(data!$B46),\"\",IF(ISBLANK(data!$C46),\"\",IF(ISBLANK(data!E46),\"\",data!H46))))","v":""},{"$f":"IF(ISBLANK(data!$A46),\"\",IF(ISBLANK(data!$B46),\"\",IF(ISBLANK(data!$C46),\"\",IF(ISBLANK(data!F46),\"\",data!I46))))","v":""},{"$f":"IF(smoothing!C42=\"\",\"\",smoothing!B42)","v":""},{"$f":"IF(smoothing!G42=\"\",\"\",smoothing!F42)","v":""},{"$f":"IF(smoothing!K42=\"\",\"\",smoothing!J42)","v":""}]
[{"$f":"IF(smoothing!A43=\"out of range\",\"out of range\",\"\")","v":""},{"$f":"IF(ISBLANK(data!A47),\"\",data!A47)","v":""},{"$f":"IF(ISBLANK(data!B47),\"\",data!B47)","v":""},{"$f":"IF(ISBLANK(data!$A47),\"\",IF(ISBLANK(data!$B47),\"\",IF(ISBLANK(data!$C47),\"\",IF(ISBLANK(data!D47),\"\",data!G47))))","v":""},{"$f":"IF(ISBLANK(data!$A47),\"\",IF(ISBLANK(data!$B47),\"\",IF(ISBLANK(data!$C47),\"\",IF(ISBLANK(data!E47),\"\",data!H47))))","v":""},{"$f":"IF(ISBLANK(data!$A47),\"\",IF(ISBLANK(data!$B47),\"\",IF(ISBLANK(data!$C47),\"\",IF(ISBLANK(data!F47),\"\",data!I47))))","v":""},{"$f":"IF(smoothing!C43=\"\",\"\",smoothing!B43)","v":""},{"$f":"IF(smoothing!G43=\"\",\"\",smoothing!F43)","v":""},{"$f":"IF(smoothing!K43=\"\",\"\",smoothing!J43)","v":""}]
[{"$f":"IF(smoothing!A44=\"out of range\",\"out of range\",\"\")","v":""},{"$f":"IF(ISBLANK(data!A48),\"\",data!A48)","v":""},{"$f":"IF(ISBLANK(data!B48),\"\",data!B48)","v":""},{"$f":"IF(ISBLANK(data!$A48),\"\",IF(ISBLANK(data!$B48),\"\",IF(ISBLANK(data!$C48),\"\",IF(ISBLANK(data!D48),\"\",data!G48))))","v":""},{"$f":"IF(ISBLANK(data!$A48),\"\",IF(ISBLANK(data!$B48),\"\",IF(ISBLANK(data!$C48),\"\",IF(ISBLANK(data!E48),\"\",data!H48))))","v":""},{"$f":"IF(ISBLANK(data!$A48),\"\",IF(ISBLANK(data!$B48),\"\",IF(ISBLANK(data!$C48),\"\",IF(ISBLANK(data!F48),\"\",data!I48))))","v":""},{"$f":"IF(smoothing!C44=\"\",\"\",smoothing!B44)","v":""},{"$f":"IF(smoothing!G44=\"\",\"\",smoothing!F44)","v":""},{"$f":"IF(smoothing!K44=\"\",\"\",smoothing!J44)","v":""}]
[{"$f":"IF(smoothing!A45=\"out of range\",\"out of range\",\"\")","v":""},{"$f":"IF(ISBLANK(data!A49),\"\",data!A49)","v":""},{"$f":"IF(ISBLANK(data!B49),\"\",data!B49)","v":""},{"$f":"IF(ISBLANK(data!$A49),\"\",IF(ISBLANK(data!$B49),\"\",IF(ISBLANK(data!$C49),\"\",IF(ISBLANK(data!D49),\"\",data!G49))))","v":""},{"$f":"IF(ISBLANK(data!$A49),\"\",IF(ISBLANK(data!$B49),\"\",IF(ISBLANK(data!$C49),\"\",IF(ISBLANK(data!E49),\"\",data!H49))))","v":""},{"$f":"IF(ISBLANK(data!$A49),\"\",IF(ISBLANK(data!$B49),\"\",IF(ISBLANK(data!$C49),\"\",IF(ISBLANK(data!F49),\"\",data!I49))))","v":""},{"$f":"IF(smoothing!C45=\"\",\"\",smoothing!B45)","v":""},{"$f":"IF(smoothing!G45=\"\",\"\",smoothing!F45)","v":""},{"$f":"IF(smoothing!K45=\"\",\"\",smoothing!J45)","v":""}]
[{"$f":"IF(smoothing!A46=\"out of range\",\"out of range\",\"\")","v":""},{"$f":"IF(ISBLANK(data!A50),\"\",data!A50)","v":""},{"$f":"IF(ISBLANK(data!B50),\"\",data!B50)","v":""},{"$f":"IF(ISBLANK(data!$A50),\"\",IF(ISBLANK(data!$B50),\"\",IF(ISBLANK(data!$C50),\"\",IF(ISBLANK(data!D50),\"\",data!G50))))","v":""},{"$f":"IF(ISBLANK(data!$A50),\"\",IF(ISBLANK(data!$B50),\"\",IF(ISBLANK(data!$C50),\"\",IF(ISBLANK(data!E50),\"\",data!H50))))","v":""},{"$f":"IF(ISBLANK(data!$A50),\"\",IF(ISBLANK(data!$B50),\"\",IF(ISBLANK(data!$C50),\"\",IF(ISBLANK(data!F50),\"\",data!I50))))","v":""},{"$f":"IF(smoothing!C46=\"\",\"\",smoothing!B46)","v":""},{"$f":"IF(smoothing!G46=\"\",\"\",smoothing!F46)","v":""},{"$f":"IF(smoothing!K46=\"\",\"\",smoothing!J46)","v":""}]
[{"$f":"IF(smoothing!A47=\"out of range\",\"out of range\",\"\")","v":""},{"$f":"IF(ISBLANK(data!A51),\"\",data!A51)","v":""},{"$f":"IF(ISBLANK(data!B51),\"\",data!B51)","v":""},{"$f":"IF(ISBLANK(data!$A51),\"\",IF(ISBLANK(data!$B51),\"\",IF(ISBLANK(data!$C51),\"\",IF(ISBLANK(data!D51),\"\",data!G51))))","v":""},{"$f":"IF(ISBLANK(data!$A51),\"\",IF(ISBLANK(data!$B51),\"\",IF(ISBLANK(data!$C51),\"\",IF(ISBLANK(data!E51),\"\",data!H51))))","v":""},{"$f":"IF(ISBLANK(data!$A51),\"\",IF(ISBLANK(data!$B51),\"\",IF(ISBLANK(data!$C51),\"\",IF(ISBLANK(data!F51),\"\",data!I51))))","v":""},{"$f":"IF(smoothing!C47=\"\",\"\",smoothing!B47)","v":""},{"$f":"IF(smoothing!G47=\"\",\"\",smoothing!F47)","v":""},{"$f":"IF(smoothing!K47=\"\",\"\",smoothing!J47)","v":""}]
[{"$f":"IF(smoothing!A48=\"out of range\",\"out of range\",\"\")","v":""},{"$f":"IF(ISBLANK(data!A52),\"\",data!A52)","v":""},{"$f":"IF(ISBLANK(data!B52),\"\",data!B52)","v":""},{"$f":"IF(ISBLANK(data!$A52),\"\",IF(ISBLANK(data!$B52),\"\",IF(ISBLANK(data!$C52),\"\",IF(ISBLANK(data!D52),\"\",data!G52))))","v":""},{"$f":"IF(ISBLANK(data!$A52),\"\",IF(ISBLANK(data!$B52),\"\",IF(ISBLANK(data!$C52),\"\",IF(ISBLANK(data!E52),\"\",data!H52))))","v":""},{"$f":"IF(ISBLANK(data!$A52),\"\",IF(ISBLANK(data!$B52),\"\",IF(ISBLANK(data!$C52),\"\",IF(ISBLANK(data!F52),\"\",data!I52))))","v":""},{"$f":"IF(smoothing!C48=\"\",\"\",smoothing!B48)","v":""},{"$f":"IF(smoothing!G48=\"\",\"\",smoothing!F48)","v":""},{"$f":"IF(smoothing!K48=\"\",\"\",smoothing!J48)","v":""}]
[{"$f":"IF(smoothing!A49=\"out of range\",\"out of range\",\"\")","v":""},{"$f":"IF(ISBLANK(data!A53),\"\",data!A53)","v":""},{"$f":"IF(ISBLANK(data!B53),\"\",data!B53)","v":""},{"$f":"IF(ISBLANK(data!$A53),\"\",IF(ISBLANK(data!$B53),\"\",IF(ISBLANK(data!$C53),\"\",IF(ISBLANK(data!D53),\"\",data!G53))))","v":""},{"$f":"IF(ISBLANK(data!$A53),\"\",IF(ISBLANK(data!$B53),\"\",IF(ISBLANK(data!$C53),\"\",IF(ISBLANK(data!E53),\"\",data!H53))))","v":""},{"$f":"IF(ISBLANK(data!$A53),\"\",IF(ISBLANK(data!$B53),\"\",IF(ISBLANK(data!$C53),\"\",IF(ISBLANK(data!F53),\"\",data!I53))))","v":""},{"$f":"IF(smoothing!C49=\"\",\"\",smoothing!B49)","v":""},{"$f":"IF(smoothing!G49=\"\",\"\",smoothing!F49)","v":""},{"$f":"IF(smoothing!K49=\"\",\"\",smoothing!J49)","v":""}]
[{"$f":"IF(smoothing!A50=\"out of range\",\"out of range\",\"\")","v":""},{"$f":"IF(ISBLANK(data!A54),\"\",data!A54)","v":""},{"$f":"IF(ISBLANK(data!B54),\"\",data!B54)","v":""},{"$f":"IF(ISBLANK(data!$A54),\"\",IF(ISBLANK(data!$B54),\"\",IF(ISBLANK(data!$C54),\"\",IF(ISBLANK(data!D54),\"\",data!G54))))","v":""},{"$f":"IF(ISBLANK(data!$A54),\"\",IF(ISBLANK(data!$B54),\"\",IF(ISBLANK(data!$C54),\"\",IF(ISBLANK(data!E54),\"\",data!H54))))","v":""},{"$f":"IF(ISBLANK(data!$A54),\"\",IF(ISBLANK(data!$B54),\"\",IF(ISBLANK(data!$C54),\"\",IF(ISBLANK(data!F54),\"\",data!I54))))","v":""},{"$f":"IF(smoothing!C50=\"\",\"\",smoothing!B50)","v":""},{"$f":"IF(smoothing!G50=\"\",\"\",smoothing!F50)","v":""},{"$f":"IF(smoothing!K50=\"\",\"\",smoothing!J50)","v":""}]
[{"$f":"IF(smoothing!A51=\"out of range\",\"out of range\",\"\")","v":""},{"$f":"IF(ISBLANK(data!A55),\"\",data!A55)","v":""},{"$f":"IF(ISBLANK(data!B55),\"\",data!B55)","v":""},{"$f":"IF(ISBLANK(data!$A55),\"\",IF(ISBLANK(data!$B55),\"\",IF(ISBLANK(data!$C55),\"\",IF(ISBLANK(data!D55),\"\",data!G55))))","v":""},{"$f":"IF(ISBLANK(data!$A55),\"\",IF(ISBLANK(data!$B55),\"\",IF(ISBLANK(data!$C55),\"\",IF(ISBLANK(data!E55),\"\",data!H55))))","v":""},{"$f":"IF(ISBLANK(data!$A55),\"\",IF(ISBLANK(data!$B55),\"\",IF(ISBLANK(data!$C55),\"\",IF(ISBLANK(data!F55),\"\",data!I55))))","v":""},{"$f":"IF(smoothing!C51=\"\",\"\",smoothing!B51)","v":""},{"$f":"IF(smoothing!G51=\"\",\"\",smoothing!F51)","v":""},{"$f":"IF(smoothing!K51=\"\",\"\",smoothing!J51)","v":""}]
[{"$f":"IF(smoothing!A52=\"out of range\",\"out of range\",\"\")","v":""},{"$f":"IF(ISBLANK(data!A56),\"\",data!A56)","v":""},{"$f":"IF(ISBLANK(data!B56),\"\",data!B56)","v":""},{"$f":"IF(ISBLANK(data!$A56),\"\",IF(ISBLANK(data!$B56),\"\",IF(ISBLANK(data!$C56),\"\",IF(ISBLANK(data!D56),\"\",data!G56))))","v":""},{"$f":"IF(ISBLANK(data!$A56),\"\",IF(ISBLANK(data!$B56),\"\",IF(ISBLANK(data!$C56),\"\",IF(ISBLANK(data!E56),\"\",data!H56))))","v":""},{"$f":"IF(ISBLANK(data!$A56),\"\",IF(ISBLANK(data!$B56),\"\",IF(ISBLANK(data!$C56),\"\",IF(ISBLANK(data!F56),\"\",data!I56))))","v":""},{"$f":"IF(smoothing!C52=\"\",\"\",smoothing!B52)","v":""},{"$f":"IF(smoothing!G52=\"\",\"\",smoothing!F52)","v":""},{"$f":"IF(smoothing!K52=\"\",\"\",smoothing!J52)","v":""}]
[{"$f":"IF(smoothing!A53=\"out of range\",\"out of range\",\"\")","v":""},{"$f":"IF(ISBLANK(data!A57),\"\",data!A57)","v":""},{"$f":"IF(ISBLANK(data!B57),\"\",data!B57)","v":""},{"$f":"IF(ISBLANK(data!$A57),\"\",IF(ISBLANK(data!$B57),\"\",IF(ISBLANK(data!$C57),\"\",IF(ISBLANK(data!D57),\"\",data!G57))))","v":""},{"$f":"IF(ISBLANK(data!$A57),\"\",IF(ISBLANK(data!$B57),\"\",IF(ISBLANK(data!$C57),\"\",IF(ISBLANK(data!E57),\"\",data!H57))))","v":""},{"$f":"IF(ISBLANK(data!$A57),\"\",IF(ISBLANK(data!$B57),\"\",IF(ISBLANK(data!$C57),\"\",IF(ISBLANK(data!F57),\"\",data!I57))))","v":""},{"$f":"IF(smoothing!C53=\"\",\"\",smoothing!B53)","v":""},{"$f":"IF(smoothing!G53=\"\",\"\",smoothing!F53)","v":""},{"$f":"IF(smoothing!K53=\"\",\"\",smoothing!J53)","v":""}]
[{"$f":"IF(smoothing!A54=\"out of range\",\"out of range\",\"\")","v":""},{"$f":"IF(ISBLANK(data!A58),\"\",data!A58)","v":""},{"$f":"IF(ISBLANK(data!B58),\"\",data!B58)","v":""},{"$f":"IF(ISBLANK(data!$A58),\"\",IF(ISBLANK(data!$B58),\"\",IF(ISBLANK(data!$C58),\"\",IF(ISBLANK(data!D58),\"\",data!G58))))","v":""},{"$f":"IF(ISBLANK(data!$A58),\"\",IF(ISBLANK(data!$B58),\"\",IF(ISBLANK(data!$C58),\"\",IF(ISBLANK(data!E58),\"\",data!H58))))","v":""},{"$f":"IF(ISBLANK(data!$A58),\"\",IF(ISBLANK(data!$B58),\"\",IF(ISBLANK(data!$C58),\"\",IF(ISBLANK(data!F58),\"\",data!I58))))","v":""},{"$f":"IF(smoothing!C54=\"\",\"\",smoothing!B54)","v":""},{"$f":"IF(smoothing!G54=\"\",\"\",smoothing!F54)","v":""},{"$f":"IF(smoothing!K54=\"\",\"\",smoothing!J54)","v":""}]
[{"$f":"IF(smoothing!A55=\"out of range\",\"out of range\",\"\")","v":""},{"$f":"IF(ISBLANK(data!A59),\"\",data!A59)","v":""},{"$f":"IF(ISBLANK(data!B59),\"\",data!B59)","v":""},{"$f":"IF(ISBLANK(data!$A59),\"\",IF(ISBLANK(data!$B59),\"\",IF(ISBLANK(data!$C59),\"\",IF(ISBLANK(data!D59),\"\",data!G59))))","v":""},{"$f":"IF(ISBLANK(data!$A59),\"\",IF(ISBLANK(data!$B59),\"\",IF(ISBLANK(data!$C59),\"\",IF(ISBLANK(data!E59),\"\",data!H59))))","v":""},{"$f":"IF(ISBLANK(data!$A59),\"\",IF(ISBLANK(data!$B59),\"\",IF(ISBLANK(data!$C59),\"\",IF(ISBLANK(data!F59),\"\",data!I59))))","v":""},{"$f":"IF(smoothing!C55=\"\",\"\",smoothing!B55)","v":""},{"$f":"IF(smoothing!G55=\"\",\"\",smoothing!F55)","v":""},{"$f":"IF(smoothing!K55=\"\",\"\",smoothing!J55)","v":""}]
[{"$f":"IF(smoothing!A56=\"out of range\",\"out of range\",\"\")","v":""},{"$f":"IF(ISBLANK(data!A60),\"\",data!A60)","v":""},{"$f":"IF(ISBLANK(data!B60),\"\",data!B60)","v":""},{"$f":"IF(ISBLANK(data!$A60),\"\",IF(ISBLANK(data!$B60),\"\",IF(ISBLANK(data!$C60),\"\",IF(ISBLANK(data!D60),\"\",data!G60))))","v":""},{"$f":"IF(ISBLANK(data!$A60),\"\",IF(ISBLANK(data!$B60),\"\",IF(ISBLANK(data!$C60),\"\",IF(ISBLANK(data!E60),\"\",data!H60))))","v":""},{"$f":"IF(ISBLANK(data!$A60),\"\",IF(ISBLANK(data!$B60),\"\",IF(ISBLANK(data!$C60),\"\",IF(ISBLANK(data!F60),\"\",data!I60))))","v":""},{"$f":"IF(smoothing!C56=\"\",\"\",smoothing!B56)","v":""},{"$f":"IF(smoothing!G56=\"\",\"\",smoothing!F56)","v":""},{"$f":"IF(smoothing!K56=\"\",\"\",smoothing!J56)","v":""}]
[{"$f":"IF(smoothing!A57=\"out of range\",\"out of range\",\"\")","v":""},{"$f":"IF(ISBLANK(data!A61),\"\",data!A61)","v":""},{"$f":"IF(ISBLANK(data!B61),\"\",data!B61)","v":""},{"$f":"IF(ISBLANK(data!$A61),\"\",IF(ISBLANK(data!$B61),\"\",IF(ISBLANK(data!$C61),\"\",IF(ISBLANK(data!D61),\"\",data!G61))))","v":""},{"$f":"IF(ISBLANK(data!$A61),\"\",IF(ISBLANK(data!$B61),\"\",IF(ISBLANK(data!$C61),\"\",IF(ISBLANK(data!E61),\"\",data!H61))))","v":""},{"$f":"IF(ISBLANK(data!$A61),\"\",IF(ISBLANK(data!$B61),\"\",IF(ISBLANK(data!$C61),\"\",IF(ISBLANK(data!F61),\"\",data!I61))))","v":""},{"$f":"IF(smoothing!C57=\"\",\"\",smoothing!B57)","v":""},{"$f":"IF(smoothing!G57=\"\",\"\",smoothing!F57)","v":""},{"$f":"IF(smoothing!K57=\"\",\"\",smoothing!J57)","v":""}]
[{"$f":"IF(smoothing!A58=\"out of range\",\"out of range\",\"\")","v":""},{"$f":"IF(ISBLANK(data!A62),\"\",data!A62)","v":""},{"$f":"IF(ISBLANK(data!B62),\"\",data!B62)","v":""},{"$f":"IF(ISBLANK(data!$A62),\"\",IF(ISBLANK(data!$B62),\"\",IF(ISBLANK(data!$C62),\"\",IF(ISBLANK(data!D62),\"\",data!G62))))","v":""},{"$f":"IF(ISBLANK(data!$A62),\"\",IF(ISBLANK(data!$B62),\"\",IF(ISBLANK(data!$C62),\"\",IF(ISBLANK(data!E62),\"\",data!H62))))","v":""},{"$f":"IF(ISBLANK(data!$A62),\"\",IF(ISBLANK(data!$B62),\"\",IF(ISBLANK(data!$C62),\"\",IF(ISBLANK(data!F62),\"\",data!I62))))","v":""},{"$f":"IF(smoothing!C58=\"\",\"\",smoothing!B58)","v":""},{"$f":"IF(smoothing!G58=\"\",\"\",smoothing!F58)","v":""},{"$f":"IF(smoothing!K58=\"\",\"\",smoothing!J58)","v":""}]
[{"$f":"IF(smoothing!A59=\"out of range\",\"out of range\",\"\")","v":""},{"$f":"IF(ISBLANK(data!A63),\"\",data!A63)","v":""},{"$f":"IF(ISBLANK(data!B63),\"\",data!B63)","v":""},{"$f":"IF(ISBLANK(data!$A63),\"\",IF(ISBLANK(data!$B63),\"\",IF(ISBLANK(data!$C63),\"\",IF(ISBLANK(data!D63),\"\",data!G63))))","v":""},{"$f":"IF(ISBLANK(data!$A63),\"\",IF(ISBLANK(data!$B63),\"\",IF(ISBLANK(data!$C63),\"\",IF(ISBLANK(data!E63),\"\",data!H63))))","v":""},{"$f":"IF(ISBLANK(data!$A63),\"\",IF(ISBLANK(data!$B63),\"\",IF(ISBLANK(data!$C63),\"\",IF(ISBLANK(data!F63),\"\",data!I63))))","v":""},{"$f":"IF(smoothing!C59=\"\",\"\",smoothing!B59)","v":""},{"$f":"IF(smoothing!G59=\"\",\"\",smoothing!F59)","v":""},{"$f":"IF(smoothing!K59=\"\",\"\",smoothing!J59)","v":""}]
[{"$f":"IF(smoothing!A60=\"out of range\",\"out of range\",\"\")","v":""},{"$f":"IF(ISBLANK(data!A64),\"\",data!A64)","v":""},{"$f":"IF(ISBLANK(data!B64),\"\",data!B64)","v":""},{"$f":"IF(ISBLANK(data!$A64),\"\",IF(ISBLANK(data!$B64),\"\",IF(ISBLANK(data!$C64),\"\",IF(ISBLANK(data!D64),\"\",data!G64))))","v":""},{"$f":"IF(ISBLANK(data!$A64),\"\",IF(ISBLANK(data!$B64),\"\",IF(ISBLANK(data!$C64),\"\",IF(ISBLANK(data!E64),\"\",data!H64))))","v":""},{"$f":"IF(ISBLANK(data!$A64),\"\",IF(ISBLANK(data!$B64),\"\",IF(ISBLANK(data!$C64),\"\",IF(ISBLANK(data!F64),\"\",data!I64))))","v":""},{"$f":"IF(smoothing!C60=\"\",\"\",smoothing!B60)","v":""},{"$f":"IF(smoothing!G60=\"\",\"\",smoothing!F60)","v":""},{"$f":"IF(smoothing!K60=\"\",\"\",smoothing!J60)","v":""}]
[{"$f":"IF(smoothing!A61=\"out of range\",\"out of range\",\"\")","v":""},{"$f":"IF(ISBLANK(data!A65),\"\",data!A65)","v":""},{"$f":"IF(ISBLANK(data!B65),\"\",data!B65)","v":""},{"$f":"IF(ISBLANK(data!$A65),\"\",IF(ISBLANK(data!$B65),\"\",IF(ISBLANK(data!$C65),\"\",IF(ISBLANK(data!D65),\"\",data!G65))))","v":""},{"$f":"IF(ISBLANK(data!$A65),\"\",IF(ISBLANK(data!$B65),\"\",IF(ISBLANK(data!$C65),\"\",IF(ISBLANK(data!E65),\"\",data!H65))))","v":""},{"$f":"IF(ISBLANK(data!$A65),\"\",IF(ISBLANK(data!$B65),\"\",IF(ISBLANK(data!$C65),\"\",IF(ISBLANK(data!F65),\"\",data!I65))))","v":""},{"$f":"IF(smoothing!C61=\"\",\"\",smoothing!B61)","v":""},{"$f":"IF(smoothing!G61=\"\",\"\",smoothing!F61)","v":""},{"$f":"IF(smoothing!K61=\"\",\"\",smoothing!J61)","v":""}]
[{"$f":"IF(smoothing!A62=\"out of range\",\"out of range\",\"\")","v":""},{"$f":"IF(ISBLANK(data!A66),\"\",data!A66)","v":""},{"$f":"IF(ISBLANK(data!B66),\"\",data!B66)","v":""},{"$f":"IF(ISBLANK(data!$A66),\"\",IF(ISBLANK(data!$B66),\"\",IF(ISBLANK(data!$C66),\"\",IF(ISBLANK(data!D66),\"\",data!G66))))","v":""},{"$f":"IF(ISBLANK(data!$A66),\"\",IF(ISBLANK(data!$B66),\"\",IF(ISBLANK(data!$C66),\"\",IF(ISBLANK(data!E66),\"\",data!H66))))","v":""},{"$f":"IF(ISBLANK(data!$A66),\"\",IF(ISBLANK(data!$B66),\"\",IF(ISBLANK(data!$C66),\"\",IF(ISBLANK(data!F66),\"\",data!I66))))","v":""},{"$f":"IF(smoothing!C62=\"\",\"\",smoothing!B62)","v":""},{"$f":"IF(smoothing!G62=\"\",\"\",smoothing!F62)","v":""},{"$f":"IF(smoothing!K62=\"\",\"\",smoothing!J62)","v":""}]
[{"$f":"IF(smoothing!A63=\"out of range\",\"out of range\",\"\")","v":""},{"$f":"IF(ISBLANK(data!A67),\"\",data!A67)","v":""},{"$f":"IF(ISBLANK(data!B67),\"\",data!B67)","v":""},{"$f":"IF(ISBLANK(data!$A67),\"\",IF(ISBLANK(data!$B67),\"\",IF(ISBLANK(data!$C67),\"\",IF(ISBLANK(data!D67),\"\",data!G67))))","v":""},{"$f":"IF(ISBLANK(data!$A67),\"\",IF(ISBLANK(data!$B67),\"\",IF(ISBLANK(data!$C67),\"\",IF(ISBLANK(data!E67),\"\",data!H67))))","v":""},{"$f":"IF(ISBLANK(data!$A67),\"\",IF(ISBLANK(data!$B67),\"\",IF(ISBLANK(data!$C67),\"\",IF(ISBLANK(data!F67),\"\",data!I67))))","v":""},{"$f":"IF(smoothing!C63=\"\",\"\",smoothing!B63)","v":""},{"$f":"IF(smoothing!G63=\"\",\"\",smoothing!F63)","v":""},{"$f":"IF(smoothing!K63=\"\",\"\",smoothing!J63)","v":""}]
[{"$f":"IF(smoothing!A64=\"out of range\",\"out of range\",\"\")","v":""},{"$f":"IF(ISBLANK(data!A68),\"\",data!A68)","v":""},{"$f":"IF(ISBLANK(data!B68),\"\",data!B68)","v":""},{"$f":"IF(ISBLANK(data!$A68),\"\",IF(ISBLANK(data!$B68),\"\",IF(ISBLANK(data!$C68),\"\",IF(ISBLANK(data!D68),\"\",data!G68))))","v":""},{"$f":"IF(ISBLANK(data!$A68),\"\",IF(ISBLANK(data!$B68),\"\",IF(ISBLANK(data!$C68),\"\",IF(ISBLANK(data!E68),\"\",data!H68))))","v":""},{"$f":"IF(ISBLANK(data!$A68),\"\",IF(ISBLANK(data!$B68),\"\",IF(ISBLANK(data!$C68),\"\",IF(ISBLANK(data!F68),\"\",data!I68))))","v":""},{"$f":"IF(smoothing!C64=\"\",\"\",smoothing!B64)","v":""},{"$f":"IF(smoothing!G64=\"\",\"\",smoothing!F64)","v":""},{"$f":"IF(smoothing!K64=\"\",\"\",smoothing!J64)","v":""}]
[{"$f":"IF(smoothing!A65=\"out of range\",\"out of range\",\"\")","v":""},{"$f":"IF(ISBLANK(data!A69),\"\",data!A69)","v":""},{"$f":"IF(ISBLANK(data!B69),\"\",data!B69)","v":""},{"$f":"IF(ISBLANK(data!$A69),\"\",IF(ISBLANK(data!$B69),\"\",IF(ISBLANK(data!$C69),\"\",IF(ISBLANK(data!D69),\"\",data!G69))))","v":""},{"$f":"IF(ISBLANK(data!$A69),\"\",IF(ISBLANK(data!$B69),\"\",IF(ISBLANK(data!$C69),\"\",IF(ISBLANK(data!E69),\"\",data!H69))))","v":""},{"$f":"IF(ISBLANK(data!$A69),\"\",IF(ISBLANK(data!$B69),\"\",IF(ISBLANK(data!$C69),\"\",IF(ISBLANK(data!F69),\"\",data!I69))))","v":""},{"$f":"IF(smoothing!C65=\"\",\"\",smoothing!B65)","v":""},{"$f":"IF(smoothing!G65=\"\",\"\",smoothing!F65)","v":""},{"$f":"IF(smoothing!K65=\"\",\"\",smoothing!J65)","v":""}]
[{"$f":"IF(smoothing!A66=\"out of range\",\"out of range\",\"\")","v":""},{"$f":"IF(ISBLANK(data!A70),\"\",data!A70)","v":""},{"$f":"IF(ISBLANK(data!B70),\"\",data!B70)","v":""},{"$f":"IF(ISBLANK(data!$A70),\"\",IF(ISBLANK(data!$B70),\"\",IF(ISBLANK(data!$C70),\"\",IF(ISBLANK(data!D70),\"\",data!G70))))","v":""},{"$f":"IF(ISBLANK(data!$A70),\"\",IF(ISBLANK(data!$B70),\"\",IF(ISBLANK(data!$C70),\"\",IF(ISBLANK(data!E70),\"\",data!H70))))","v":""},{"$f":"IF(ISBLANK(data!$A70),\"\",IF(ISBLANK(data!$B70),\"\",IF(ISBLANK(data!$C70),\"\",IF(ISBLANK(data!F70),\"\",data!I70))))","v":""},{"$f":"IF(smoothing!C66=\"\",\"\",smoothing!B66)","v":""},{"$f":"IF(smoothing!G66=\"\",\"\",smoothing!F66)","v":""},{"$f":"IF(smoothing!K66=\"\",\"\",smoothing!J66)","v":""}]
[{"$f":"IF(smoothing!A67=\"out of range\",\"out of range\",\"\")","v":""},{"$f":"IF(ISBLANK(data!A71),\"\",data!A71)","v":""},{"$f":"IF(ISBLANK(data!B71),\"\",data!B71)","v":""},{"$f":"IF(ISBLANK(data!$A71),\"\",IF(ISBLANK(data!$B71),\"\",IF(ISBLANK(data!$C71),\"\",IF(ISBLANK(data!D71),\"\",data!G71))))","v":""},{"$f":"IF(ISBLANK(data!$A71),\"\",IF(ISBLANK(data!$B71),\"\",IF(ISBLANK(data!$C71),\"\",IF(ISBLANK(data!E71),\"\",data!H71))))","v":""},{"$f":"IF(ISBLANK(data!$A71),\"\",IF(ISBLANK(data!$B71),\"\",IF(ISBLANK(data!$C71),\"\",IF(ISBLANK(data!F71),\"\",data!I71))))","v":""},{"$f":"IF(smoothing!C67=\"\",\"\",smoothing!B67)","v":""},{"$f":"IF(smoothing!G67=\"\",\"\",smoothing!F67)","v":""},{"$f":"IF(smoothing!K67=\"\",\"\",smoothing!J67)","v":""}]
[{"$f":"IF(smoothing!A68=\"out of range\",\"out of range\",\"\")","v":""},{"$f":"IF(ISBLANK(data!A72),\"\",data!A72)","v":""},{"$f":"IF(ISBLANK(data!B72),\"\",data!B72)","v":""},{"$f":"IF(ISBLANK(data!$A72),\"\",IF(ISBLANK(data!$B72),\"\",IF(ISBLANK(data!$C72),\"\",IF(ISBLANK(data!D72),\"\",data!G72))))","v":""},{"$f":"IF(ISBLANK(data!$A72),\"\",IF(ISBLANK(data!$B72),\"\",IF(ISBLANK(data!$C72),\"\",IF(ISBLANK(data!E72),\"\",data!H72))))","v":""},{"$f":"IF(ISBLANK(data!$A72),\"\",IF(ISBLANK(data!$B72),\"\",IF(ISBLANK(data!$C72),\"\",IF(ISBLANK(data!F72),\"\",data!I72))))","v":""},{"$f":"IF(smoothing!C68=\"\",\"\",smoothing!B68)","v":""},{"$f":"IF(smoothing!G68=\"\",\"\",smoothing!F68)","v":""},{"$f":"IF(smoothing!K68=\"\",\"\",smoothing!J68)","v":""}]
[{"$f":"IF(smoothing!A69=\"out of range\",\"out of range\",\"\")","v":""},{"$f":"IF(ISBLANK(data!A73),\"\",data!A73)","v":""},{"$f":"IF(ISBLANK(data!B73),\"\",data!B73)","v":""},{"$f":"IF(ISBLANK(data!$A73),\"\",IF(ISBLANK(data!$B73),\"\",IF(ISBLANK(data!$C73),\"\",IF(ISBLANK(data!D73),\"\",data!G73))))","v":""},{"$f":"IF(ISBLANK(data!$A73),\"\",IF(ISBLANK(data!$B73),\"\",IF(ISBLANK(data!$C73),\"\",IF(ISBLANK(data!E73),\"\",data!H73))))","v":""},{"$f":"IF(ISBLANK(data!$A73),\"\",IF(ISBLANK(data!$B73),\"\",IF(ISBLANK(data!$C73),\"\",IF(ISBLANK(data!F73),\"\",data!I73))))","v":""},{"$f":"IF(smoothing!C69=\"\",\"\",smoothing!B69)","v":""},{"$f":"IF(smoothing!G69=\"\",\"\",smoothing!F69)","v":""},{"$f":"IF(smoothing!K69=\"\",\"\",smoothing!J69)","v":""}]
[{"$f":"IF(smoothing!A70=\"out of range\",\"out of range\",\"\")","v":""},{"$f":"IF(ISBLANK(data!A74),\"\",data!A74)","v":""},{"$f":"IF(ISBLANK(data!B74),\"\",data!B74)","v":""},{"$f":"IF(ISBLANK(data!$A74),\"\",IF(ISBLANK(data!$B74),\"\",IF(ISBLANK(data!$C74),\"\",IF(ISBLANK(data!D74),\"\",data!G74))))","v":""},{"$f":"IF(ISBLANK(data!$A74),\"\",IF(ISBLANK(data!$B74),\"\",IF(ISBLANK(data!$C74),\"\",IF(ISBLANK(data!E74),\"\",data!H74))))","v":""},{"$f":"IF(ISBLANK(data!$A74),\"\",IF(ISBLANK(data!$B74),\"\",IF(ISBLANK(data!$C74),\"\",IF(ISBLANK(data!F74),\"\",data!I74))))","v":""},{"$f":"IF(smoothing!C70=\"\",\"\",smoothing!B70)","v":""},{"$f":"IF(smoothing!G70=\"\",\"\",smoothing!F70)","v":""},{"$f":"IF(smoothing!K70=\"\",\"\",smoothing!J70)","v":""}]
[{"$f":"IF(smoothing!A71=\"out of range\",\"out of range\",\"\")","v":""},{"$f":"IF(ISBLANK(data!A75),\"\",data!A75)","v":""},{"$f":"IF(ISBLANK(data!B75),\"\",data!B75)","v":""},{"$f":"IF(ISBLANK(data!$A75),\"\",IF(ISBLANK(data!$B75),\"\",IF(ISBLANK(data!$C75),\"\",IF(ISBLANK(data!D75),\"\",data!G75))))","v":""},{"$f":"IF(ISBLANK(data!$A75),\"\",IF(ISBLANK(data!$B75),\"\",IF(ISBLANK(data!$C75),\"\",IF(ISBLANK(data!E75),\"\",data!H75))))","v":""},{"$f":"IF(ISBLANK(data!$A75),\"\",IF(ISBLANK(data!$B75),\"\",IF(ISBLANK(data!$C75),\"\",IF(ISBLANK(data!F75),\"\",data!I75))))","v":""},{"$f":"IF(smoothing!C71=\"\",\"\",smoothing!B71)","v":""},{"$f":"IF(smoothing!G71=\"\",\"\",smoothing!F71)","v":""},{"$f":"IF(smoothing!K71=\"\",\"\",smoothing!J71)","v":""}]
[{"$f":"IF(smoothing!A72=\"out of range\",\"out of range\",\"\")","v":""},{"$f":"IF(ISBLANK(data!A76),\"\",data!A76)","v":""},{"$f":"IF(ISBLANK(data!B76),\"\",data!B76)","v":""},{"$f":"IF(ISBLANK(data!$A76),\"\",IF(ISBLANK(data!$B76),\"\",IF(ISBLANK(data!$C76),\"\",IF(ISBLANK(data!D76),\"\",data!G76))))","v":""},{"$f":"IF(ISBLANK(data!$A76),\"\",IF(ISBLANK(data!$B76),\"\",IF(ISBLANK(data!$C76),\"\",IF(ISBLANK(data!E76),\"\",data!H76))))","v":""},{"$f":"IF(ISBLANK(data!$A76),\"\",IF(ISBLANK(data!$B76),\"\",IF(ISBLANK(data!$C76),\"\",IF(ISBLANK(data!F76),\"\",data!I76))))","v":""},{"$f":"IF(smoothing!C72=\"\",\"\",smoothing!B72)","v":""},{"$f":"IF(smoothing!G72=\"\",\"\",smoothing!F72)","v":""},{"$f":"IF(smoothing!K72=\"\",\"\",smoothing!J72)","v":""}]
[{"$f":"IF(smoothing!A73=\"out of range\",\"out of range\",\"\")","v":""},{"$f":"IF(ISBLANK(data!A77),\"\",data!A77)","v":""},{"$f":"IF(ISBLANK(data!B77),\"\",data!B77)","v":""},{"$f":"IF(ISBLANK(data!$A77),\"\",IF(ISBLANK(data!$B77),\"\",IF(ISBLANK(data!$C77),\"\",IF(ISBLANK(data!D77),\"\",data!G77))))","v":""},{"$f":"IF(ISBLANK(data!$A77),\"\",IF(ISBLANK(data!$B77),\"\",IF(ISBLANK(data!$C77),\"\",IF(ISBLANK(data!E77),\"\",data!H77))))","v":""},{"$f":"IF(ISBLANK(data!$A77),\"\",IF(ISBLANK(data!$B77),\"\",IF(ISBLANK(data!$C77),\"\",IF(ISBLANK(data!F77),\"\",data!I77))))","v":""},{"$f":"IF(smoothing!C73=\"\",\"\",smoothing!B73)","v":""},{"$f":"IF(smoothing!G73=\"\",\"\",smoothing!F73)","v":""},{"$f":"IF(smoothing!K73=\"\",\"\",smoothing!J73)","v":""}]
[{"$f":"IF(smoothing!A74=\"out of range\",\"out of range\",\"\")","v":""},{"$f":"IF(ISBLANK(data!A78),\"\",data!A78)","v":""},{"$f":"IF(ISBLANK(data!B78),\"\",data!B78)","v":""},{"$f":"IF(ISBLANK(data!$A78),\"\",IF(ISBLANK(data!$B78),\"\",IF(ISBLANK(data!$C78),\"\",IF(ISBLANK(data!D78),\"\",data!G78))))","v":""},{"$f":"IF(ISBLANK(data!$A78),\"\",IF(ISBLANK(data!$B78),\"\",IF(ISBLANK(data!$C78),\"\",IF(ISBLANK(data!E78),\"\",data!H78))))","v":""},{"$f":"IF(ISBLANK(data!$A78),\"\",IF(ISBLANK(data!$B78),\"\",IF(ISBLANK(data!$C78),\"\",IF(ISBLANK(data!F78),\"\",data!I78))))","v":""},{"$f":"IF(smoothing!C74=\"\",\"\",smoothing!B74)","v":""},{"$f":"IF(smoothing!G74=\"\",\"\",smoothing!F74)","v":""},{"$f":"IF(smoothing!K74=\"\",\"\",smoothing!J74)","v":""}]
[{"$f":"IF(smoothing!A75=\"out of range\",\"out of range\",\"\")","v":""},{"$f":"IF(ISBLANK(data!A79),\"\",data!A79)","v":""},{"$f":"IF(ISBLANK(data!B79),\"\",data!B79)","v":""},{"$f":"IF(ISBLANK(data!$A79),\"\",IF(ISBLANK(data!$B79),\"\",IF(ISBLANK(data!$C79),\"\",IF(ISBLANK(data!D79),\"\",data!G79))))","v":""},{"$f":"IF(ISBLANK(data!$A79),\"\",IF(ISBLANK(data!$B79),\"\",IF(ISBLANK(data!$C79),\"\",IF(ISBLANK(data!E79),\"\",data!H79))))","v":""},{"$f":"IF(ISBLANK(data!$A79),\"\",IF(ISBLANK(data!$B79),\"\",IF(ISBLANK(data!$C79),\"\",IF(ISBLANK(data!F79),\"\",data!I79))))","v":""},{"$f":"IF(smoothing!C75=\"\",\"\",smoothing!B75)","v":""},{"$f":"IF(smoothing!G75=\"\",\"\",smoothing!F75)","v":""},{"$f":"IF(smoothing!K75=\"\",\"\",smoothing!J75)","v":""}]
[{"$f":"IF(smoothing!A76=\"out of range\",\"out of range\",\"\")","v":""},{"$f":"IF(ISBLANK(data!A80),\"\",data!A80)","v":""},{"$f":"IF(ISBLANK(data!B80),\"\",data!B80)","v":""},{"$f":"IF(ISBLANK(data!$A80),\"\",IF(ISBLANK(data!$B80),\"\",IF(ISBLANK(data!$C80),\"\",IF(ISBLANK(data!D80),\"\",data!G80))))","v":""},{"$f":"IF(ISBLANK(data!$A80),\"\",IF(ISBLANK(data!$B80),\"\",IF(ISBLANK(data!$C80),\"\",IF(ISBLANK(data!E80),\"\",data!H80))))","v":""},{"$f":"IF(ISBLANK(data!$A80),\"\",IF(ISBLANK(data!$B80),\"\",IF(ISBLANK(data!$C80),\"\",IF(ISBLANK(data!F80),\"\",data!I80))))","v":""},{"$f":"IF(smoothing!C76=\"\",\"\",smoothing!B76)","v":""},{"$f":"IF(smoothing!G76=\"\",\"\",smoothing!F76)","v":""},{"$f":"IF(smoothing!K76=\"\",\"\",smoothing!J76)","v":""}]
[{"$f":"IF(smoothing!A77=\"out of range\",\"out of range\",\"\")","v":""},{"$f":"IF(ISBLANK(data!A81),\"\",data!A81)","v":""},{"$f":"IF(ISBLANK(data!B81),\"\",data!B81)","v":""},{"$f":"IF(ISBLANK(data!$A81),\"\",IF(ISBLANK(data!$B81),\"\",IF(ISBLANK(data!$C81),\"\",IF(ISBLANK(data!D81),\"\",data!G81))))","v":""},{"$f":"IF(ISBLANK(data!$A81),\"\",IF(ISBLANK(data!$B81),\"\",IF(ISBLANK(data!$C81),\"\",IF(ISBLANK(data!E81),\"\",data!H81))))","v":""},{"$f":"IF(ISBLANK(data!$A81),\"\",IF(ISBLANK(data!$B81),\"\",IF(ISBLANK(data!$C81),\"\",IF(ISBLANK(data!F81),\"\",data!I81))))","v":""},{"$f":"IF(smoothing!C77=\"\",\"\",smoothing!B77)","v":""},{"$f":"IF(smoothing!G77=\"\",\"\",smoothing!F77)","v":""},{"$f":"IF(smoothing!K77=\"\",\"\",smoothing!J77)","v":""}]
[{"$f":"IF(smoothing!A78=\"out of range\",\"out of range\",\"\")","v":""},{"$f":"IF(ISBLANK(data!A82),\"\",data!A82)","v":""},{"$f":"IF(ISBLANK(data!B82),\"\",data!B82)","v":""},{"$f":"IF(ISBLANK(data!$A82),\"\",IF(ISBLANK(data!$B82),\"\",IF(ISBLANK(data!$C82),\"\",IF(ISBLANK(data!D82),\"\",data!G82))))","v":""},{"$f":"IF(ISBLANK(data!$A82),\"\",IF(ISBLANK(data!$B82),\"\",IF(ISBLANK(data!$C82),\"\",IF(ISBLANK(data!E82),\"\",data!H82))))","v":""},{"$f":"IF(ISBLANK(data!$A82),\"\",IF(ISBLANK(data!$B82),\"\",IF(ISBLANK(data!$C82),\"\",IF(ISBLANK(data!F82),\"\",data!I82))))","v":""},{"$f":"IF(smoothing!C78=\"\",\"\",smoothing!B78)","v":""},{"$f":"IF(smoothing!G78=\"\",\"\",smoothing!F78)","v":""},{"$f":"IF(smoothing!K78=\"\",\"\",smoothing!J78)","v":""}]
[{"$f":"IF(smoothing!A79=\"out of range\",\"out of range\",\"\")","v":""},{"$f":"IF(ISBLANK(data!A83),\"\",data!A83)","v":""},{"$f":"IF(ISBLANK(data!B83),\"\",data!B83)","v":""},{"$f":"IF(ISBLANK(data!$A83),\"\",IF(ISBLANK(data!$B83),\"\",IF(ISBLANK(data!$C83),\"\",IF(ISBLANK(data!D83),\"\",data!G83))))","v":""},{"$f":"IF(ISBLANK(data!$A83),\"\",IF(ISBLANK(data!$B83),\"\",IF(ISBLANK(data!$C83),\"\",IF(ISBLANK(data!E83),\"\",data!H83))))","v":""},{"$f":"IF(ISBLANK(data!$A83),\"\",IF(ISBLANK(data!$B83),\"\",IF(ISBLANK(data!$C83),\"\",IF(ISBLANK(data!F83),\"\",data!I83))))","v":""},{"$f":"IF(smoothing!C79=\"\",\"\",smoothing!B79)","v":""},{"$f":"IF(smoothing!G79=\"\",\"\",smoothing!F79)","v":""},{"$f":"IF(smoothing!K79=\"\",\"\",smoothing!J79)","v":""}]
[{"$f":"IF(smoothing!A80=\"out of range\",\"out of range\",\"\")","v":""},{"$f":"IF(ISBLANK(data!A84),\"\",data!A84)","v":""},{"$f":"IF(ISBLANK(data!B84),\"\",data!B84)","v":""},{"$f":"IF(ISBLANK(data!$A84),\"\",IF(ISBLANK(data!$B84),\"\",IF(ISBLANK(data!$C84),\"\",IF(ISBLANK(data!D84),\"\",data!G84))))","v":""},{"$f":"IF(ISBLANK(data!$A84),\"\",IF(ISBLANK(data!$B84),\"\",IF(ISBLANK(data!$C84),\"\",IF(ISBLANK(data!E84),\"\",data!H84))))","v":""},{"$f":"IF(ISBLANK(data!$A84),\"\",IF(ISBLANK(data!$B84),\"\",IF(ISBLANK(data!$C84),\"\",IF(ISBLANK(data!F84),\"\",data!I84))))","v":""},{"$f":"IF(smoothing!C80=\"\",\"\",smoothing!B80)","v":""},{"$f":"IF(smoothing!G80=\"\",\"\",smoothing!F80)","v":""},{"$f":"IF(smoothing!K80=\"\",\"\",smoothing!J80)","v":""}]
[{"$f":"IF(smoothing!A81=\"out of range\",\"out of range\",\"\")","v":""},{"$f":"IF(ISBLANK(data!A85),\"\",data!A85)","v":""},{"$f":"IF(ISBLANK(data!B85),\"\",data!B85)","v":""},{"$f":"IF(ISBLANK(data!$A85),\"\",IF(ISBLANK(data!$B85),\"\",IF(ISBLANK(data!$C85),\"\",IF(ISBLANK(data!D85),\"\",data!G85))))","v":""},{"$f":"IF(ISBLANK(data!$A85),\"\",IF(ISBLANK(data!$B85),\"\",IF(ISBLANK(data!$C85),\"\",IF(ISBLANK(data!E85),\"\",data!H85))))","v":""},{"$f":"IF(ISBLANK(data!$A85),\"\",IF(ISBLANK(data!$B85),\"\",IF(ISBLANK(data!$C85),\"\",IF(ISBLANK(data!F85),\"\",data!I85))))","v":""},{"$f":"IF(smoothing!C81=\"\",\"\",smoothing!B81)","v":""},{"$f":"IF(smoothing!G81=\"\",\"\",smoothing!F81)","v":""},{"$f":"IF(smoothing!K81=\"\",\"\",smoothing!J81)","v":""}]
[{"$f":"IF(smoothing!A82=\"out of range\",\"out of range\",\"\")","v":""},{"$f":"IF(ISBLANK(data!A86),\"\",data!A86)","v":""},{"$f":"IF(ISBLANK(data!B86),\"\",data!B86)","v":""},{"$f":"IF(ISBLANK(data!$A86),\"\",IF(ISBLANK(data!$B86),\"\",IF(ISBLANK(data!$C86),\"\",IF(ISBLANK(data!D86),\"\",data!G86))))","v":""},{"$f":"IF(ISBLANK(data!$A86),\"\",IF(ISBLANK(data!$B86),\"\",IF(ISBLANK(data!$C86),\"\",IF(ISBLANK(data!E86),\"\",data!H86))))","v":""},{"$f":"IF(ISBLANK(data!$A86),\"\",IF(ISBLANK(data!$B86),\"\",IF(ISBLANK(data!$C86),\"\",IF(ISBLANK(data!F86),\"\",data!I86))))","v":""},{"$f":"IF(smoothing!C82=\"\",\"\",smoothing!B82)","v":""},{"$f":"IF(smoothing!G82=\"\",\"\",smoothing!F82)","v":""},{"$f":"IF(smoothing!K82=\"\",\"\",smoothing!J82)","v":""}]
[{"$f":"IF(smoothing!A83=\"out of range\",\"out of range\",\"\")","v":""},{"$f":"IF(ISBLANK(data!A87),\"\",data!A87)","v":""},{"$f":"IF(ISBLANK(data!B87),\"\",data!B87)","v":""},{"$f":"IF(ISBLANK(data!$A87),\"\",IF(ISBLANK(data!$B87),\"\",IF(ISBLANK(data!$C87),\"\",IF(ISBLANK(data!D87),\"\",data!G87))))","v":""},{"$f":"IF(ISBLANK(data!$A87),\"\",IF(ISBLANK(data!$B87),\"\",IF(ISBLANK(data!$C87),\"\",IF(ISBLANK(data!E87),\"\",data!H87))))","v":""},{"$f":"IF(ISBLANK(data!$A87),\"\",IF(ISBLANK(data!$B87),\"\",IF(ISBLANK(data!$C87),\"\",IF(ISBLANK(data!F87),\"\",data!I87))))","v":""},{"$f":"IF(smoothing!C83=\"\",\"\",smoothing!B83)","v":""},{"$f":"IF(smoothing!G83=\"\",\"\",smoothing!F83)","v":""},{"$f":"IF(smoothing!K83=\"\",\"\",smoothing!J83)","v":""}]
[{"$f":"IF(smoothing!A84=\"out of range\",\"out of range\",\"\")","v":""},{"$f":"IF(ISBLANK(data!A88),\"\",data!A88)","v":""},{"$f":"IF(ISBLANK(data!B88),\"\",data!B88)","v":""},{"$f":"IF(ISBLANK(data!$A88),\"\",IF(ISBLANK(data!$B88),\"\",IF(ISBLANK(data!$C88),\"\",IF(ISBLANK(data!D88),\"\",data!G88))))","v":""},{"$f":"IF(ISBLANK(data!$A88),\"\",IF(ISBLANK(data!$B88),\"\",IF(ISBLANK(data!$C88),\"\",IF(ISBLANK(data!E88),\"\",data!H88))))","v":""},{"$f":"IF(ISBLANK(data!$A88),\"\",IF(ISBLANK(data!$B88),\"\",IF(ISBLANK(data!$C88),\"\",IF(ISBLANK(data!F88),\"\",data!I88))))","v":""},{"$f":"IF(smoothing!C84=\"\",\"\",smoothing!B84)","v":""},{"$f":"IF(smoothing!G84=\"\",\"\",smoothing!F84)","v":""},{"$f":"IF(smoothing!K84=\"\",\"\",smoothing!J84)","v":""}]
[{"$f":"IF(smoothing!A85=\"out of range\",\"out of range\",\"\")","v":""},{"$f":"IF(ISBLANK(data!A89),\"\",data!A89)","v":""},{"$f":"IF(ISBLANK(data!B89),\"\",data!B89)","v":""},{"$f":"IF(ISBLANK(data!$A89),\"\",IF(ISBLANK(data!$B89),\"\",IF(ISBLANK(data!$C89),\"\",IF(ISBLANK(data!D89),\"\",data!G89))))","v":""},{"$f":"IF(ISBLANK(data!$A89),\"\",IF(ISBLANK(data!$B89),\"\",IF(ISBLANK(data!$C89),\"\",IF(ISBLANK(data!E89),\"\",data!H89))))","v":""},{"$f":"IF(ISBLANK(data!$A89),\"\",IF(ISBLANK(data!$B89),\"\",IF(ISBLANK(data!$C89),\"\",IF(ISBLANK(data!F89),\"\",data!I89))))","v":""},{"$f":"IF(smoothing!C85=\"\",\"\",smoothing!B85)","v":""},{"$f":"IF(smoothing!G85=\"\",\"\",smoothing!F85)","v":""},{"$f":"IF(smoothing!K85=\"\",\"\",smoothing!J85)","v":""}]
[{"$f":"IF(smoothing!A86=\"out of range\",\"out of range\",\"\")","v":""},{"$f":"IF(ISBLANK(data!A90),\"\",data!A90)","v":""},{"$f":"IF(ISBLANK(data!B90),\"\",data!B90)","v":""},{"$f":"IF(ISBLANK(data!$A90),\"\",IF(ISBLANK(data!$B90),\"\",IF(ISBLANK(data!$C90),\"\",IF(ISBLANK(data!D90),\"\",data!G90))))","v":""},{"$f":"IF(ISBLANK(data!$A90),\"\",IF(ISBLANK(data!$B90),\"\",IF(ISBLANK(data!$C90),\"\",IF(ISBLANK(data!E90),\"\",data!H90))))","v":""},{"$f":"IF(ISBLANK(data!$A90),\"\",IF(ISBLANK(data!$B90),\"\",IF(ISBLANK(data!$C90),\"\",IF(ISBLANK(data!F90),\"\",data!I90))))","v":""},{"$f":"IF(smoothing!C86=\"\",\"\",smoothing!B86)","v":""},{"$f":"IF(smoothing!G86=\"\",\"\",smoothing!F86)","v":""},{"$f":"IF(smoothing!K86=\"\",\"\",smoothing!J86)","v":""}]
[{"$f":"IF(smoothing!A87=\"out of range\",\"out of range\",\"\")","v":""},{"$f":"IF(ISBLANK(data!A91),\"\",data!A91)","v":""},{"$f":"IF(ISBLANK(data!B91),\"\",data!B91)","v":""},{"$f":"IF(ISBLANK(data!$A91),\"\",IF(ISBLANK(data!$B91),\"\",IF(ISBLANK(data!$C91),\"\",IF(ISBLANK(data!D91),\"\",data!G91))))","v":""},{"$f":"IF(ISBLANK(data!$A91),\"\",IF(ISBLANK(data!$B91),\"\",IF(ISBLANK(data!$C91),\"\",IF(ISBLANK(data!E91),\"\",data!H91))))","v":""},{"$f":"IF(ISBLANK(data!$A91),\"\",IF(ISBLANK(data!$B91),\"\",IF(ISBLANK(data!$C91),\"\",IF(ISBLANK(data!F91),\"\",data!I91))))","v":""},{"$f":"IF(smoothing!C87=\"\",\"\",smoothing!B87)","v":""},{"$f":"IF(smoothing!G87=\"\",\"\",smoothing!F87)","v":""},{"$f":"IF(smoothing!K87=\"\",\"\",smoothing!J87)","v":""}]
[{"$f":"IF(smoothing!A88=\"out of range\",\"out of range\",\"\")","v":""},{"$f":"IF(ISBLANK(data!A92),\"\",data!A92)","v":""},{"$f":"IF(ISBLANK(data!B92),\"\",data!B92)","v":""},{"$f":"IF(ISBLANK(data!$A92),\"\",IF(ISBLANK(data!$B92),\"\",IF(ISBLANK(data!$C92),\"\",IF(ISBLANK(data!D92),\"\",data!G92))))","v":""},{"$f":"IF(ISBLANK(data!$A92),\"\",IF(ISBLANK(data!$B92),\"\",IF(ISBLANK(data!$C92),\"\",IF(ISBLANK(data!E92),\"\",data!H92))))","v":""},{"$f":"IF(ISBLANK(data!$A92),\"\",IF(ISBLANK(data!$B92),\"\",IF(ISBLANK(data!$C92),\"\",IF(ISBLANK(data!F92),\"\",data!I92))))","v":""},{"$f":"IF(smoothing!C88=\"\",\"\",smoothing!B88)","v":""},{"$f":"IF(smoothing!G88=\"\",\"\",smoothing!F88)","v":""},{"$f":"IF(smoothing!K88=\"\",\"\",smoothing!J88)","v":""}]
[{"$f":"IF(smoothing!A89=\"out of range\",\"out of range\",\"\")","v":""},{"$f":"IF(ISBLANK(data!A93),\"\",data!A93)","v":""},{"$f":"IF(ISBLANK(data!B93),\"\",data!B93)","v":""},{"$f":"IF(ISBLANK(data!$A93),\"\",IF(ISBLANK(data!$B93),\"\",IF(ISBLANK(data!$C93),\"\",IF(ISBLANK(data!D93),\"\",data!G93))))","v":""},{"$f":"IF(ISBLANK(data!$A93),\"\",IF(ISBLANK(data!$B93),\"\",IF(ISBLANK(data!$C93),\"\",IF(ISBLANK(data!E93),\"\",data!H93))))","v":""},{"$f":"IF(ISBLANK(data!$A93),\"\",IF(ISBLANK(data!$B93),\"\",IF(ISBLANK(data!$C93),\"\",IF(ISBLANK(data!F93),\"\",data!I93))))","v":""},{"$f":"IF(smoothing!C89=\"\",\"\",smoothing!B89)","v":""},{"$f":"IF(smoothing!G89=\"\",\"\",smoothing!F89)","v":""},{"$f":"IF(smoothing!K89=\"\",\"\",smoothing!J89)","v":""}]
[{"$f":"IF(smoothing!A90=\"out of range\",\"out of range\",\"\")","v":""},{"$f":"IF(ISBLANK(data!A94),\"\",data!A94)","v":""},{"$f":"IF(ISBLANK(data!B94),\"\",data!B94)","v":""},{"$f":"IF(ISBLANK(data!$A94),\"\",IF(ISBLANK(data!$B94),\"\",IF(ISBLANK(data!$C94),\"\",IF(ISBLANK(data!D94),\"\",data!G94))))","v":""},{"$f":"IF(ISBLANK(data!$A94),\"\",IF(ISBLANK(data!$B94),\"\",IF(ISBLANK(data!$C94),\"\",IF(ISBLANK(data!E94),\"\",data!H94))))","v":""},{"$f":"IF(ISBLANK(data!$A94),\"\",IF(ISBLANK(data!$B94),\"\",IF(ISBLANK(data!$C94),\"\",IF(ISBLANK(data!F94),\"\",data!I94))))","v":""},{"$f":"IF(smoothing!C90=\"\",\"\",smoothing!B90)","v":""},{"$f":"IF(smoothing!G90=\"\",\"\",smoothing!F90)","v":""},{"$f":"IF(smoothing!K90=\"\",\"\",smoothing!J90)","v":""}]
[{"$f":"IF(smoothing!A91=\"out of range\",\"out of range\",\"\")","v":""},{"$f":"IF(ISBLANK(data!A95),\"\",data!A95)","v":""},{"$f":"IF(ISBLANK(data!B95),\"\",data!B95)","v":""},{"$f":"IF(ISBLANK(data!$A95),\"\",IF(ISBLANK(data!$B95),\"\",IF(ISBLANK(data!$C95),\"\",IF(ISBLANK(data!D95),\"\",data!G95))))","v":""},{"$f":"IF(ISBLANK(data!$A95),\"\",IF(ISBLANK(data!$B95),\"\",IF(ISBLANK(data!$C95),\"\",IF(ISBLANK(data!E95),\"\",data!H95))))","v":""},{"$f":"IF(ISBLANK(data!$A95),\"\",IF(ISBLANK(data!$B95),\"\",IF(ISBLANK(data!$C95),\"\",IF(ISBLANK(data!F95),\"\",data!I95))))","v":""},{"$f":"IF(smoothing!C91=\"\",\"\",smoothing!B91)","v":""},{"$f":"IF(smoothing!G91=\"\",\"\",smoothing!F91)","v":""},{"$f":"IF(smoothing!K91=\"\",\"\",smoothing!J91)","v":""}]
[{"$f":"IF(smoothing!A92=\"out of range\",\"out of range\",\"\")","v":""},{"$f":"IF(ISBLANK(data!A96),\"\",data!A96)","v":""},{"$f":"IF(ISBLANK(data!B96),\"\",data!B96)","v":""},{"$f":"IF(ISBLANK(data!$A96),\"\",IF(ISBLANK(data!$B96),\"\",IF(ISBLANK(data!$C96),\"\",IF(ISBLANK(data!D96),\"\",data!G96))))","v":""},{"$f":"IF(ISBLANK(data!$A96),\"\",IF(ISBLANK(data!$B96),\"\",IF(ISBLANK(data!$C96),\"\",IF(ISBLANK(data!E96),\"\",data!H96))))","v":""},{"$f":"IF(ISBLANK(data!$A96),\"\",IF(ISBLANK(data!$B96),\"\",IF(ISBLANK(data!$C96),\"\",IF(ISBLANK(data!F96),\"\",data!I96))))","v":""},{"$f":"IF(smoothing!C92=\"\",\"\",smoothing!B92)","v":""},{"$f":"IF(smoothing!G92=\"\",\"\",smoothing!F92)","v":""},{"$f":"IF(smoothing!K92=\"\",\"\",smoothing!J92)","v":""}]
[{"$f":"IF(smoothing!A93=\"out of range\",\"out of range\",\"\")","v":""},{"$f":"IF(ISBLANK(data!A97),\"\",data!A97)","v":""},{"$f":"IF(ISBLANK(data!B97),\"\",data!B97)","v":""},{"$f":"IF(ISBLANK(data!$A97),\"\",IF(ISBLANK(data!$B97),\"\",IF(ISBLANK(data!$C97),\"\",IF(ISBLANK(data!D97),\"\",data!G97))))","v":""},{"$f":"IF(ISBLANK(data!$A97),\"\",IF(ISBLANK(data!$B97),\"\",IF(ISBLANK(data!$C97),\"\",IF(ISBLANK(data!E97),\"\",data!H97))))","v":""},{"$f":"IF(ISBLANK(data!$A97),\"\",IF(ISBLANK(data!$B97),\"\",IF(ISBLANK(data!$C97),\"\",IF(ISBLANK(data!F97),\"\",data!I97))))","v":""},{"$f":"IF(smoothing!C93=\"\",\"\",smoothing!B93)","v":""},{"$f":"IF(smoothing!G93=\"\",\"\",smoothing!F93)","v":""},{"$f":"IF(smoothing!K93=\"\",\"\",smoothing!J93)","v":""}]
[{"$f":"IF(smoothing!A94=\"out of range\",\"out of range\",\"\")","v":""},{"$f":"IF(ISBLANK(data!A98),\"\",data!A98)","v":""},{"$f":"IF(ISBLANK(data!B98),\"\",data!B98)","v":""},{"$f":"IF(ISBLANK(data!$A98),\"\",IF(ISBLANK(data!$B98),\"\",IF(ISBLANK(data!$C98),\"\",IF(ISBLANK(data!D98),\"\",data!G98))))","v":""},{"$f":"IF(ISBLANK(data!$A98),\"\",IF(ISBLANK(data!$B98),\"\",IF(ISBLANK(data!$C98),\"\",IF(ISBLANK(data!E98),\"\",data!H98))))","v":""},{"$f":"IF(ISBLANK(data!$A98),\"\",IF(ISBLANK(data!$B98),\"\",IF(ISBLANK(data!$C98),\"\",IF(ISBLANK(data!F98),\"\",data!I98))))","v":""},{"$f":"IF(smoothing!C94=\"\",\"\",smoothing!B94)","v":""},{"$f":"IF(smoothing!G94=\"\",\"\",smoothing!F94)","v":""},{"$f":"IF(smoothing!K94=\"\",\"\",smoothing!J94)","v":""}]
[{"$f":"IF(smoothing!A95=\"out of range\",\"out of range\",\"\")","v":""},{"$f":"IF(ISBLANK(data!A99),\"\",data!A99)","v":""},{"$f":"IF(ISBLANK(data!B99),\"\",data!B99)","v":""},{"$f":"IF(ISBLANK(data!$A99),\"\",IF(ISBLANK(data!$B99),\"\",IF(ISBLANK(data!$C99),\"\",IF(ISBLANK(data!D99),\"\",data!G99))))","v":""},{"$f":"IF(ISBLANK(data!$A99),\"\",IF(ISBLANK(data!$B99),\"\",IF(ISBLANK(data!$C99),\"\",IF(ISBLANK(data!E99),\"\",data!H99))))","v":""},{"$f":"IF(ISBLANK(data!$A99),\"\",IF(ISBLANK(data!$B99),\"\",IF(ISBLANK(data!$C99),\"\",IF(ISBLANK(data!F99),\"\",data!I99))))","v":""},{"$f":"IF(smoothing!C95=\"\",\"\",smoothing!B95)","v":""},{"$f":"IF(smoothing!G95=\"\",\"\",smoothing!F95)","v":""},{"$f":"IF(smoothing!K95=\"\",\"\",smoothing!J95)","v":""}]
[{"$f":"IF(smoothing!A96=\"out of range\",\"out of range\",\"\")","v":""},{"$f":"IF(ISBLANK(data!A100),\"\",data!A100)","v":""},{"$f":"IF(ISBLANK(data!B100),\"\",data!B100)","v":""},{"$f":"IF(ISBLANK(data!$A100),\"\",IF(ISBLANK(data!$B100),\"\",IF(ISBLANK(data!$C100),\"\",IF(ISBLANK(data!D100),\"\",data!G100))))","v":""},{"$f":"IF(ISBLANK(data!$A100),\"\",IF(ISBLANK(data!$B100),\"\",IF(ISBLANK(data!$C100),\"\",IF(ISBLANK(data!E100),\"\",data!H100))))","v":""},{"$f":"IF(ISBLANK(data!$A100),\"\",IF(ISBLANK(data!$B100),\"\",IF(ISBLANK(data!$C100),\"\",IF(ISBLANK(data!F100),\"\",data!I100))))","v":""},{"$f":"IF(smoothing!C96=\"\",\"\",smoothing!B96)","v":""},{"$f":"IF(smoothing!G96=\"\",\"\",smoothing!F96)","v":""},{"$f":"IF(smoothing!K96=\"\",\"\",smoothing!J96)","v":""}]
[{"$f":"IF(smoothing!A97=\"out of range\",\"out of range\",\"\")","v":""},{"$f":"IF(ISBLANK(data!A101),\"\",data!A101)","v":""},{"$f":"IF(ISBLANK(data!B101),\"\",data!B101)","v":""},{"$f":"IF(ISBLANK(data!$A101),\"\",IF(ISBLANK(data!$B101),\"\",IF(ISBLANK(data!$C101),\"\",IF(ISBLANK(data!D101),\"\",data!G101))))","v":""},{"$f":"IF(ISBLANK(data!$A101),\"\",IF(ISBLANK(data!$B101),\"\",IF(ISBLANK(data!$C101),\"\",IF(ISBLANK(data!E101),\"\",data!H101))))","v":""},{"$f":"IF(ISBLANK(data!$A101),\"\",IF(ISBLANK(data!$B101),\"\",IF(ISBLANK(data!$C101),\"\",IF(ISBLANK(data!F101),\"\",data!I101))))","v":""},{"$f":"IF(smoothing!C97=\"\",\"\",smoothing!B97)","v":""},{"$f":"IF(smoothing!G97=\"\",\"\",smoothing!F97)","v":""},{"$f":"IF(smoothing!K97=\"\",\"\",smoothing!J97)","v":""}]
[{"$f":"IF(smoothing!A98=\"out of range\",\"out of range\",\"\")","v":""},{"$f":"IF(ISBLANK(data!A102),\"\",data!A102)","v":""},{"$f":"IF(ISBLANK(data!B102),\"\",data!B102)","v":""},{"$f":"IF(ISBLANK(data!$A102),\"\",IF(ISBLANK(data!$B102),\"\",IF(ISBLANK(data!$C102),\"\",IF(ISBLANK(data!D102),\"\",data!G102))))","v":""},{"$f":"IF(ISBLANK(data!$A102),\"\",IF(ISBLANK(data!$B102),\"\",IF(ISBLANK(data!$C102),\"\",IF(ISBLANK(data!E102),\"\",data!H102))))","v":""},{"$f":"IF(ISBLANK(data!$A102),\"\",IF(ISBLANK(data!$B102),\"\",IF(ISBLANK(data!$C102),\"\",IF(ISBLANK(data!F102),\"\",data!I102))))","v":""},{"$f":"IF(smoothing!C98=\"\",\"\",smoothing!B98)","v":""},{"$f":"IF(smoothing!G98=\"\",\"\",smoothing!F98)","v":""},{"$f":"IF(smoothing!K98=\"\",\"\",smoothing!J98)","v":""}]
[{"$f":"IF(smoothing!A99=\"out of range\",\"out of range\",\"\")","v":""},{"$f":"IF(ISBLANK(data!A103),\"\",data!A103)","v":""},{"$f":"IF(ISBLANK(data!B103),\"\",data!B103)","v":""},{"$f":"IF(ISBLANK(data!$A103),\"\",IF(ISBLANK(data!$B103),\"\",IF(ISBLANK(data!$C103),\"\",IF(ISBLANK(data!D103),\"\",data!G103))))","v":""},{"$f":"IF(ISBLANK(data!$A103),\"\",IF(ISBLANK(data!$B103),\"\",IF(ISBLANK(data!$C103),\"\",IF(ISBLANK(data!E103),\"\",data!H103))))","v":""},{"$f":"IF(ISBLANK(data!$A103),\"\",IF(ISBLANK(data!$B103),\"\",IF(ISBLANK(data!$C103),\"\",IF(ISBLANK(data!F103),\"\",data!I103))))","v":""},{"$f":"IF(smoothing!C99=\"\",\"\",smoothing!B99)","v":""},{"$f":"IF(smoothing!G99=\"\",\"\",smoothing!F99)","v":""},{"$f":"IF(smoothing!K99=\"\",\"\",smoothing!J99)","v":""}]
[{"$f":"IF(smoothing!A100=\"out of range\",\"out of range\",\"\")","v":""},{"$f":"IF(ISBLANK(data!A104),\"\",data!A104)","v":""},{"$f":"IF(ISBLANK(data!B104),\"\",data!B104)","v":""},{"$f":"IF(ISBLANK(data!$A104),\"\",IF(ISBLANK(data!$B104),\"\",IF(ISBLANK(data!$C104),\"\",IF(ISBLANK(data!D104),\"\",data!G104))))","v":""},{"$f":"IF(ISBLANK(data!$A104),\"\",IF(ISBLANK(data!$B104),\"\",IF(ISBLANK(data!$C104),\"\",IF(ISBLANK(data!E104),\"\",data!H104))))","v":""},{"$f":"IF(ISBLANK(data!$A104),\"\",IF(ISBLANK(data!$B104),\"\",IF(ISBLANK(data!$C104),\"\",IF(ISBLANK(data!F104),\"\",data!I104))))","v":""},{"$f":"IF(smoothing!C100=\"\",\"\",smoothing!B100)","v":""},{"$f":"IF(smoothing!G100=\"\",\"\",smoothing!F100)","v":""},{"$f":"IF(smoothing!K100=\"\",\"\",smoothing!J100)","v":""}]
[{"$f":"IF(smoothing!A101=\"out of range\",\"out of range\",\"\")","v":""},{"$f":"IF(ISBLANK(data!A105),\"\",data!A105)","v":""},{"$f":"IF(ISBLANK(data!B105),\"\",data!B105)","v":""},{"$f":"IF(ISBLANK(data!$A105),\"\",IF(ISBLANK(data!$B105),\"\",IF(ISBLANK(data!$C105),\"\",IF(ISBLANK(data!D105),\"\",data!G105))))","v":""},{"$f":"IF(ISBLANK(data!$A105),\"\",IF(ISBLANK(data!$B105),\"\",IF(ISBLANK(data!$C105),\"\",IF(ISBLANK(data!E105),\"\",data!H105))))","v":""},{"$f":"IF(ISBLANK(data!$A105),\"\",IF(ISBLANK(data!$B105),\"\",IF(ISBLANK(data!$C105),\"\",IF(ISBLANK(data!F105),\"\",data!I105))))","v":""},{"$f":"IF(smoothing!C101=\"\",\"\",smoothing!B101)","v":""},{"$f":"IF(smoothing!G101=\"\",\"\",smoothing!F101)","v":""},{"$f":"IF(smoothing!K101=\"\",\"\",smoothing!J101)","v":""}]
[{"$f":"IF(smoothing!A102=\"out of range\",\"out of range\",\"\")","v":""},{"$f":"IF(ISBLANK(data!A106),\"\",data!A106)","v":""},{"$f":"IF(ISBLANK(data!B106),\"\",data!B106)","v":""},{"$f":"IF(ISBLANK(data!$A106),\"\",IF(ISBLANK(data!$B106),\"\",IF(ISBLANK(data!$C106),\"\",IF(ISBLANK(data!D106),\"\",data!G106))))","v":""},{"$f":"IF(ISBLANK(data!$A106),\"\",IF(ISBLANK(data!$B106),\"\",IF(ISBLANK(data!$C106),\"\",IF(ISBLANK(data!E106),\"\",data!H106))))","v":""},{"$f":"IF(ISBLANK(data!$A106),\"\",IF(ISBLANK(data!$B106),\"\",IF(ISBLANK(data!$C106),\"\",IF(ISBLANK(data!F106),\"\",data!I106))))","v":""},{"$f":"IF(smoothing!C102=\"\",\"\",smoothing!B102)","v":""},{"$f":"IF(smoothing!G102=\"\",\"\",smoothing!F102)","v":""},{"$f":"IF(smoothing!K102=\"\",\"\",smoothing!J102)","v":""}]
[{"$f":"IF(smoothing!A103=\"out of range\",\"out of range\",\"\")","v":""},{"$f":"IF(ISBLANK(data!A107),\"\",data!A107)","v":""},{"$f":"IF(ISBLANK(data!B107),\"\",data!B107)","v":""},{"$f":"IF(ISBLANK(data!$A107),\"\",IF(ISBLANK(data!$B107),\"\",IF(ISBLANK(data!$C107),\"\",IF(ISBLANK(data!D107),\"\",data!G107))))","v":""},{"$f":"IF(ISBLANK(data!$A107),\"\",IF(ISBLANK(data!$B107),\"\",IF(ISBLANK(data!$C107),\"\",IF(ISBLANK(data!E107),\"\",data!H107))))","v":""},{"$f":"IF(ISBLANK(data!$A107),\"\",IF(ISBLANK(data!$B107),\"\",IF(ISBLANK(data!$C107),\"\",IF(ISBLANK(data!F107),\"\",data!I107))))","v":""},{"$f":"IF(smoothing!C103=\"\",\"\",smoothing!B103)","v":""},{"$f":"IF(smoothing!G103=\"\",\"\",smoothing!F103)","v":""},{"$f":"IF(smoothing!K103=\"\",\"\",smoothing!J103)","v":""}]
[{"$f":"IF(smoothing!A104=\"out of range\",\"out of range\",\"\")","v":""},{"$f":"IF(ISBLANK(data!A108),\"\",data!A108)","v":""},{"$f":"IF(ISBLANK(data!B108),\"\",data!B108)","v":""},{"$f":"IF(ISBLANK(data!$A108),\"\",IF(ISBLANK(data!$B108),\"\",IF(ISBLANK(data!$C108),\"\",IF(ISBLANK(data!D108),\"\",data!G108))))","v":""},{"$f":"IF(ISBLANK(data!$A108),\"\",IF(ISBLANK(data!$B108),\"\",IF(ISBLANK(data!$C108),\"\",IF(ISBLANK(data!E108),\"\",data!H108))))","v":""},{"$f":"IF(ISBLANK(data!$A108),\"\",IF(ISBLANK(data!$B108),\"\",IF(ISBLANK(data!$C108),\"\",IF(ISBLANK(data!F108),\"\",data!I108))))","v":""},{"$f":"IF(smoothing!C104=\"\",\"\",smoothing!B104)","v":""},{"$f":"IF(smoothing!G104=\"\",\"\",smoothing!F104)","v":""},{"$f":"IF(smoothing!K104=\"\",\"\",smoothing!J104)","v":""}]
[{"$f":"IF(smoothing!A105=\"out of range\",\"out of range\",\"\")","v":""},{"$f":"IF(ISBLANK(data!A109),\"\",data!A109)","v":""},{"$f":"IF(ISBLANK(data!B109),\"\",data!B109)","v":""},{"$f":"IF(ISBLANK(data!$A109),\"\",IF(ISBLANK(data!$B109),\"\",IF(ISBLANK(data!$C109),\"\",IF(ISBLANK(data!D109),\"\",data!G109))))","v":""},{"$f":"IF(ISBLANK(data!$A109),\"\",IF(ISBLANK(data!$B109),\"\",IF(ISBLANK(data!$C109),\"\",IF(ISBLANK(data!E109),\"\",data!H109))))","v":""},{"$f":"IF(ISBLANK(data!$A109),\"\",IF(ISBLANK(data!$B109),\"\",IF(ISBLANK(data!$C109),\"\",IF(ISBLANK(data!F109),\"\",data!I109))))","v":""},{"$f":"IF(smoothing!C105=\"\",\"\",smoothing!B105)","v":""},{"$f":"IF(smoothing!G105=\"\",\"\",smoothing!F105)","v":""},{"$f":"IF(smoothing!K105=\"\",\"\",smoothing!J105)","v":""}]
[{"$f":"IF(smoothing!A106=\"out of range\",\"out of range\",\"\")","v":""},{"$f":"IF(ISBLANK(data!A110),\"\",data!A110)","v":""},{"$f":"IF(ISBLANK(data!B110),\"\",data!B110)","v":""},{"$f":"IF(ISBLANK(data!$A110),\"\",IF(ISBLANK(data!$B110),\"\",IF(ISBLANK(data!$C110),\"\",IF(ISBLANK(data!D110),\"\",data!G110))))","v":""},{"$f":"IF(ISBLANK(data!$A110),\"\",IF(ISBLANK(data!$B110),\"\",IF(ISBLANK(data!$C110),\"\",IF(ISBLANK(data!E110),\"\",data!H110))))","v":""},{"$f":"IF(ISBLANK(data!$A110),\"\",IF(ISBLANK(data!$B110),\"\",IF(ISBLANK(data!$C110),\"\",IF(ISBLANK(data!F110),\"\",data!I110))))","v":""},{"$f":"IF(smoothing!C106=\"\",\"\",smoothing!B106)","v":""},{"$f":"IF(smoothing!G106=\"\",\"\",smoothing!F106)","v":""},{"$f":"IF(smoothing!K106=\"\",\"\",smoothing!J106)","v":""}]
[{"$f":"IF(smoothing!A107=\"out of range\",\"out of range\",\"\")","v":""},{"$f":"IF(ISBLANK(data!A111),\"\",data!A111)","v":""},{"$f":"IF(ISBLANK(data!B111),\"\",data!B111)","v":""},{"$f":"IF(ISBLANK(data!$A111),\"\",IF(ISBLANK(data!$B111),\"\",IF(ISBLANK(data!$C111),\"\",IF(ISBLANK(data!D111),\"\",data!G111))))","v":""},{"$f":"IF(ISBLANK(data!$A111),\"\",IF(ISBLANK(data!$B111),\"\",IF(ISBLANK(data!$C111),\"\",IF(ISBLANK(data!E111),\"\",data!H111))))","v":""},{"$f":"IF(ISBLANK(data!$A111),\"\",IF(ISBLANK(data!$B111),\"\",IF(ISBLANK(data!$C111),\"\",IF(ISBLANK(data!F111),\"\",data!I111))))","v":""},{"$f":"IF(smoothing!C107=\"\",\"\",smoothing!B107)","v":""},{"$f":"IF(smoothing!G107=\"\",\"\",smoothing!F107)","v":""},{"$f":"IF(smoothing!K107=\"\",\"\",smoothing!J107)","v":""}]
[{"$f":"IF(smoothing!A108=\"out of range\",\"out of range\",\"\")","v":""},{"$f":"IF(ISBLANK(data!A112),\"\",data!A112)","v":""},{"$f":"IF(ISBLANK(data!B112),\"\",data!B112)","v":""},{"$f":"IF(ISBLANK(data!$A112),\"\",IF(ISBLANK(data!$B112),\"\",IF(ISBLANK(data!$C112),\"\",IF(ISBLANK(data!D112),\"\",data!G112))))","v":""},{"$f":"IF(ISBLANK(data!$A112),\"\",IF(ISBLANK(data!$B112),\"\",IF(ISBLANK(data!$C112),\"\",IF(ISBLANK(data!E112),\"\",data!H112))))","v":""},{"$f":"IF(ISBLANK(data!$A112),\"\",IF(ISBLANK(data!$B112),\"\",IF(ISBLANK(data!$C112),\"\",IF(ISBLANK(data!F112),\"\",data!I112))))","v":""},{"$f":"IF(smoothing!C108=\"\",\"\",smoothing!B108)","v":""},{"$f":"IF(smoothing!G108=\"\",\"\",smoothing!F108)","v":""},{"$f":"IF(smoothing!K108=\"\",\"\",smoothing!J108)","v":""}]
[{"$f":"IF(smoothing!A109=\"out of range\",\"out of range\",\"\")","v":""},{"$f":"IF(ISBLANK(data!A113),\"\",data!A113)","v":""},{"$f":"IF(ISBLANK(data!B113),\"\",data!B113)","v":""},{"$f":"IF(ISBLANK(data!$A113),\"\",IF(ISBLANK(data!$B113),\"\",IF(ISBLANK(data!$C113),\"\",IF(ISBLANK(data!D113),\"\",data!G113))))","v":""},{"$f":"IF(ISBLANK(data!$A113),\"\",IF(ISBLANK(data!$B113),\"\",IF(ISBLANK(data!$C113),\"\",IF(ISBLANK(data!E113),\"\",data!H113))))","v":""},{"$f":"IF(ISBLANK(data!$A113),\"\",IF(ISBLANK(data!$B113),\"\",IF(ISBLANK(data!$C113),\"\",IF(ISBLANK(data!F113),\"\",data!I113))))","v":""},{"$f":"IF(smoothing!C109=\"\",\"\",smoothing!B109)","v":""},{"$f":"IF(smoothing!G109=\"\",\"\",smoothing!F109)","v":""},{"$f":"IF(smoothing!K109=\"\",\"\",smoothing!J109)","v":""}]
[{"$f":"IF(smoothing!A110=\"out of range\",\"out of range\",\"\")","v":""},{"$f":"IF(ISBLANK(data!A114),\"\",data!A114)","v":""},{"$f":"IF(ISBLANK(data!B114),\"\",data!B114)","v":""},{"$f":"IF(ISBLANK(data!$A114),\"\",IF(ISBLANK(data!$B114),\"\",IF(ISBLANK(data!$C114),\"\",IF(ISBLANK(data!D114),\"\",data!G114))))","v":""},{"$f":"IF(ISBLANK(data!$A114),\"\",IF(ISBLANK(data!$B114),\"\",IF(ISBLANK(data!$C114),\"\",IF(ISBLANK(data!E114),\"\",data!H114))))","v":""},{"$f":"IF(ISBLANK(data!$A114),\"\",IF(ISBLANK(data!$B114),\"\",IF(ISBLANK(data!$C114),\"\",IF(ISBLANK(data!F114),\"\",data!I114))))","v":""},{"$f":"IF(smoothing!C110=\"\",\"\",smoothing!B110)","v":""},{"$f":"IF(smoothing!G110=\"\",\"\",smoothing!F110)","v":""},{"$f":"IF(smoothing!K110=\"\",\"\",smoothing!J110)","v":""}]
[{"$f":"IF(smoothing!A111=\"out of range\",\"out of range\",\"\")","v":""},{"$f":"IF(ISBLANK(data!A115),\"\",data!A115)","v":""},{"$f":"IF(ISBLANK(data!B115),\"\",data!B115)","v":""},{"$f":"IF(ISBLANK(data!$A115),\"\",IF(ISBLANK(data!$B115),\"\",IF(ISBLANK(data!$C115),\"\",IF(ISBLANK(data!D115),\"\",data!G115))))","v":""},{"$f":"IF(ISBLANK(data!$A115),\"\",IF(ISBLANK(data!$B115),\"\",IF(ISBLANK(data!$C115),\"\",IF(ISBLANK(data!E115),\"\",data!H115))))","v":""},{"$f":"IF(ISBLANK(data!$A115),\"\",IF(ISBLANK(data!$B115),\"\",IF(ISBLANK(data!$C115),\"\",IF(ISBLANK(data!F115),\"\",data!I115))))","v":""},{"$f":"IF(smoothing!C111=\"\",\"\",smoothing!B111)","v":""},{"$f":"IF(smoothing!G111=\"\",\"\",smoothing!F111)","v":""},{"$f":"IF(smoothing!K111=\"\",\"\",smoothing!J111)","v":""}]
[{"$f":"IF(smoothing!A112=\"out of range\",\"out of range\",\"\")","v":""},{"$f":"IF(ISBLANK(data!A116),\"\",data!A116)","v":""},{"$f":"IF(ISBLANK(data!B116),\"\",data!B116)","v":""},{"$f":"IF(ISBLANK(data!$A116),\"\",IF(ISBLANK(data!$B116),\"\",IF(ISBLANK(data!$C116),\"\",IF(ISBLANK(data!D116),\"\",data!G116))))","v":""},{"$f":"IF(ISBLANK(data!$A116),\"\",IF(ISBLANK(data!$B116),\"\",IF(ISBLANK(data!$C116),\"\",IF(ISBLANK(data!E116),\"\",data!H116))))","v":""},{"$f":"IF(ISBLANK(data!$A116),\"\",IF(ISBLANK(data!$B116),\"\",IF(ISBLANK(data!$C116),\"\",IF(ISBLANK(data!F116),\"\",data!I116))))","v":""},{"$f":"IF(smoothing!C112=\"\",\"\",smoothing!B112)","v":""},{"$f":"IF(smoothing!G112=\"\",\"\",smoothing!F112)","v":""},{"$f":"IF(smoothing!K112=\"\",\"\",smoothing!J112)","v":""}]
[{"$f":"IF(smoothing!A113=\"out of range\",\"out of range\",\"\")","v":""},{"$f":"IF(ISBLANK(data!A117),\"\",data!A117)","v":""},{"$f":"IF(ISBLANK(data!B117),\"\",data!B117)","v":""},{"$f":"IF(ISBLANK(data!$A117),\"\",IF(ISBLANK(data!$B117),\"\",IF(ISBLANK(data!$C117),\"\",IF(ISBLANK(data!D117),\"\",data!G117))))","v":""},{"$f":"IF(ISBLANK(data!$A117),\"\",IF(ISBLANK(data!$B117),\"\",IF(ISBLANK(data!$C117),\"\",IF(ISBLANK(data!E117),\"\",data!H117))))","v":""},{"$f":"IF(ISBLANK(data!$A117),\"\",IF(ISBLANK(data!$B117),\"\",IF(ISBLANK(data!$C117),\"\",IF(ISBLANK(data!F117),\"\",data!I117))))","v":""},{"$f":"IF(smoothing!C113=\"\",\"\",smoothing!B113)","v":""},{"$f":"IF(smoothing!G113=\"\",\"\",smoothing!F113)","v":""},{"$f":"IF(smoothing!K113=\"\",\"\",smoothing!J113)","v":""}]
[{"$f":"IF(smoothing!A114=\"out of range\",\"out of range\",\"\")","v":""},{"$f":"IF(ISBLANK(data!A118),\"\",data!A118)","v":""},{"$f":"IF(ISBLANK(data!B118),\"\",data!B118)","v":""},{"$f":"IF(ISBLANK(data!$A118),\"\",IF(ISBLANK(data!$B118),\"\",IF(ISBLANK(data!$C118),\"\",IF(ISBLANK(data!D118),\"\",data!G118))))","v":""},{"$f":"IF(ISBLANK(data!$A118),\"\",IF(ISBLANK(data!$B118),\"\",IF(ISBLANK(data!$C118),\"\",IF(ISBLANK(data!E118),\"\",data!H118))))","v":""},{"$f":"IF(ISBLANK(data!$A118),\"\",IF(ISBLANK(data!$B118),\"\",IF(ISBLANK(data!$C118),\"\",IF(ISBLANK(data!F118),\"\",data!I118))))","v":""},{"$f":"IF(smoothing!C114=\"\",\"\",smoothing!B114)","v":""},{"$f":"IF(smoothing!G114=\"\",\"\",smoothing!F114)","v":""},{"$f":"IF(smoothing!K114=\"\",\"\",smoothing!J114)","v":""}]
[{"$f":"IF(smoothing!A115=\"out of range\",\"out of range\",\"\")","v":""},{"$f":"IF(ISBLANK(data!A119),\"\",data!A119)","v":""},{"$f":"IF(ISBLANK(data!B119),\"\",data!B119)","v":""},{"$f":"IF(ISBLANK(data!$A119),\"\",IF(ISBLANK(data!$B119),\"\",IF(ISBLANK(data!$C119),\"\",IF(ISBLANK(data!D119),\"\",data!G119))))","v":""},{"$f":"IF(ISBLANK(data!$A119),\"\",IF(ISBLANK(data!$B119),\"\",IF(ISBLANK(data!$C119),\"\",IF(ISBLANK(data!E119),\"\",data!H119))))","v":""},{"$f":"IF(ISBLANK(data!$A119),\"\",IF(ISBLANK(data!$B119),\"\",IF(ISBLANK(data!$C119),\"\",IF(ISBLANK(data!F119),\"\",data!I119))))","v":""},{"$f":"IF(smoothing!C115=\"\",\"\",smoothing!B115)","v":""},{"$f":"IF(smoothing!G115=\"\",\"\",smoothing!F115)","v":""},{"$f":"IF(smoothing!K115=\"\",\"\",smoothing!J115)","v":""}]
[{"$f":"IF(smoothing!A116=\"out of range\",\"out of range\",\"\")","v":""},{"$f":"IF(ISBLANK(data!A120),\"\",data!A120)","v":""},{"$f":"IF(ISBLANK(data!B120),\"\",data!B120)","v":""},{"$f":"IF(ISBLANK(data!$A120),\"\",IF(ISBLANK(data!$B120),\"\",IF(ISBLANK(data!$C120),\"\",IF(ISBLANK(data!D120),\"\",data!G120))))","v":""},{"$f":"IF(ISBLANK(data!$A120),\"\",IF(ISBLANK(data!$B120),\"\",IF(ISBLANK(data!$C120),\"\",IF(ISBLANK(data!E120),\"\",data!H120))))","v":""},{"$f":"IF(ISBLANK(data!$A120),\"\",IF(ISBLANK(data!$B120),\"\",IF(ISBLANK(data!$C120),\"\",IF(ISBLANK(data!F120),\"\",data!I120))))","v":""},{"$f":"IF(smoothing!C116=\"\",\"\",smoothing!B116)","v":""},{"$f":"IF(smoothing!G116=\"\",\"\",smoothing!F116)","v":""},{"$f":"IF(smoothing!K116=\"\",\"\",smoothing!J116)","v":""}]
[{"$f":"IF(smoothing!A117=\"out of range\",\"out of range\",\"\")","v":""},{"$f":"IF(ISBLANK(data!A121),\"\",data!A121)","v":""},{"$f":"IF(ISBLANK(data!B121),\"\",data!B121)","v":""},{"$f":"IF(ISBLANK(data!$A121),\"\",IF(ISBLANK(data!$B121),\"\",IF(ISBLANK(data!$C121),\"\",IF(ISBLANK(data!D121),\"\",data!G121))))","v":""},{"$f":"IF(ISBLANK(data!$A121),\"\",IF(ISBLANK(data!$B121),\"\",IF(ISBLANK(data!$C121),\"\",IF(ISBLANK(data!E121),\"\",data!H121))))","v":""},{"$f":"IF(ISBLANK(data!$A121),\"\",IF(ISBLANK(data!$B121),\"\",IF(ISBLANK(data!$C121),\"\",IF(ISBLANK(data!F121),\"\",data!I121))))","v":""},{"$f":"IF(smoothing!C117=\"\",\"\",smoothing!B117)","v":""},{"$f":"IF(smoothing!G117=\"\",\"\",smoothing!F117)","v":""},{"$f":"IF(smoothing!K117=\"\",\"\",smoothing!J117)","v":""}]
[{"$f":"IF(smoothing!A118=\"out of range\",\"out of range\",\"\")","v":""},{"$f":"IF(ISBLANK(data!A122),\"\",data!A122)","v":""},{"$f":"IF(ISBLANK(data!B122),\"\",data!B122)","v":""},{"$f":"IF(ISBLANK(data!$A122),\"\",IF(ISBLANK(data!$B122),\"\",IF(ISBLANK(data!$C122),\"\",IF(ISBLANK(data!D122),\"\",data!G122))))","v":""},{"$f":"IF(ISBLANK(data!$A122),\"\",IF(ISBLANK(data!$B122),\"\",IF(ISBLANK(data!$C122),\"\",IF(ISBLANK(data!E122),\"\",data!H122))))","v":""},{"$f":"IF(ISBLANK(data!$A122),\"\",IF(ISBLANK(data!$B122),\"\",IF(ISBLANK(data!$C122),\"\",IF(ISBLANK(data!F122),\"\",data!I122))))","v":""},{"$f":"IF(smoothing!C118=\"\",\"\",smoothing!B118)","v":""},{"$f":"IF(smoothing!G118=\"\",\"\",smoothing!F118)","v":""},{"$f":"IF(smoothing!K118=\"\",\"\",smoothing!J118)","v":""}]
[{"$f":"IF(smoothing!A119=\"out of range\",\"out of range\",\"\")","v":""},{"$f":"IF(ISBLANK(data!A123),\"\",data!A123)","v":""},{"$f":"IF(ISBLANK(data!B123),\"\",data!B123)","v":""},{"$f":"IF(ISBLANK(data!$A123),\"\",IF(ISBLANK(data!$B123),\"\",IF(ISBLANK(data!$C123),\"\",IF(ISBLANK(data!D123),\"\",data!G123))))","v":""},{"$f":"IF(ISBLANK(data!$A123),\"\",IF(ISBLANK(data!$B123),\"\",IF(ISBLANK(data!$C123),\"\",IF(ISBLANK(data!E123),\"\",data!H123))))","v":""},{"$f":"IF(ISBLANK(data!$A123),\"\",IF(ISBLANK(data!$B123),\"\",IF(ISBLANK(data!$C123),\"\",IF(ISBLANK(data!F123),\"\",data!I123))))","v":""},{"$f":"IF(smoothing!C119=\"\",\"\",smoothing!B119)","v":""},{"$f":"IF(smoothing!G119=\"\",\"\",smoothing!F119)","v":""},{"$f":"IF(smoothing!K119=\"\",\"\",smoothing!J119)","v":""}]
[{"$f":"IF(smoothing!A120=\"out of range\",\"out of range\",\"\")","v":""},{"$f":"IF(ISBLANK(data!A124),\"\",data!A124)","v":""},{"$f":"IF(ISBLANK(data!B124),\"\",data!B124)","v":""},{"$f":"IF(ISBLANK(data!$A124),\"\",IF(ISBLANK(data!$B124),\"\",IF(ISBLANK(data!$C124),\"\",IF(ISBLANK(data!D124),\"\",data!G124))))","v":""},{"$f":"IF(ISBLANK(data!$A124),\"\",IF(ISBLANK(data!$B124),\"\",IF(ISBLANK(data!$C124),\"\",IF(ISBLANK(data!E124),\"\",data!H124))))","v":""},{"$f":"IF(ISBLANK(data!$A124),\"\",IF(ISBLANK(data!$B124),\"\",IF(ISBLANK(data!$C124),\"\",IF(ISBLANK(data!F124),\"\",data!I124))))","v":""},{"$f":"IF(smoothing!C120=\"\",\"\",smoothing!B120)","v":""},{"$f":"IF(smoothing!G120=\"\",\"\",smoothing!F120)","v":""},{"$f":"IF(smoothing!K120=\"\",\"\",smoothing!J120)","v":""}]
[{"$f":"IF(smoothing!A121=\"out of range\",\"out of range\",\"\")","v":""},{"$f":"IF(ISBLANK(data!A125),\"\",data!A125)","v":""},{"$f":"IF(ISBLANK(data!B125),\"\",data!B125)","v":""},{"$f":"IF(ISBLANK(data!$A125),\"\",IF(ISBLANK(data!$B125),\"\",IF(ISBLANK(data!$C125),\"\",IF(ISBLANK(data!D125),\"\",data!G125))))","v":""},{"$f":"IF(ISBLANK(data!$A125),\"\",IF(ISBLANK(data!$B125),\"\",IF(ISBLANK(data!$C125),\"\",IF(ISBLANK(data!E125),\"\",data!H125))))","v":""},{"$f":"IF(ISBLANK(data!$A125),\"\",IF(ISBLANK(data!$B125),\"\",IF(ISBLANK(data!$C125),\"\",IF(ISBLANK(data!F125),\"\",data!I125))))","v":""},{"$f":"IF(smoothing!C121=\"\",\"\",smoothing!B121)","v":""},{"$f":"IF(smoothing!G121=\"\",\"\",smoothing!F121)","v":""},{"$f":"IF(smoothing!K121=\"\",\"\",smoothing!J121)","v":""}]
[{"$f":"IF(smoothing!A122=\"out of range\",\"out of range\",\"\")","v":""},{"$f":"IF(ISBLANK(data!A126),\"\",data!A126)","v":""},{"$f":"IF(ISBLANK(data!B126),\"\",data!B126)","v":""},{"$f":"IF(ISBLANK(data!$A126),\"\",IF(ISBLANK(data!$B126),\"\",IF(ISBLANK(data!$C126),\"\",IF(ISBLANK(data!D126),\"\",data!G126))))","v":""},{"$f":"IF(ISBLANK(data!$A126),\"\",IF(ISBLANK(data!$B126),\"\",IF(ISBLANK(data!$C126),\"\",IF(ISBLANK(data!E126),\"\",data!H126))))","v":""},{"$f":"IF(ISBLANK(data!$A126),\"\",IF(ISBLANK(data!$B126),\"\",IF(ISBLANK(data!$C126),\"\",IF(ISBLANK(data!F126),\"\",data!I126))))","v":""},{"$f":"IF(smoothing!C122=\"\",\"\",smoothing!B122)","v":""},{"$f":"IF(smoothing!G122=\"\",\"\",smoothing!F122)","v":""},{"$f":"IF(smoothing!K122=\"\",\"\",smoothing!J122)","v":""}]
[{"$f":"IF(smoothing!A123=\"out of range\",\"out of range\",\"\")","v":""},{"$f":"IF(ISBLANK(data!A127),\"\",data!A127)","v":""},{"$f":"IF(ISBLANK(data!B127),\"\",data!B127)","v":""},{"$f":"IF(ISBLANK(data!$A127),\"\",IF(ISBLANK(data!$B127),\"\",IF(ISBLANK(data!$C127),\"\",IF(ISBLANK(data!D127),\"\",data!G127))))","v":""},{"$f":"IF(ISBLANK(data!$A127),\"\",IF(ISBLANK(data!$B127),\"\",IF(ISBLANK(data!$C127),\"\",IF(ISBLANK(data!E127),\"\",data!H127))))","v":""},{"$f":"IF(ISBLANK(data!$A127),\"\",IF(ISBLANK(data!$B127),\"\",IF(ISBLANK(data!$C127),\"\",IF(ISBLANK(data!F127),\"\",data!I127))))","v":""},{"$f":"IF(smoothing!C123=\"\",\"\",smoothing!B123)","v":""},{"$f":"IF(smoothing!G123=\"\",\"\",smoothing!F123)","v":""},{"$f":"IF(smoothing!K123=\"\",\"\",smoothing!J123)","v":""}]
[{"$f":"IF(smoothing!A124=\"out of range\",\"out of range\",\"\")","v":""},{"$f":"IF(ISBLANK(data!A128),\"\",data!A128)","v":""},{"$f":"IF(ISBLANK(data!B128),\"\",data!B128)","v":""},{"$f":"IF(ISBLANK(data!$A128),\"\",IF(ISBLANK(data!$B128),\"\",IF(ISBLANK(data!$C128),\"\",IF(ISBLANK(data!D128),\"\",data!G128))))","v":""},{"$f":"IF(ISBLANK(data!$A128),\"\",IF(ISBLANK(data!$B128),\"\",IF(ISBLANK(data!$C128),\"\",IF(ISBLANK(data!E128),\"\",data!H128))))","v":""},{"$f":"IF(ISBLANK(data!$A128),\"\",IF(ISBLANK(data!$B128),\"\",IF(ISBLANK(data!$C128),\"\",IF(ISBLANK(data!F128),\"\",data!I128))))","v":""},{"$f":"IF(smoothing!C124=\"\",\"\",smoothing!B124)","v":""},{"$f":"IF(smoothing!G124=\"\",\"\",smoothing!F124)","v":""},{"$f":"IF(smoothing!K124=\"\",\"\",smoothing!J124)","v":""}]
[{"$f":"IF(smoothing!A125=\"out of range\",\"out of range\",\"\")","v":""},{"$f":"IF(ISBLANK(data!A129),\"\",data!A129)","v":""},{"$f":"IF(ISBLANK(data!B129),\"\",data!B129)","v":""},{"$f":"IF(ISBLANK(data!$A129),\"\",IF(ISBLANK(data!$B129),\"\",IF(ISBLANK(data!$C129),\"\",IF(ISBLANK(data!D129),\"\",data!G129))))","v":""},{"$f":"IF(ISBLANK(data!$A129),\"\",IF(ISBLANK(data!$B129),\"\",IF(ISBLANK(data!$C129),\"\",IF(ISBLANK(data!E129),\"\",data!H129))))","v":""},{"$f":"IF(ISBLANK(data!$A129),\"\",IF(ISBLANK(data!$B129),\"\",IF(ISBLANK(data!$C129),\"\",IF(ISBLANK(data!F129),\"\",data!I129))))","v":""},{"$f":"IF(smoothing!C125=\"\",\"\",smoothing!B125)","v":""},{"$f":"IF(smoothing!G125=\"\",\"\",smoothing!F125)","v":""},{"$f":"IF(smoothing!K125=\"\",\"\",smoothing!J125)","v":""}]
[{"$f":"IF(smoothing!A126=\"out of range\",\"out of range\",\"\")","v":""},{"$f":"IF(ISBLANK(data!A130),\"\",data!A130)","v":""},{"$f":"IF(ISBLANK(data!B130),\"\",data!B130)","v":""},{"$f":"IF(ISBLANK(data!$A130),\"\",IF(ISBLANK(data!$B130),\"\",IF(ISBLANK(data!$C130),\"\",IF(ISBLANK(data!D130),\"\",data!G130))))","v":""},{"$f":"IF(ISBLANK(data!$A130),\"\",IF(ISBLANK(data!$B130),\"\",IF(ISBLANK(data!$C130),\"\",IF(ISBLANK(data!E130),\"\",data!H130))))","v":""},{"$f":"IF(ISBLANK(data!$A130),\"\",IF(ISBLANK(data!$B130),\"\",IF(ISBLANK(data!$C130),\"\",IF(ISBLANK(data!F130),\"\",data!I130))))","v":""},{"$f":"IF(smoothing!C126=\"\",\"\",smoothing!B126)","v":""},{"$f":"IF(smoothing!G126=\"\",\"\",smoothing!F126)","v":""},{"$f":"IF(smoothing!K126=\"\",\"\",smoothing!J126)","v":""}]
[{"$f":"IF(smoothing!A127=\"out of range\",\"out of range\",\"\")","v":""},{"$f":"IF(ISBLANK(data!A131),\"\",data!A131)","v":""},{"$f":"IF(ISBLANK(data!B131),\"\",data!B131)","v":""},{"$f":"IF(ISBLANK(data!$A131),\"\",IF(ISBLANK(data!$B131),\"\",IF(ISBLANK(data!$C131),\"\",IF(ISBLANK(data!D131),\"\",data!G131))))","v":""},{"$f":"IF(ISBLANK(data!$A131),\"\",IF(ISBLANK(data!$B131),\"\",IF(ISBLANK(data!$C131),\"\",IF(ISBLANK(data!E131),\"\",data!H131))))","v":""},{"$f":"IF(ISBLANK(data!$A131),\"\",IF(ISBLANK(data!$B131),\"\",IF(ISBLANK(data!$C131),\"\",IF(ISBLANK(data!F131),\"\",data!I131))))","v":""},{"$f":"IF(smoothing!C127=\"\",\"\",smoothing!B127)","v":""},{"$f":"IF(smoothing!G127=\"\",\"\",smoothing!F127)","v":""},{"$f":"IF(smoothing!K127=\"\",\"\",smoothing!J127)","v":""}]
[{"$f":"IF(smoothing!A128=\"out of range\",\"out of range\",\"\")","v":""},{"$f":"IF(ISBLANK(data!A132),\"\",data!A132)","v":""},{"$f":"IF(ISBLANK(data!B132),\"\",data!B132)","v":""},{"$f":"IF(ISBLANK(data!$A132),\"\",IF(ISBLANK(data!$B132),\"\",IF(ISBLANK(data!$C132),\"\",IF(ISBLANK(data!D132),\"\",data!G132))))","v":""},{"$f":"IF(ISBLANK(data!$A132),\"\",IF(ISBLANK(data!$B132),\"\",IF(ISBLANK(data!$C132),\"\",IF(ISBLANK(data!E132),\"\",data!H132))))","v":""},{"$f":"IF(ISBLANK(data!$A132),\"\",IF(ISBLANK(data!$B132),\"\",IF(ISBLANK(data!$C132),\"\",IF(ISBLANK(data!F132),\"\",data!I132))))","v":""},{"$f":"IF(smoothing!C128=\"\",\"\",smoothing!B128)","v":""},{"$f":"IF(smoothing!G128=\"\",\"\",smoothing!F128)","v":""},{"$f":"IF(smoothing!K128=\"\",\"\",smoothing!J128)","v":""}]
[{"$f":"IF(smoothing!A129=\"out of range\",\"out of range\",\"\")","v":""},{"$f":"IF(ISBLANK(data!A133),\"\",data!A133)","v":""},{"$f":"IF(ISBLANK(data!B133),\"\",data!B133)","v":""},{"$f":"IF(ISBLANK(data!$A133),\"\",IF(ISBLANK(data!$B133),\"\",IF(ISBLANK(data!$C133),\"\",IF(ISBLANK(data!D133),\"\",data!G133))))","v":""},{"$f":"IF(ISBLANK(data!$A133),\"\",IF(ISBLANK(data!$B133),\"\",IF(ISBLANK(data!$C133),\"\",IF(ISBLANK(data!E133),\"\",data!H133))))","v":""},{"$f":"IF(ISBLANK(data!$A133),\"\",IF(ISBLANK(data!$B133),\"\",IF(ISBLANK(data!$C133),\"\",IF(ISBLANK(data!F133),\"\",data!I133))))","v":""},{"$f":"IF(smoothing!C129=\"\",\"\",smoothing!B129)","v":""},{"$f":"IF(smoothing!G129=\"\",\"\",smoothing!F129)","v":""},{"$f":"IF(smoothing!K129=\"\",\"\",smoothing!J129)","v":""}]
[{"$f":"IF(smoothing!A130=\"out of range\",\"out of range\",\"\")","v":""},{"$f":"IF(ISBLANK(data!A134),\"\",data!A134)","v":""},{"$f":"IF(ISBLANK(data!B134),\"\",data!B134)","v":""},{"$f":"IF(ISBLANK(data!$A134),\"\",IF(ISBLANK(data!$B134),\"\",IF(ISBLANK(data!$C134),\"\",IF(ISBLANK(data!D134),\"\",data!G134))))","v":""},{"$f":"IF(ISBLANK(data!$A134),\"\",IF(ISBLANK(data!$B134),\"\",IF(ISBLANK(data!$C134),\"\",IF(ISBLANK(data!E134),\"\",data!H134))))","v":""},{"$f":"IF(ISBLANK(data!$A134),\"\",IF(ISBLANK(data!$B134),\"\",IF(ISBLANK(data!$C134),\"\",IF(ISBLANK(data!F134),\"\",data!I134))))","v":""},{"$f":"IF(smoothing!C130=\"\",\"\",smoothing!B130)","v":""},{"$f":"IF(smoothing!G130=\"\",\"\",smoothing!F130)","v":""},{"$f":"IF(smoothing!K130=\"\",\"\",smoothing!J130)","v":""}]
[{"$f":"IF(smoothing!A131=\"out of range\",\"out of range\",\"\")","v":""},{"$f":"IF(ISBLANK(data!A135),\"\",data!A135)","v":""},{"$f":"IF(ISBLANK(data!B135),\"\",data!B135)","v":""},{"$f":"IF(ISBLANK(data!$A135),\"\",IF(ISBLANK(data!$B135),\"\",IF(ISBLANK(data!$C135),\"\",IF(ISBLANK(data!D135),\"\",data!G135))))","v":""},{"$f":"IF(ISBLANK(data!$A135),\"\",IF(ISBLANK(data!$B135),\"\",IF(ISBLANK(data!$C135),\"\",IF(ISBLANK(data!E135),\"\",data!H135))))","v":""},{"$f":"IF(ISBLANK(data!$A135),\"\",IF(ISBLANK(data!$B135),\"\",IF(ISBLANK(data!$C135),\"\",IF(ISBLANK(data!F135),\"\",data!I135))))","v":""},{"$f":"IF(smoothing!C131=\"\",\"\",smoothing!B131)","v":""},{"$f":"IF(smoothing!G131=\"\",\"\",smoothing!F131)","v":""},{"$f":"IF(smoothing!K131=\"\",\"\",smoothing!J131)","v":""}]
[{"$f":"IF(smoothing!A132=\"out of range\",\"out of range\",\"\")","v":""},{"$f":"IF(ISBLANK(data!A136),\"\",data!A136)","v":""},{"$f":"IF(ISBLANK(data!B136),\"\",data!B136)","v":""},{"$f":"IF(ISBLANK(data!$A136),\"\",IF(ISBLANK(data!$B136),\"\",IF(ISBLANK(data!$C136),\"\",IF(ISBLANK(data!D136),\"\",data!G136))))","v":""},{"$f":"IF(ISBLANK(data!$A136),\"\",IF(ISBLANK(data!$B136),\"\",IF(ISBLANK(data!$C136),\"\",IF(ISBLANK(data!E136),\"\",data!H136))))","v":""},{"$f":"IF(ISBLANK(data!$A136),\"\",IF(ISBLANK(data!$B136),\"\",IF(ISBLANK(data!$C136),\"\",IF(ISBLANK(data!F136),\"\",data!I136))))","v":""},{"$f":"IF(smoothing!C132=\"\",\"\",smoothing!B132)","v":""},{"$f":"IF(smoothing!G132=\"\",\"\",smoothing!F132)","v":""},{"$f":"IF(smoothing!K132=\"\",\"\",smoothing!J132)","v":""}]
[{"$f":"IF(smoothing!A133=\"out of range\",\"out of range\",\"\")","v":""},{"$f":"IF(ISBLANK(data!A137),\"\",data!A137)","v":""},{"$f":"IF(ISBLANK(data!B137),\"\",data!B137)","v":""},{"$f":"IF(ISBLANK(data!$A137),\"\",IF(ISBLANK(data!$B137),\"\",IF(ISBLANK(data!$C137),\"\",IF(ISBLANK(data!D137),\"\",data!G137))))","v":""},{"$f":"IF(ISBLANK(data!$A137),\"\",IF(ISBLANK(data!$B137),\"\",IF(ISBLANK(data!$C137),\"\",IF(ISBLANK(data!E137),\"\",data!H137))))","v":""},{"$f":"IF(ISBLANK(data!$A137),\"\",IF(ISBLANK(data!$B137),\"\",IF(ISBLANK(data!$C137),\"\",IF(ISBLANK(data!F137),\"\",data!I137))))","v":""},{"$f":"IF(smoothing!C133=\"\",\"\",smoothing!B133)","v":""},{"$f":"IF(smoothing!G133=\"\",\"\",smoothing!F133)","v":""},{"$f":"IF(smoothing!K133=\"\",\"\",smoothing!J133)","v":""}]
[{"$f":"IF(smoothing!A134=\"out of range\",\"out of range\",\"\")","v":""},{"$f":"IF(ISBLANK(data!A138),\"\",data!A138)","v":""},{"$f":"IF(ISBLANK(data!B138),\"\",data!B138)","v":""},{"$f":"IF(ISBLANK(data!$A138),\"\",IF(ISBLANK(data!$B138),\"\",IF(ISBLANK(data!$C138),\"\",IF(ISBLANK(data!D138),\"\",data!G138))))","v":""},{"$f":"IF(ISBLANK(data!$A138),\"\",IF(ISBLANK(data!$B138),\"\",IF(ISBLANK(data!$C138),\"\",IF(ISBLANK(data!E138),\"\",data!H138))))","v":""},{"$f":"IF(ISBLANK(data!$A138),\"\",IF(ISBLANK(data!$B138),\"\",IF(ISBLANK(data!$C138),\"\",IF(ISBLANK(data!F138),\"\",data!I138))))","v":""},{"$f":"IF(smoothing!C134=\"\",\"\",smoothing!B134)","v":""},{"$f":"IF(smoothing!G134=\"\",\"\",smoothing!F134)","v":""},{"$f":"IF(smoothing!K134=\"\",\"\",smoothing!J134)","v":""}]
[{"$f":"IF(smoothing!A135=\"out of range\",\"out of range\",\"\")","v":""},{"$f":"IF(ISBLANK(data!A139),\"\",data!A139)","v":""},{"$f":"IF(ISBLANK(data!B139),\"\",data!B139)","v":""},{"$f":"IF(ISBLANK(data!$A139),\"\",IF(ISBLANK(data!$B139),\"\",IF(ISBLANK(data!$C139),\"\",IF(ISBLANK(data!D139),\"\",data!G139))))","v":""},{"$f":"IF(ISBLANK(data!$A139),\"\",IF(ISBLANK(data!$B139),\"\",IF(ISBLANK(data!$C139),\"\",IF(ISBLANK(data!E139),\"\",data!H139))))","v":""},{"$f":"IF(ISBLANK(data!$A139),\"\",IF(ISBLANK(data!$B139),\"\",IF(ISBLANK(data!$C139),\"\",IF(ISBLANK(data!F139),\"\",data!I139))))","v":""},{"$f":"IF(smoothing!C135=\"\",\"\",smoothing!B135)","v":""},{"$f":"IF(smoothing!G135=\"\",\"\",smoothing!F135)","v":""},{"$f":"IF(smoothing!K135=\"\",\"\",smoothing!J135)","v":""}]
[{"$f":"IF(smoothing!A136=\"out of range\",\"out of range\",\"\")","v":""},{"$f":"IF(ISBLANK(data!A140),\"\",data!A140)","v":""},{"$f":"IF(ISBLANK(data!B140),\"\",data!B140)","v":""},{"$f":"IF(ISBLANK(data!$A140),\"\",IF(ISBLANK(data!$B140),\"\",IF(ISBLANK(data!$C140),\"\",IF(ISBLANK(data!D140),\"\",data!G140))))","v":""},{"$f":"IF(ISBLANK(data!$A140),\"\",IF(ISBLANK(data!$B140),\"\",IF(ISBLANK(data!$C140),\"\",IF(ISBLANK(data!E140),\"\",data!H140))))","v":""},{"$f":"IF(ISBLANK(data!$A140),\"\",IF(ISBLANK(data!$B140),\"\",IF(ISBLANK(data!$C140),\"\",IF(ISBLANK(data!F140),\"\",data!I140))))","v":""},{"$f":"IF(smoothing!C136=\"\",\"\",smoothing!B136)","v":""},{"$f":"IF(smoothing!G136=\"\",\"\",smoothing!F136)","v":""},{"$f":"IF(smoothing!K136=\"\",\"\",smoothing!J136)","v":""}]
[{"$f":"IF(smoothing!A137=\"out of range\",\"out of range\",\"\")","v":""},{"$f":"IF(ISBLANK(data!A141),\"\",data!A141)","v":""},{"$f":"IF(ISBLANK(data!B141),\"\",data!B141)","v":""},{"$f":"IF(ISBLANK(data!$A141),\"\",IF(ISBLANK(data!$B141),\"\",IF(ISBLANK(data!$C141),\"\",IF(ISBLANK(data!D141),\"\",data!G141))))","v":""},{"$f":"IF(ISBLANK(data!$A141),\"\",IF(ISBLANK(data!$B141),\"\",IF(ISBLANK(data!$C141),\"\",IF(ISBLANK(data!E141),\"\",data!H141))))","v":""},{"$f":"IF(ISBLANK(data!$A141),\"\",IF(ISBLANK(data!$B141),\"\",IF(ISBLANK(data!$C141),\"\",IF(ISBLANK(data!F141),\"\",data!I141))))","v":""},{"$f":"IF(smoothing!C137=\"\",\"\",smoothing!B137)","v":""},{"$f":"IF(smoothing!G137=\"\",\"\",smoothing!F137)","v":""},{"$f":"IF(smoothing!K137=\"\",\"\",smoothing!J137)","v":""}]
[{"$f":"IF(smoothing!A138=\"out of range\",\"out of range\",\"\")","v":""},{"$f":"IF(ISBLANK(data!A142),\"\",data!A142)","v":""},{"$f":"IF(ISBLANK(data!B142),\"\",data!B142)","v":""},{"$f":"IF(ISBLANK(data!$A142),\"\",IF(ISBLANK(data!$B142),\"\",IF(ISBLANK(data!$C142),\"\",IF(ISBLANK(data!D142),\"\",data!G142))))","v":""},{"$f":"IF(ISBLANK(data!$A142),\"\",IF(ISBLANK(data!$B142),\"\",IF(ISBLANK(data!$C142),\"\",IF(ISBLANK(data!E142),\"\",data!H142))))","v":""},{"$f":"IF(ISBLANK(data!$A142),\"\",IF(ISBLANK(data!$B142),\"\",IF(ISBLANK(data!$C142),\"\",IF(ISBLANK(data!F142),\"\",data!I142))))","v":""},{"$f":"IF(smoothing!C138=\"\",\"\",smoothing!B138)","v":""},{"$f":"IF(smoothing!G138=\"\",\"\",smoothing!F138)","v":""},{"$f":"IF(smoothing!K138=\"\",\"\",smoothing!J138)","v":""}]
[{"$f":"IF(smoothing!A139=\"out of range\",\"out of range\",\"\")","v":""},{"$f":"IF(ISBLANK(data!A143),\"\",data!A143)","v":""},{"$f":"IF(ISBLANK(data!B143),\"\",data!B143)","v":""},{"$f":"IF(ISBLANK(data!$A143),\"\",IF(ISBLANK(data!$B143),\"\",IF(ISBLANK(data!$C143),\"\",IF(ISBLANK(data!D143),\"\",data!G143))))","v":""},{"$f":"IF(ISBLANK(data!$A143),\"\",IF(ISBLANK(data!$B143),\"\",IF(ISBLANK(data!$C143),\"\",IF(ISBLANK(data!E143),\"\",data!H143))))","v":""},{"$f":"IF(ISBLANK(data!$A143),\"\",IF(ISBLANK(data!$B143),\"\",IF(ISBLANK(data!$C143),\"\",IF(ISBLANK(data!F143),\"\",data!I143))))","v":""},{"$f":"IF(smoothing!C139=\"\",\"\",smoothing!B139)","v":""},{"$f":"IF(smoothing!G139=\"\",\"\",smoothing!F139)","v":""},{"$f":"IF(smoothing!K139=\"\",\"\",smoothing!J139)","v":""}]
[{"$f":"IF(smoothing!A140=\"out of range\",\"out of range\",\"\")","v":""},{"$f":"IF(ISBLANK(data!A144),\"\",data!A144)","v":""},{"$f":"IF(ISBLANK(data!B144),\"\",data!B144)","v":""},{"$f":"IF(ISBLANK(data!$A144),\"\",IF(ISBLANK(data!$B144),\"\",IF(ISBLANK(data!$C144),\"\",IF(ISBLANK(data!D144),\"\",data!G144))))","v":""},{"$f":"IF(ISBLANK(data!$A144),\"\",IF(ISBLANK(data!$B144),\"\",IF(ISBLANK(data!$C144),\"\",IF(ISBLANK(data!E144),\"\",data!H144))))","v":""},{"$f":"IF(ISBLANK(data!$A144),\"\",IF(ISBLANK(data!$B144),\"\",IF(ISBLANK(data!$C144),\"\",IF(ISBLANK(data!F144),\"\",data!I144))))","v":""},{"$f":"IF(smoothing!C140=\"\",\"\",smoothing!B140)","v":""},{"$f":"IF(smoothing!G140=\"\",\"\",smoothing!F140)","v":""},{"$f":"IF(smoothing!K140=\"\",\"\",smoothing!J140)","v":""}]
[{"$f":"IF(smoothing!A141=\"out of range\",\"out of range\",\"\")","v":""},{"$f":"IF(ISBLANK(data!A145),\"\",data!A145)","v":""},{"$f":"IF(ISBLANK(data!B145),\"\",data!B145)","v":""},{"$f":"IF(ISBLANK(data!$A145),\"\",IF(ISBLANK(data!$B145),\"\",IF(ISBLANK(data!$C145),\"\",IF(ISBLANK(data!D145),\"\",data!G145))))","v":""},{"$f":"IF(ISBLANK(data!$A145),\"\",IF(ISBLANK(data!$B145),\"\",IF(ISBLANK(data!$C145),\"\",IF(ISBLANK(data!E145),\"\",data!H145))))","v":""},{"$f":"IF(ISBLANK(data!$A145),\"\",IF(ISBLANK(data!$B145),\"\",IF(ISBLANK(data!$C145),\"\",IF(ISBLANK(data!F145),\"\",data!I145))))","v":""},{"$f":"IF(smoothing!C141=\"\",\"\",smoothing!B141)","v":""},{"$f":"IF(smoothing!G141=\"\",\"\",smoothing!F141)","v":""},{"$f":"IF(smoothing!K141=\"\",\"\",smoothing!J141)","v":""}]
[{"$f":"IF(smoothing!A142=\"out of range\",\"out of range\",\"\")","v":""},{"$f":"IF(ISBLANK(data!A146),\"\",data!A146)","v":""},{"$f":"IF(ISBLANK(data!B146),\"\",data!B146)","v":""},{"$f":"IF(ISBLANK(data!$A146),\"\",IF(ISBLANK(data!$B146),\"\",IF(ISBLANK(data!$C146),\"\",IF(ISBLANK(data!D146),\"\",data!G146))))","v":""},{"$f":"IF(ISBLANK(data!$A146),\"\",IF(ISBLANK(data!$B146),\"\",IF(ISBLANK(data!$C146),\"\",IF(ISBLANK(data!E146),\"\",data!H146))))","v":""},{"$f":"IF(ISBLANK(data!$A146),\"\",IF(ISBLANK(data!$B146),\"\",IF(ISBLANK(data!$C146),\"\",IF(ISBLANK(data!F146),\"\",data!I146))))","v":""},{"$f":"IF(smoothing!C142=\"\",\"\",smoothing!B142)","v":""},{"$f":"IF(smoothing!G142=\"\",\"\",smoothing!F142)","v":""},{"$f":"IF(smoothing!K142=\"\",\"\",smoothing!J142)","v":""}]
[{"$f":"IF(smoothing!A143=\"out of range\",\"out of range\",\"\")","v":""},{"$f":"IF(ISBLANK(data!A147),\"\",data!A147)","v":""},{"$f":"IF(ISBLANK(data!B147),\"\",data!B147)","v":""},{"$f":"IF(ISBLANK(data!$A147),\"\",IF(ISBLANK(data!$B147),\"\",IF(ISBLANK(data!$C147),\"\",IF(ISBLANK(data!D147),\"\",data!G147))))","v":""},{"$f":"IF(ISBLANK(data!$A147),\"\",IF(ISBLANK(data!$B147),\"\",IF(ISBLANK(data!$C147),\"\",IF(ISBLANK(data!E147),\"\",data!H147))))","v":""},{"$f":"IF(ISBLANK(data!$A147),\"\",IF(ISBLANK(data!$B147),\"\",IF(ISBLANK(data!$C147),\"\",IF(ISBLANK(data!F147),\"\",data!I147))))","v":""},{"$f":"IF(smoothing!C143=\"\",\"\",smoothing!B143)","v":""},{"$f":"IF(smoothing!G143=\"\",\"\",smoothing!F143)","v":""},{"$f":"IF(smoothing!K143=\"\",\"\",smoothing!J143)","v":""}]
[{"$f":"IF(smoothing!A144=\"out of range\",\"out of range\",\"\")","v":""},{"$f":"IF(ISBLANK(data!A148),\"\",data!A148)","v":""},{"$f":"IF(ISBLANK(data!B148),\"\",data!B148)","v":""},{"$f":"IF(ISBLANK(data!$A148),\"\",IF(ISBLANK(data!$B148),\"\",IF(ISBLANK(data!$C148),\"\",IF(ISBLANK(data!D148),\"\",data!G148))))","v":""},{"$f":"IF(ISBLANK(data!$A148),\"\",IF(ISBLANK(data!$B148),\"\",IF(ISBLANK(data!$C148),\"\",IF(ISBLANK(data!E148),\"\",data!H148))))","v":""},{"$f":"IF(ISBLANK(data!$A148),\"\",IF(ISBLANK(data!$B148),\"\",IF(ISBLANK(data!$C148),\"\",IF(ISBLANK(data!F148),\"\",data!I148))))","v":""},{"$f":"IF(smoothing!C144=\"\",\"\",smoothing!B144)","v":""},{"$f":"IF(smoothing!G144=\"\",\"\",smoothing!F144)","v":""},{"$f":"IF(smoothing!K144=\"\",\"\",smoothing!J144)","v":""}]
[{"$f":"IF(smoothing!A145=\"out of range\",\"out of range\",\"\")","v":""},{"$f":"IF(ISBLANK(data!A149),\"\",data!A149)","v":""},{"$f":"IF(ISBLANK(data!B149),\"\",data!B149)","v":""},{"$f":"IF(ISBLANK(data!$A149),\"\",IF(ISBLANK(data!$B149),\"\",IF(ISBLANK(data!$C149),\"\",IF(ISBLANK(data!D149),\"\",data!G149))))","v":""},{"$f":"IF(ISBLANK(data!$A149),\"\",IF(ISBLANK(data!$B149),\"\",IF(ISBLANK(data!$C149),\"\",IF(ISBLANK(data!E149),\"\",data!H149))))","v":""},{"$f":"IF(ISBLANK(data!$A149),\"\",IF(ISBLANK(data!$B149),\"\",IF(ISBLANK(data!$C149),\"\",IF(ISBLANK(data!F149),\"\",data!I149))))","v":""},{"$f":"IF(smoothing!C145=\"\",\"\",smoothing!B145)","v":""},{"$f":"IF(smoothing!G145=\"\",\"\",smoothing!F145)","v":""},{"$f":"IF(smoothing!K145=\"\",\"\",smoothing!J145)","v":""}]
[{"$f":"IF(smoothing!A146=\"out of range\",\"out of range\",\"\")","v":""},{"$f":"IF(ISBLANK(data!A150),\"\",data!A150)","v":""},{"$f":"IF(ISBLANK(data!B150),\"\",data!B150)","v":""},{"$f":"IF(ISBLANK(data!$A150),\"\",IF(ISBLANK(data!$B150),\"\",IF(ISBLANK(data!$C150),\"\",IF(ISBLANK(data!D150),\"\",data!G150))))","v":""},{"$f":"IF(ISBLANK(data!$A150),\"\",IF(ISBLANK(data!$B150),\"\",IF(ISBLANK(data!$C150),\"\",IF(ISBLANK(data!E150),\"\",data!H150))))","v":""},{"$f":"IF(ISBLANK(data!$A150),\"\",IF(ISBLANK(data!$B150),\"\",IF(ISBLANK(data!$C150),\"\",IF(ISBLANK(data!F150),\"\",data!I150))))","v":""},{"$f":"IF(smoothing!C146=\"\",\"\",smoothing!B146)","v":""},{"$f":"IF(smoothing!G146=\"\",\"\",smoothing!F146)","v":""},{"$f":"IF(smoothing!K146=\"\",\"\",smoothing!J146)","v":""}]
[{"$f":"IF(smoothing!A147=\"out of range\",\"out of range\",\"\")","v":""},{"$f":"IF(ISBLANK(data!A151),\"\",data!A151)","v":""},{"$f":"IF(ISBLANK(data!B151),\"\",data!B151)","v":""},{"$f":"IF(ISBLANK(data!$A151),\"\",IF(ISBLANK(data!$B151),\"\",IF(ISBLANK(data!$C151),\"\",IF(ISBLANK(data!D151),\"\",data!G151))))","v":""},{"$f":"IF(ISBLANK(data!$A151),\"\",IF(ISBLANK(data!$B151),\"\",IF(ISBLANK(data!$C151),\"\",IF(ISBLANK(data!E151),\"\",data!H151))))","v":""},{"$f":"IF(ISBLANK(data!$A151),\"\",IF(ISBLANK(data!$B151),\"\",IF(ISBLANK(data!$C151),\"\",IF(ISBLANK(data!F151),\"\",data!I151))))","v":""},{"$f":"IF(smoothing!C147=\"\",\"\",smoothing!B147)","v":""},{"$f":"IF(smoothing!G147=\"\",\"\",smoothing!F147)","v":""},{"$f":"IF(smoothing!K147=\"\",\"\",smoothing!J147)","v":""}]
[{"$f":"IF(smoothing!A148=\"out of range\",\"out of range\",\"\")","v":""},{"$f":"IF(ISBLANK(data!A152),\"\",data!A152)","v":""},{"$f":"IF(ISBLANK(data!B152),\"\",data!B152)","v":""},{"$f":"IF(ISBLANK(data!$A152),\"\",IF(ISBLANK(data!$B152),\"\",IF(ISBLANK(data!$C152),\"\",IF(ISBLANK(data!D152),\"\",data!G152))))","v":""},{"$f":"IF(ISBLANK(data!$A152),\"\",IF(ISBLANK(data!$B152),\"\",IF(ISBLANK(data!$C152),\"\",IF(ISBLANK(data!E152),\"\",data!H152))))","v":""},{"$f":"IF(ISBLANK(data!$A152),\"\",IF(ISBLANK(data!$B152),\"\",IF(ISBLANK(data!$C152),\"\",IF(ISBLANK(data!F152),\"\",data!I152))))","v":""},{"$f":"IF(smoothing!C148=\"\",\"\",smoothing!B148)","v":""},{"$f":"IF(smoothing!G148=\"\",\"\",smoothing!F148)","v":""},{"$f":"IF(smoothing!K148=\"\",\"\",smoothing!J148)","v":""}]
[{"$f":"IF(smoothing!A149=\"out of range\",\"out of range\",\"\")","v":""},{"$f":"IF(ISBLANK(data!A153),\"\",data!A153)","v":""},{"$f":"IF(ISBLANK(data!B153),\"\",data!B153)","v":""},{"$f":"IF(ISBLANK(data!$A153),\"\",IF(ISBLANK(data!$B153),\"\",IF(ISBLANK(data!$C153),\"\",IF(ISBLANK(data!D153),\"\",data!G153))))","v":""},{"$f":"IF(ISBLANK(data!$A153),\"\",IF(ISBLANK(data!$B153),\"\",IF(ISBLANK(data!$C153),\"\",IF(ISBLANK(data!E153),\"\",data!H153))))","v":""},{"$f":"IF(ISBLANK(data!$A153),\"\",IF(ISBLANK(data!$B153),\"\",IF(ISBLANK(data!$C153),\"\",IF(ISBLANK(data!F153),\"\",data!I153))))","v":""},{"$f":"IF(smoothing!C149=\"\",\"\",smoothing!B149)","v":""},{"$f":"IF(smoothing!G149=\"\",\"\",smoothing!F149)","v":""},{"$f":"IF(smoothing!K149=\"\",\"\",smoothing!J149)","v":""}]
[{"$f":"IF(smoothing!A150=\"out of range\",\"out of range\",\"\")","v":""},{"$f":"IF(ISBLANK(data!A154),\"\",data!A154)","v":""},{"$f":"IF(ISBLANK(data!B154),\"\",data!B154)","v":""},{"$f":"IF(ISBLANK(data!$A154),\"\",IF(ISBLANK(data!$B154),\"\",IF(ISBLANK(data!$C154),\"\",IF(ISBLANK(data!D154),\"\",data!G154))))","v":""},{"$f":"IF(ISBLANK(data!$A154),\"\",IF(ISBLANK(data!$B154),\"\",IF(ISBLANK(data!$C154),\"\",IF(ISBLANK(data!E154),\"\",data!H154))))","v":""},{"$f":"IF(ISBLANK(data!$A154),\"\",IF(ISBLANK(data!$B154),\"\",IF(ISBLANK(data!$C154),\"\",IF(ISBLANK(data!F154),\"\",data!I154))))","v":""},{"$f":"IF(smoothing!C150=\"\",\"\",smoothing!B150)","v":""},{"$f":"IF(smoothing!G150=\"\",\"\",smoothing!F150)","v":""},{"$f":"IF(smoothing!K150=\"\",\"\",smoothing!J150)","v":""}]
[{"$f":"IF(smoothing!A151=\"out of range\",\"out of range\",\"\")","v":""},{"$f":"IF(ISBLANK(data!A155),\"\",data!A155)","v":""},{"$f":"IF(ISBLANK(data!B155),\"\",data!B155)","v":""},{"$f":"IF(ISBLANK(data!$A155),\"\",IF(ISBLANK(data!$B155),\"\",IF(ISBLANK(data!$C155),\"\",IF(ISBLANK(data!D155),\"\",data!G155))))","v":""},{"$f":"IF(ISBLANK(data!$A155),\"\",IF(ISBLANK(data!$B155),\"\",IF(ISBLANK(data!$C155),\"\",IF(ISBLANK(data!E155),\"\",data!H155))))","v":""},{"$f":"IF(ISBLANK(data!$A155),\"\",IF(ISBLANK(data!$B155),\"\",IF(ISBLANK(data!$C155),\"\",IF(ISBLANK(data!F155),\"\",data!I155))))","v":""},{"$f":"IF(smoothing!C151=\"\",\"\",smoothing!B151)","v":""},{"$f":"IF(smoothing!G151=\"\",\"\",smoothing!F151)","v":""},{"$f":"IF(smoothing!K151=\"\",\"\",smoothing!J151)","v":""}]
[{"$f":"IF(smoothing!A152=\"out of range\",\"out of range\",\"\")","v":""},{"$f":"IF(ISBLANK(data!A156),\"\",data!A156)","v":""},{"$f":"IF(ISBLANK(data!B156),\"\",data!B156)","v":""},{"$f":"IF(ISBLANK(data!$A156),\"\",IF(ISBLANK(data!$B156),\"\",IF(ISBLANK(data!$C156),\"\",IF(ISBLANK(data!D156),\"\",data!G156))))","v":""},{"$f":"IF(ISBLANK(data!$A156),\"\",IF(ISBLANK(data!$B156),\"\",IF(ISBLANK(data!$C156),\"\",IF(ISBLANK(data!E156),\"\",data!H156))))","v":""},{"$f":"IF(ISBLANK(data!$A156),\"\",IF(ISBLANK(data!$B156),\"\",IF(ISBLANK(data!$C156),\"\",IF(ISBLANK(data!F156),\"\",data!I156))))","v":""},{"$f":"IF(smoothing!C152=\"\",\"\",smoothing!B152)","v":""},{"$f":"IF(smoothing!G152=\"\",\"\",smoothing!F152)","v":""},{"$f":"IF(smoothing!K152=\"\",\"\",smoothing!J152)","v":""}]
[{"$f":"IF(smoothing!A153=\"out of range\",\"out of range\",\"\")","v":""},{"$f":"IF(ISBLANK(data!A157),\"\",data!A157)","v":""},{"$f":"IF(ISBLANK(data!B157),\"\",data!B157)","v":""},{"$f":"IF(ISBLANK(data!$A157),\"\",IF(ISBLANK(data!$B157),\"\",IF(ISBLANK(data!$C157),\"\",IF(ISBLANK(data!D157),\"\",data!G157))))","v":""},{"$f":"IF(ISBLANK(data!$A157),\"\",IF(ISBLANK(data!$B157),\"\",IF(ISBLANK(data!$C157),\"\",IF(ISBLANK(data!E157),\"\",data!H157))))","v":""},{"$f":"IF(ISBLANK(data!$A157),\"\",IF(ISBLANK(data!$B157),\"\",IF(ISBLANK(data!$C157),\"\",IF(ISBLANK(data!F157),\"\",data!I157))))","v":""},{"$f":"IF(smoothing!C153=\"\",\"\",smoothing!B153)","v":""},{"$f":"IF(smoothing!G153=\"\",\"\",smoothing!F153)","v":""},{"$f":"IF(smoothing!K153=\"\",\"\",smoothing!J153)","v":""}]
[{"$f":"IF(smoothing!A154=\"out of range\",\"out of range\",\"\")","v":""},{"$f":"IF(ISBLANK(data!A158),\"\",data!A158)","v":""},{"$f":"IF(ISBLANK(data!B158),\"\",data!B158)","v":""},{"$f":"IF(ISBLANK(data!$A158),\"\",IF(ISBLANK(data!$B158),\"\",IF(ISBLANK(data!$C158),\"\",IF(ISBLANK(data!D158),\"\",data!G158))))","v":""},{"$f":"IF(ISBLANK(data!$A158),\"\",IF(ISBLANK(data!$B158),\"\",IF(ISBLANK(data!$C158),\"\",IF(ISBLANK(data!E158),\"\",data!H158))))","v":""},{"$f":"IF(ISBLANK(data!$A158),\"\",IF(ISBLANK(data!$B158),\"\",IF(ISBLANK(data!$C158),\"\",IF(ISBLANK(data!F158),\"\",data!I158))))","v":""},{"$f":"IF(smoothing!C154=\"\",\"\",smoothing!B154)","v":""},{"$f":"IF(smoothing!G154=\"\",\"\",smoothing!F154)","v":""},{"$f":"IF(smoothing!K154=\"\",\"\",smoothing!J154)","v":""}]
[{"$f":"IF(smoothing!A155=\"out of range\",\"out of range\",\"\")","v":""},{"$f":"IF(ISBLANK(data!A159),\"\",data!A159)","v":""},{"$f":"IF(ISBLANK(data!B159),\"\",data!B159)","v":""},{"$f":"IF(ISBLANK(data!$A159),\"\",IF(ISBLANK(data!$B159),\"\",IF(ISBLANK(data!$C159),\"\",IF(ISBLANK(data!D159),\"\",data!G159))))","v":""},{"$f":"IF(ISBLANK(data!$A159),\"\",IF(ISBLANK(data!$B159),\"\",IF(ISBLANK(data!$C159),\"\",IF(ISBLANK(data!E159),\"\",data!H159))))","v":""},{"$f":"IF(ISBLANK(data!$A159),\"\",IF(ISBLANK(data!$B159),\"\",IF(ISBLANK(data!$C159),\"\",IF(ISBLANK(data!F159),\"\",data!I159))))","v":""},{"$f":"IF(smoothing!C155=\"\",\"\",smoothing!B155)","v":""},{"$f":"IF(smoothing!G155=\"\",\"\",smoothing!F155)","v":""},{"$f":"IF(smoothing!K155=\"\",\"\",smoothing!J155)","v":""}]
[{"$f":"IF(smoothing!A156=\"out of range\",\"out of range\",\"\")","v":""},{"$f":"IF(ISBLANK(data!A160),\"\",data!A160)","v":""},{"$f":"IF(ISBLANK(data!B160),\"\",data!B160)","v":""},{"$f":"IF(ISBLANK(data!$A160),\"\",IF(ISBLANK(data!$B160),\"\",IF(ISBLANK(data!$C160),\"\",IF(ISBLANK(data!D160),\"\",data!G160))))","v":""},{"$f":"IF(ISBLANK(data!$A160),\"\",IF(ISBLANK(data!$B160),\"\",IF(ISBLANK(data!$C160),\"\",IF(ISBLANK(data!E160),\"\",data!H160))))","v":""},{"$f":"IF(ISBLANK(data!$A160),\"\",IF(ISBLANK(data!$B160),\"\",IF(ISBLANK(data!$C160),\"\",IF(ISBLANK(data!F160),\"\",data!I160))))","v":""},{"$f":"IF(smoothing!C156=\"\",\"\",smoothing!B156)","v":""},{"$f":"IF(smoothing!G156=\"\",\"\",smoothing!F156)","v":""},{"$f":"IF(smoothing!K156=\"\",\"\",smoothing!J156)","v":""}]
[{"$f":"IF(smoothing!A157=\"out of range\",\"out of range\",\"\")","v":""},{"$f":"IF(ISBLANK(data!A161),\"\",data!A161)","v":""},{"$f":"IF(ISBLANK(data!B161),\"\",data!B161)","v":""},{"$f":"IF(ISBLANK(data!$A161),\"\",IF(ISBLANK(data!$B161),\"\",IF(ISBLANK(data!$C161),\"\",IF(ISBLANK(data!D161),\"\",data!G161))))","v":""},{"$f":"IF(ISBLANK(data!$A161),\"\",IF(ISBLANK(data!$B161),\"\",IF(ISBLANK(data!$C161),\"\",IF(ISBLANK(data!E161),\"\",data!H161))))","v":""},{"$f":"IF(ISBLANK(data!$A161),\"\",IF(ISBLANK(data!$B161),\"\",IF(ISBLANK(data!$C161),\"\",IF(ISBLANK(data!F161),\"\",data!I161))))","v":""},{"$f":"IF(smoothing!C157=\"\",\"\",smoothing!B157)","v":""},{"$f":"IF(smoothing!G157=\"\",\"\",smoothing!F157)","v":""},{"$f":"IF(smoothing!K157=\"\",\"\",smoothing!J157)","v":""}]
[{"$f":"IF(smoothing!A158=\"out of range\",\"out of range\",\"\")","v":""},{"$f":"IF(ISBLANK(data!A162),\"\",data!A162)","v":""},{"$f":"IF(ISBLANK(data!B162),\"\",data!B162)","v":""},{"$f":"IF(ISBLANK(data!$A162),\"\",IF(ISBLANK(data!$B162),\"\",IF(ISBLANK(data!$C162),\"\",IF(ISBLANK(data!D162),\"\",data!G162))))","v":""},{"$f":"IF(ISBLANK(data!$A162),\"\",IF(ISBLANK(data!$B162),\"\",IF(ISBLANK(data!$C162),\"\",IF(ISBLANK(data!E162),\"\",data!H162))))","v":""},{"$f":"IF(ISBLANK(data!$A162),\"\",IF(ISBLANK(data!$B162),\"\",IF(ISBLANK(data!$C162),\"\",IF(ISBLANK(data!F162),\"\",data!I162))))","v":""},{"$f":"IF(smoothing!C158=\"\",\"\",smoothing!B158)","v":""},{"$f":"IF(smoothing!G158=\"\",\"\",smoothing!F158)","v":""},{"$f":"IF(smoothing!K158=\"\",\"\",smoothing!J158)","v":""}]
[{"$f":"IF(smoothing!A159=\"out of range\",\"out of range\",\"\")","v":""},{"$f":"IF(ISBLANK(data!A163),\"\",data!A163)","v":""},{"$f":"IF(ISBLANK(data!B163),\"\",data!B163)","v":""},{"$f":"IF(ISBLANK(data!$A163),\"\",IF(ISBLANK(data!$B163),\"\",IF(ISBLANK(data!$C163),\"\",IF(ISBLANK(data!D163),\"\",data!G163))))","v":""},{"$f":"IF(ISBLANK(data!$A163),\"\",IF(ISBLANK(data!$B163),\"\",IF(ISBLANK(data!$C163),\"\",IF(ISBLANK(data!E163),\"\",data!H163))))","v":""},{"$f":"IF(ISBLANK(data!$A163),\"\",IF(ISBLANK(data!$B163),\"\",IF(ISBLANK(data!$C163),\"\",IF(ISBLANK(data!F163),\"\",data!I163))))","v":""},{"$f":"IF(smoothing!C159=\"\",\"\",smoothing!B159)","v":""},{"$f":"IF(smoothing!G159=\"\",\"\",smoothing!F159)","v":""},{"$f":"IF(smoothing!K159=\"\",\"\",smoothing!J159)","v":""}]
[{"$f":"IF(smoothing!A160=\"out of range\",\"out of range\",\"\")","v":""},{"$f":"IF(ISBLANK(data!A164),\"\",data!A164)","v":""},{"$f":"IF(ISBLANK(data!B164),\"\",data!B164)","v":""},{"$f":"IF(ISBLANK(data!$A164),\"\",IF(ISBLANK(data!$B164),\"\",IF(ISBLANK(data!$C164),\"\",IF(ISBLANK(data!D164),\"\",data!G164))))","v":""},{"$f":"IF(ISBLANK(data!$A164),\"\",IF(ISBLANK(data!$B164),\"\",IF(ISBLANK(data!$C164),\"\",IF(ISBLANK(data!E164),\"\",data!H164))))","v":""},{"$f":"IF(ISBLANK(data!$A164),\"\",IF(ISBLANK(data!$B164),\"\",IF(ISBLANK(data!$C164),\"\",IF(ISBLANK(data!F164),\"\",data!I164))))","v":""},{"$f":"IF(smoothing!C160=\"\",\"\",smoothing!B160)","v":""},{"$f":"IF(smoothing!G160=\"\",\"\",smoothing!F160)","v":""},{"$f":"IF(smoothing!K160=\"\",\"\",smoothing!J160)","v":""}]
[{"$f":"IF(smoothing!A161=\"out of range\",\"out of range\",\"\")","v":""},{"$f":"IF(ISBLANK(data!A165),\"\",data!A165)","v":""},{"$f":"IF(ISBLANK(data!B165),\"\",data!B165)","v":""},{"$f":"IF(ISBLANK(data!$A165),\"\",IF(ISBLANK(data!$B165),\"\",IF(ISBLANK(data!$C165),\"\",IF(ISBLANK(data!D165),\"\",data!G165))))","v":""},{"$f":"IF(ISBLANK(data!$A165),\"\",IF(ISBLANK(data!$B165),\"\",IF(ISBLANK(data!$C165),\"\",IF(ISBLANK(data!E165),\"\",data!H165))))","v":""},{"$f":"IF(ISBLANK(data!$A165),\"\",IF(ISBLANK(data!$B165),\"\",IF(ISBLANK(data!$C165),\"\",IF(ISBLANK(data!F165),\"\",data!I165))))","v":""},{"$f":"IF(smoothing!C161=\"\",\"\",smoothing!B161)","v":""},{"$f":"IF(smoothing!G161=\"\",\"\",smoothing!F161)","v":""},{"$f":"IF(smoothing!K161=\"\",\"\",smoothing!J161)","v":""}]
[{"$f":"IF(smoothing!A162=\"out of range\",\"out of range\",\"\")","v":""},{"$f":"IF(ISBLANK(data!A166),\"\",data!A166)","v":""},{"$f":"IF(ISBLANK(data!B166),\"\",data!B166)","v":""},{"$f":"IF(ISBLANK(data!$A166),\"\",IF(ISBLANK(data!$B166),\"\",IF(ISBLANK(data!$C166),\"\",IF(ISBLANK(data!D166),\"\",data!G166))))","v":""},{"$f":"IF(ISBLANK(data!$A166),\"\",IF(ISBLANK(data!$B166),\"\",IF(ISBLANK(data!$C166),\"\",IF(ISBLANK(data!E166),\"\",data!H166))))","v":""},{"$f":"IF(ISBLANK(data!$A166),\"\",IF(ISBLANK(data!$B166),\"\",IF(ISBLANK(data!$C166),\"\",IF(ISBLANK(data!F166),\"\",data!I166))))","v":""},{"$f":"IF(smoothing!C162=\"\",\"\",smoothing!B162)","v":""},{"$f":"IF(smoothing!G162=\"\",\"\",smoothing!F162)","v":""},{"$f":"IF(smoothing!K162=\"\",\"\",smoothing!J162)","v":""}]
[{"$f":"IF(smoothing!A163=\"out of range\",\"out of range\",\"\")","v":""},{"$f":"IF(ISBLANK(data!A167),\"\",data!A167)","v":""},{"$f":"IF(ISBLANK(data!B167),\"\",data!B167)","v":""},{"$f":"IF(ISBLANK(data!$A167),\"\",IF(ISBLANK(data!$B167),\"\",IF(ISBLANK(data!$C167),\"\",IF(ISBLANK(data!D167),\"\",data!G167))))","v":""},{"$f":"IF(ISBLANK(data!$A167),\"\",IF(ISBLANK(data!$B167),\"\",IF(ISBLANK(data!$C167),\"\",IF(ISBLANK(data!E167),\"\",data!H167))))","v":""},{"$f":"IF(ISBLANK(data!$A167),\"\",IF(ISBLANK(data!$B167),\"\",IF(ISBLANK(data!$C167),\"\",IF(ISBLANK(data!F167),\"\",data!I167))))","v":""},{"$f":"IF(smoothing!C163=\"\",\"\",smoothing!B163)","v":""},{"$f":"IF(smoothing!G163=\"\",\"\",smoothing!F163)","v":""},{"$f":"IF(smoothing!K163=\"\",\"\",smoothing!J163)","v":""}]
[{"$f":"IF(smoothing!A164=\"out of range\",\"out of range\",\"\")","v":""},{"$f":"IF(ISBLANK(data!A168),\"\",data!A168)","v":""},{"$f":"IF(ISBLANK(data!B168),\"\",data!B168)","v":""},{"$f":"IF(ISBLANK(data!$A168),\"\",IF(ISBLANK(data!$B168),\"\",IF(ISBLANK(data!$C168),\"\",IF(ISBLANK(data!D168),\"\",data!G168))))","v":""},{"$f":"IF(ISBLANK(data!$A168),\"\",IF(ISBLANK(data!$B168),\"\",IF(ISBLANK(data!$C168),\"\",IF(ISBLANK(data!E168),\"\",data!H168))))","v":""},{"$f":"IF(ISBLANK(data!$A168),\"\",IF(ISBLANK(data!$B168),\"\",IF(ISBLANK(data!$C168),\"\",IF(ISBLANK(data!F168),\"\",data!I168))))","v":""},{"$f":"IF(smoothing!C164=\"\",\"\",smoothing!B164)","v":""},{"$f":"IF(smoothing!G164=\"\",\"\",smoothing!F164)","v":""},{"$f":"IF(smoothing!K164=\"\",\"\",smoothing!J164)","v":""}]
[{"$f":"IF(smoothing!A165=\"out of range\",\"out of range\",\"\")","v":""},{"$f":"IF(ISBLANK(data!A169),\"\",data!A169)","v":""},{"$f":"IF(ISBLANK(data!B169),\"\",data!B169)","v":""},{"$f":"IF(ISBLANK(data!$A169),\"\",IF(ISBLANK(data!$B169),\"\",IF(ISBLANK(data!$C169),\"\",IF(ISBLANK(data!D169),\"\",data!G169))))","v":""},{"$f":"IF(ISBLANK(data!$A169),\"\",IF(ISBLANK(data!$B169),\"\",IF(ISBLANK(data!$C169),\"\",IF(ISBLANK(data!E169),\"\",data!H169))))","v":""},{"$f":"IF(ISBLANK(data!$A169),\"\",IF(ISBLANK(data!$B169),\"\",IF(ISBLANK(data!$C169),\"\",IF(ISBLANK(data!F169),\"\",data!I169))))","v":""},{"$f":"IF(smoothing!C165=\"\",\"\",smoothing!B165)","v":""},{"$f":"IF(smoothing!G165=\"\",\"\",smoothing!F165)","v":""},{"$f":"IF(smoothing!K165=\"\",\"\",smoothing!J165)","v":""}]
[{"$f":"IF(smoothing!A166=\"out of range\",\"out of range\",\"\")","v":""},{"$f":"IF(ISBLANK(data!A170),\"\",data!A170)","v":""},{"$f":"IF(ISBLANK(data!B170),\"\",data!B170)","v":""},{"$f":"IF(ISBLANK(data!$A170),\"\",IF(ISBLANK(data!$B170),\"\",IF(ISBLANK(data!$C170),\"\",IF(ISBLANK(data!D170),\"\",data!G170))))","v":""},{"$f":"IF(ISBLANK(data!$A170),\"\",IF(ISBLANK(data!$B170),\"\",IF(ISBLANK(data!$C170),\"\",IF(ISBLANK(data!E170),\"\",data!H170))))","v":""},{"$f":"IF(ISBLANK(data!$A170),\"\",IF(ISBLANK(data!$B170),\"\",IF(ISBLANK(data!$C170),\"\",IF(ISBLANK(data!F170),\"\",data!I170))))","v":""},{"$f":"IF(smoothing!C166=\"\",\"\",smoothing!B166)","v":""},{"$f":"IF(smoothing!G166=\"\",\"\",smoothing!F166)","v":""},{"$f":"IF(smoothing!K166=\"\",\"\",smoothing!J166)","v":""}]
[{"$f":"IF(smoothing!A167=\"out of range\",\"out of range\",\"\")","v":""},{"$f":"IF(ISBLANK(data!A171),\"\",data!A171)","v":""},{"$f":"IF(ISBLANK(data!B171),\"\",data!B171)","v":""},{"$f":"IF(ISBLANK(data!$A171),\"\",IF(ISBLANK(data!$B171),\"\",IF(ISBLANK(data!$C171),\"\",IF(ISBLANK(data!D171),\"\",data!G171))))","v":""},{"$f":"IF(ISBLANK(data!$A171),\"\",IF(ISBLANK(data!$B171),\"\",IF(ISBLANK(data!$C171),\"\",IF(ISBLANK(data!E171),\"\",data!H171))))","v":""},{"$f":"IF(ISBLANK(data!$A171),\"\",IF(ISBLANK(data!$B171),\"\",IF(ISBLANK(data!$C171),\"\",IF(ISBLANK(data!F171),\"\",data!I171))))","v":""},{"$f":"IF(smoothing!C167=\"\",\"\",smoothing!B167)","v":""},{"$f":"IF(smoothing!G167=\"\",\"\",smoothing!F167)","v":""},{"$f":"IF(smoothing!K167=\"\",\"\",smoothing!J167)","v":""}]
[{"$f":"IF(smoothing!A168=\"out of range\",\"out of range\",\"\")","v":""},{"$f":"IF(ISBLANK(data!A172),\"\",data!A172)","v":""},{"$f":"IF(ISBLANK(data!B172),\"\",data!B172)","v":""},{"$f":"IF(ISBLANK(data!$A172),\"\",IF(ISBLANK(data!$B172),\"\",IF(ISBLANK(data!$C172),\"\",IF(ISBLANK(data!D172),\"\",data!G172))))","v":""},{"$f":"IF(ISBLANK(data!$A172),\"\",IF(ISBLANK(data!$B172),\"\",IF(ISBLANK(data!$C172),\"\",IF(ISBLANK(data!E172),\"\",data!H172))))","v":""},{"$f":"IF(ISBLANK(data!$A172),\"\",IF(ISBLANK(data!$B172),\"\",IF(ISBLANK(data!$C172),\"\",IF(ISBLANK(data!F172),\"\",data!I172))))","v":""},{"$f":"IF(smoothing!C168=\"\",\"\",smoothing!B168)","v":""},{"$f":"IF(smoothing!G168=\"\",\"\",smoothing!F168)","v":""},{"$f":"IF(smoothing!K168=\"\",\"\",smoothing!J168)","v":""}]
[{"$f":"IF(smoothing!A169=\"out of range\",\"out of range\",\"\")","v":""},{"$f":"IF(ISBLANK(data!A173),\"\",data!A173)","v":""},{"$f":"IF(ISBLANK(data!B173),\"\",data!B173)","v":""},{"$f":"IF(ISBLANK(data!$A173),\"\",IF(ISBLANK(data!$B173),\"\",IF(ISBLANK(data!$C173),\"\",IF(ISBLANK(data!D173),\"\",data!G173))))","v":""},{"$f":"IF(ISBLANK(data!$A173),\"\",IF(ISBLANK(data!$B173),\"\",IF(ISBLANK(data!$C173),\"\",IF(ISBLANK(data!E173),\"\",data!H173))))","v":""},{"$f":"IF(ISBLANK(data!$A173),\"\",IF(ISBLANK(data!$B173),\"\",IF(ISBLANK(data!$C173),\"\",IF(ISBLANK(data!F173),\"\",data!I173))))","v":""},{"$f":"IF(smoothing!C169=\"\",\"\",smoothing!B169)","v":""},{"$f":"IF(smoothing!G169=\"\",\"\",smoothing!F169)","v":""},{"$f":"IF(smoothing!K169=\"\",\"\",smoothing!J169)","v":""}]
[{"$f":"IF(smoothing!A170=\"out of range\",\"out of range\",\"\")","v":""},{"$f":"IF(ISBLANK(data!A174),\"\",data!A174)","v":""},{"$f":"IF(ISBLANK(data!B174),\"\",data!B174)","v":""},{"$f":"IF(ISBLANK(data!$A174),\"\",IF(ISBLANK(data!$B174),\"\",IF(ISBLANK(data!$C174),\"\",IF(ISBLANK(data!D174),\"\",data!G174))))","v":""},{"$f":"IF(ISBLANK(data!$A174),\"\",IF(ISBLANK(data!$B174),\"\",IF(ISBLANK(data!$C174),\"\",IF(ISBLANK(data!E174),\"\",data!H174))))","v":""},{"$f":"IF(ISBLANK(data!$A174),\"\",IF(ISBLANK(data!$B174),\"\",IF(ISBLANK(data!$C174),\"\",IF(ISBLANK(data!F174),\"\",data!I174))))","v":""},{"$f":"IF(smoothing!C170=\"\",\"\",smoothing!B170)","v":""},{"$f":"IF(smoothing!G170=\"\",\"\",smoothing!F170)","v":""},{"$f":"IF(smoothing!K170=\"\",\"\",smoothing!J170)","v":""}]
[{"$f":"IF(smoothing!A171=\"out of range\",\"out of range\",\"\")","v":""},{"$f":"IF(ISBLANK(data!A175),\"\",data!A175)","v":""},{"$f":"IF(ISBLANK(data!B175),\"\",data!B175)","v":""},{"$f":"IF(ISBLANK(data!$A175),\"\",IF(ISBLANK(data!$B175),\"\",IF(ISBLANK(data!$C175),\"\",IF(ISBLANK(data!D175),\"\",data!G175))))","v":""},{"$f":"IF(ISBLANK(data!$A175),\"\",IF(ISBLANK(data!$B175),\"\",IF(ISBLANK(data!$C175),\"\",IF(ISBLANK(data!E175),\"\",data!H175))))","v":""},{"$f":"IF(ISBLANK(data!$A175),\"\",IF(ISBLANK(data!$B175),\"\",IF(ISBLANK(data!$C175),\"\",IF(ISBLANK(data!F175),\"\",data!I175))))","v":""},{"$f":"IF(smoothing!C171=\"\",\"\",smoothing!B171)","v":""},{"$f":"IF(smoothing!G171=\"\",\"\",smoothing!F171)","v":""},{"$f":"IF(smoothing!K171=\"\",\"\",smoothing!J171)","v":""}]
[{"$f":"IF(smoothing!A172=\"out of range\",\"out of range\",\"\")","v":""},{"$f":"IF(ISBLANK(data!A176),\"\",data!A176)","v":""},{"$f":"IF(ISBLANK(data!B176),\"\",data!B176)","v":""},{"$f":"IF(ISBLANK(data!$A176),\"\",IF(ISBLANK(data!$B176),\"\",IF(ISBLANK(data!$C176),\"\",IF(ISBLANK(data!D176),\"\",data!G176))))","v":""},{"$f":"IF(ISBLANK(data!$A176),\"\",IF(ISBLANK(data!$B176),\"\",IF(ISBLANK(data!$C176),\"\",IF(ISBLANK(data!E176),\"\",data!H176))))","v":""},{"$f":"IF(ISBLANK(data!$A176),\"\",IF(ISBLANK(data!$B176),\"\",IF(ISBLANK(data!$C176),\"\",IF(ISBLANK(data!F176),\"\",data!I176))))","v":""},{"$f":"IF(smoothing!C172=\"\",\"\",smoothing!B172)","v":""},{"$f":"IF(smoothing!G172=\"\",\"\",smoothing!F172)","v":""},{"$f":"IF(smoothing!K172=\"\",\"\",smoothing!J172)","v":""}]
[{"$f":"IF(smoothing!A173=\"out of range\",\"out of range\",\"\")","v":""},{"$f":"IF(ISBLANK(data!A177),\"\",data!A177)","v":""},{"$f":"IF(ISBLANK(data!B177),\"\",data!B177)","v":""},{"$f":"IF(ISBLANK(data!$A177),\"\",IF(ISBLANK(data!$B177),\"\",IF(ISBLANK(data!$C177),\"\",IF(ISBLANK(data!D177),\"\",data!G177))))","v":""},{"$f":"IF(ISBLANK(data!$A177),\"\",IF(ISBLANK(data!$B177),\"\",IF(ISBLANK(data!$C177),\"\",IF(ISBLANK(data!E177),\"\",data!H177))))","v":""},{"$f":"IF(ISBLANK(data!$A177),\"\",IF(ISBLANK(data!$B177),\"\",IF(ISBLANK(data!$C177),\"\",IF(ISBLANK(data!F177),\"\",data!I177))))","v":""},{"$f":"IF(smoothing!C173=\"\",\"\",smoothing!B173)","v":""},{"$f":"IF(smoothing!G173=\"\",\"\",smoothing!F173)","v":""},{"$f":"IF(smoothing!K173=\"\",\"\",smoothing!J173)","v":""}]
[{"$f":"IF(smoothing!A174=\"out of range\",\"out of range\",\"\")","v":""},{"$f":"IF(ISBLANK(data!A178),\"\",data!A178)","v":""},{"$f":"IF(ISBLANK(data!B178),\"\",data!B178)","v":""},{"$f":"IF(ISBLANK(data!$A178),\"\",IF(ISBLANK(data!$B178),\"\",IF(ISBLANK(data!$C178),\"\",IF(ISBLANK(data!D178),\"\",data!G178))))","v":""},{"$f":"IF(ISBLANK(data!$A178),\"\",IF(ISBLANK(data!$B178),\"\",IF(ISBLANK(data!$C178),\"\",IF(ISBLANK(data!E178),\"\",data!H178))))","v":""},{"$f":"IF(ISBLANK(data!$A178),\"\",IF(ISBLANK(data!$B178),\"\",IF(ISBLANK(data!$C178),\"\",IF(ISBLANK(data!F178),\"\",data!I178))))","v":""},{"$f":"IF(smoothing!C174=\"\",\"\",smoothing!B174)","v":""},{"$f":"IF(smoothing!G174=\"\",\"\",smoothing!F174)","v":""},{"$f":"IF(smoothing!K174=\"\",\"\",smoothing!J174)","v":""}]
[{"$f":"IF(smoothing!A175=\"out of range\",\"out of range\",\"\")","v":""},{"$f":"IF(ISBLANK(data!A179),\"\",data!A179)","v":""},{"$f":"IF(ISBLANK(data!B179),\"\",data!B179)","v":""},{"$f":"IF(ISBLANK(data!$A179),\"\",IF(ISBLANK(data!$B179),\"\",IF(ISBLANK(data!$C179),\"\",IF(ISBLANK(data!D179),\"\",data!G179))))","v":""},{"$f":"IF(ISBLANK(data!$A179),\"\",IF(ISBLANK(data!$B179),\"\",IF(ISBLANK(data!$C179),\"\",IF(ISBLANK(data!E179),\"\",data!H179))))","v":""},{"$f":"IF(ISBLANK(data!$A179),\"\",IF(ISBLANK(data!$B179),\"\",IF(ISBLANK(data!$C179),\"\",IF(ISBLANK(data!F179),\"\",data!I179))))","v":""},{"$f":"IF(smoothing!C175=\"\",\"\",smoothing!B175)","v":""},{"$f":"IF(smoothing!G175=\"\",\"\",smoothing!F175)","v":""},{"$f":"IF(smoothing!K175=\"\",\"\",smoothing!J175)","v":""}]
[{"$f":"IF(smoothing!A176=\"out of range\",\"out of range\",\"\")","v":""},{"$f":"IF(ISBLANK(data!A180),\"\",data!A180)","v":""},{"$f":"IF(ISBLANK(data!B180),\"\",data!B180)","v":""},{"$f":"IF(ISBLANK(data!$A180),\"\",IF(ISBLANK(data!$B180),\"\",IF(ISBLANK(data!$C180),\"\",IF(ISBLANK(data!D180),\"\",data!G180))))","v":""},{"$f":"IF(ISBLANK(data!$A180),\"\",IF(ISBLANK(data!$B180),\"\",IF(ISBLANK(data!$C180),\"\",IF(ISBLANK(data!E180),\"\",data!H180))))","v":""},{"$f":"IF(ISBLANK(data!$A180),\"\",IF(ISBLANK(data!$B180),\"\",IF(ISBLANK(data!$C180),\"\",IF(ISBLANK(data!F180),\"\",data!I180))))","v":""},{"$f":"IF(smoothing!C176=\"\",\"\",smoothing!B176)","v":""},{"$f":"IF(smoothing!G176=\"\",\"\",smoothing!F176)","v":""},{"$f":"IF(smoothing!K176=\"\",\"\",smoothing!J176)","v":""}]
[{"$f":"IF(smoothing!A177=\"out of range\",\"out of range\",\"\")","v":""},{"$f":"IF(ISBLANK(data!A181),\"\",data!A181)","v":""},{"$f":"IF(ISBLANK(data!B181),\"\",data!B181)","v":""},{"$f":"IF(ISBLANK(data!$A181),\"\",IF(ISBLANK(data!$B181),\"\",IF(ISBLANK(data!$C181),\"\",IF(ISBLANK(data!D181),\"\",data!G181))))","v":""},{"$f":"IF(ISBLANK(data!$A181),\"\",IF(ISBLANK(data!$B181),\"\",IF(ISBLANK(data!$C181),\"\",IF(ISBLANK(data!E181),\"\",data!H181))))","v":""},{"$f":"IF(ISBLANK(data!$A181),\"\",IF(ISBLANK(data!$B181),\"\",IF(ISBLANK(data!$C181),\"\",IF(ISBLANK(data!F181),\"\",data!I181))))","v":""},{"$f":"IF(smoothing!C177=\"\",\"\",smoothing!B177)","v":""},{"$f":"IF(smoothing!G177=\"\",\"\",smoothing!F177)","v":""},{"$f":"IF(smoothing!K177=\"\",\"\",smoothing!J177)","v":""}]
[{"$f":"IF(smoothing!A178=\"out of range\",\"out of range\",\"\")","v":""},{"$f":"IF(ISBLANK(data!A182),\"\",data!A182)","v":""},{"$f":"IF(ISBLANK(data!B182),\"\",data!B182)","v":""},{"$f":"IF(ISBLANK(data!$A182),\"\",IF(ISBLANK(data!$B182),\"\",IF(ISBLANK(data!$C182),\"\",IF(ISBLANK(data!D182),\"\",data!G182))))","v":""},{"$f":"IF(ISBLANK(data!$A182),\"\",IF(ISBLANK(data!$B182),\"\",IF(ISBLANK(data!$C182),\"\",IF(ISBLANK(data!E182),\"\",data!H182))))","v":""},{"$f":"IF(ISBLANK(data!$A182),\"\",IF(ISBLANK(data!$B182),\"\",IF(ISBLANK(data!$C182),\"\",IF(ISBLANK(data!F182),\"\",data!I182))))","v":""},{"$f":"IF(smoothing!C178=\"\",\"\",smoothing!B178)","v":""},{"$f":"IF(smoothing!G178=\"\",\"\",smoothing!F178)","v":""},{"$f":"IF(smoothing!K178=\"\",\"\",smoothing!J178)","v":""}]
[{"$f":"IF(smoothing!A179=\"out of range\",\"out of range\",\"\")","v":""},{"$f":"IF(ISBLANK(data!A183),\"\",data!A183)","v":""},{"$f":"IF(ISBLANK(data!B183),\"\",data!B183)","v":""},{"$f":"IF(ISBLANK(data!$A183),\"\",IF(ISBLANK(data!$B183),\"\",IF(ISBLANK(data!$C183),\"\",IF(ISBLANK(data!D183),\"\",data!G183))))","v":""},{"$f":"IF(ISBLANK(data!$A183),\"\",IF(ISBLANK(data!$B183),\"\",IF(ISBLANK(data!$C183),\"\",IF(ISBLANK(data!E183),\"\",data!H183))))","v":""},{"$f":"IF(ISBLANK(data!$A183),\"\",IF(ISBLANK(data!$B183),\"\",IF(ISBLANK(data!$C183),\"\",IF(ISBLANK(data!F183),\"\",data!I183))))","v":""},{"$f":"IF(smoothing!C179=\"\",\"\",smoothing!B179)","v":""},{"$f":"IF(smoothing!G179=\"\",\"\",smoothing!F179)","v":""},{"$f":"IF(smoothing!K179=\"\",\"\",smoothing!J179)","v":""}]
[{"$f":"IF(smoothing!A180=\"out of range\",\"out of range\",\"\")","v":""},{"$f":"IF(ISBLANK(data!A184),\"\",data!A184)","v":""},{"$f":"IF(ISBLANK(data!B184),\"\",data!B184)","v":""},{"$f":"IF(ISBLANK(data!$A184),\"\",IF(ISBLANK(data!$B184),\"\",IF(ISBLANK(data!$C184),\"\",IF(ISBLANK(data!D184),\"\",data!G184))))","v":""},{"$f":"IF(ISBLANK(data!$A184),\"\",IF(ISBLANK(data!$B184),\"\",IF(ISBLANK(data!$C184),\"\",IF(ISBLANK(data!E184),\"\",data!H184))))","v":""},{"$f":"IF(ISBLANK(data!$A184),\"\",IF(ISBLANK(data!$B184),\"\",IF(ISBLANK(data!$C184),\"\",IF(ISBLANK(data!F184),\"\",data!I184))))","v":""},{"$f":"IF(smoothing!C180=\"\",\"\",smoothing!B180)","v":""},{"$f":"IF(smoothing!G180=\"\",\"\",smoothing!F180)","v":""},{"$f":"IF(smoothing!K180=\"\",\"\",smoothing!J180)","v":""}]
[{"$f":"IF(smoothing!A181=\"out of range\",\"out of range\",\"\")","v":""},{"$f":"IF(ISBLANK(data!A185),\"\",data!A185)","v":""},{"$f":"IF(ISBLANK(data!B185),\"\",data!B185)","v":""},{"$f":"IF(ISBLANK(data!$A185),\"\",IF(ISBLANK(data!$B185),\"\",IF(ISBLANK(data!$C185),\"\",IF(ISBLANK(data!D185),\"\",data!G185))))","v":""},{"$f":"IF(ISBLANK(data!$A185),\"\",IF(ISBLANK(data!$B185),\"\",IF(ISBLANK(data!$C185),\"\",IF(ISBLANK(data!E185),\"\",data!H185))))","v":""},{"$f":"IF(ISBLANK(data!$A185),\"\",IF(ISBLANK(data!$B185),\"\",IF(ISBLANK(data!$C185),\"\",IF(ISBLANK(data!F185),\"\",data!I185))))","v":""},{"$f":"IF(smoothing!C181=\"\",\"\",smoothing!B181)","v":""},{"$f":"IF(smoothing!G181=\"\",\"\",smoothing!F181)","v":""},{"$f":"IF(smoothing!K181=\"\",\"\",smoothing!J181)","v":""}]
[{"$f":"IF(smoothing!A182=\"out of range\",\"out of range\",\"\")","v":""},{"$f":"IF(ISBLANK(data!A186),\"\",data!A186)","v":""},{"$f":"IF(ISBLANK(data!B186),\"\",data!B186)","v":""},{"$f":"IF(ISBLANK(data!$A186),\"\",IF(ISBLANK(data!$B186),\"\",IF(ISBLANK(data!$C186),\"\",IF(ISBLANK(data!D186),\"\",data!G186))))","v":""},{"$f":"IF(ISBLANK(data!$A186),\"\",IF(ISBLANK(data!$B186),\"\",IF(ISBLANK(data!$C186),\"\",IF(ISBLANK(data!E186),\"\",data!H186))))","v":""},{"$f":"IF(ISBLANK(data!$A186),\"\",IF(ISBLANK(data!$B186),\"\",IF(ISBLANK(data!$C186),\"\",IF(ISBLANK(data!F186),\"\",data!I186))))","v":""},{"$f":"IF(smoothing!C182=\"\",\"\",smoothing!B182)","v":""},{"$f":"IF(smoothing!G182=\"\",\"\",smoothing!F182)","v":""},{"$f":"IF(smoothing!K182=\"\",\"\",smoothing!J182)","v":""}]
[{"$f":"IF(smoothing!A183=\"out of range\",\"out of range\",\"\")","v":""},{"$f":"IF(ISBLANK(data!A187),\"\",data!A187)","v":""},{"$f":"IF(ISBLANK(data!B187),\"\",data!B187)","v":""},{"$f":"IF(ISBLANK(data!$A187),\"\",IF(ISBLANK(data!$B187),\"\",IF(ISBLANK(data!$C187),\"\",IF(ISBLANK(data!D187),\"\",data!G187))))","v":""},{"$f":"IF(ISBLANK(data!$A187),\"\",IF(ISBLANK(data!$B187),\"\",IF(ISBLANK(data!$C187),\"\",IF(ISBLANK(data!E187),\"\",data!H187))))","v":""},{"$f":"IF(ISBLANK(data!$A187),\"\",IF(ISBLANK(data!$B187),\"\",IF(ISBLANK(data!$C187),\"\",IF(ISBLANK(data!F187),\"\",data!I187))))","v":""},{"$f":"IF(smoothing!C183=\"\",\"\",smoothing!B183)","v":""},{"$f":"IF(smoothing!G183=\"\",\"\",smoothing!F183)","v":""},{"$f":"IF(smoothing!K183=\"\",\"\",smoothing!J183)","v":""}]
[{"$f":"IF(smoothing!A184=\"out of range\",\"out of range\",\"\")","v":""},{"$f":"IF(ISBLANK(data!A188),\"\",data!A188)","v":""},{"$f":"IF(ISBLANK(data!B188),\"\",data!B188)","v":""},{"$f":"IF(ISBLANK(data!$A188),\"\",IF(ISBLANK(data!$B188),\"\",IF(ISBLANK(data!$C188),\"\",IF(ISBLANK(data!D188),\"\",data!G188))))","v":""},{"$f":"IF(ISBLANK(data!$A188),\"\",IF(ISBLANK(data!$B188),\"\",IF(ISBLANK(data!$C188),\"\",IF(ISBLANK(data!E188),\"\",data!H188))))","v":""},{"$f":"IF(ISBLANK(data!$A188),\"\",IF(ISBLANK(data!$B188),\"\",IF(ISBLANK(data!$C188),\"\",IF(ISBLANK(data!F188),\"\",data!I188))))","v":""},{"$f":"IF(smoothing!C184=\"\",\"\",smoothing!B184)","v":""},{"$f":"IF(smoothing!G184=\"\",\"\",smoothing!F184)","v":""},{"$f":"IF(smoothing!K184=\"\",\"\",smoothing!J184)","v":""}]
[{"$f":"IF(smoothing!A185=\"out of range\",\"out of range\",\"\")","v":""},{"$f":"IF(ISBLANK(data!A189),\"\",data!A189)","v":""},{"$f":"IF(ISBLANK(data!B189),\"\",data!B189)","v":""},{"$f":"IF(ISBLANK(data!$A189),\"\",IF(ISBLANK(data!$B189),\"\",IF(ISBLANK(data!$C189),\"\",IF(ISBLANK(data!D189),\"\",data!G189))))","v":""},{"$f":"IF(ISBLANK(data!$A189),\"\",IF(ISBLANK(data!$B189),\"\",IF(ISBLANK(data!$C189),\"\",IF(ISBLANK(data!E189),\"\",data!H189))))","v":""},{"$f":"IF(ISBLANK(data!$A189),\"\",IF(ISBLANK(data!$B189),\"\",IF(ISBLANK(data!$C189),\"\",IF(ISBLANK(data!F189),\"\",data!I189))))","v":""},{"$f":"IF(smoothing!C185=\"\",\"\",smoothing!B185)","v":""},{"$f":"IF(smoothing!G185=\"\",\"\",smoothing!F185)","v":""},{"$f":"IF(smoothing!K185=\"\",\"\",smoothing!J185)","v":""}]
[{"$f":"IF(smoothing!A186=\"out of range\",\"out of range\",\"\")","v":""},{"$f":"IF(ISBLANK(data!A190),\"\",data!A190)","v":""},{"$f":"IF(ISBLANK(data!B190),\"\",data!B190)","v":""},{"$f":"IF(ISBLANK(data!$A190),\"\",IF(ISBLANK(data!$B190),\"\",IF(ISBLANK(data!$C190),\"\",IF(ISBLANK(data!D190),\"\",data!G190))))","v":""},{"$f":"IF(ISBLANK(data!$A190),\"\",IF(ISBLANK(data!$B190),\"\",IF(ISBLANK(data!$C190),\"\",IF(ISBLANK(data!E190),\"\",data!H190))))","v":""},{"$f":"IF(ISBLANK(data!$A190),\"\",IF(ISBLANK(data!$B190),\"\",IF(ISBLANK(data!$C190),\"\",IF(ISBLANK(data!F190),\"\",data!I190))))","v":""},{"$f":"IF(smoothing!C186=\"\",\"\",smoothing!B186)","v":""},{"$f":"IF(smoothing!G186=\"\",\"\",smoothing!F186)","v":""},{"$f":"IF(smoothing!K186=\"\",\"\",smoothing!J186)","v":""}]
[{"$f":"IF(smoothing!A187=\"out of range\",\"out of range\",\"\")","v":""},{"$f":"IF(ISBLANK(data!A191),\"\",data!A191)","v":""},{"$f":"IF(ISBLANK(data!B191),\"\",data!B191)","v":""},{"$f":"IF(ISBLANK(data!$A191),\"\",IF(ISBLANK(data!$B191),\"\",IF(ISBLANK(data!$C191),\"\",IF(ISBLANK(data!D191),\"\",data!G191))))","v":""},{"$f":"IF(ISBLANK(data!$A191),\"\",IF(ISBLANK(data!$B191),\"\",IF(ISBLANK(data!$C191),\"\",IF(ISBLANK(data!E191),\"\",data!H191))))","v":""},{"$f":"IF(ISBLANK(data!$A191),\"\",IF(ISBLANK(data!$B191),\"\",IF(ISBLANK(data!$C191),\"\",IF(ISBLANK(data!F191),\"\",data!I191))))","v":""},{"$f":"IF(smoothing!C187=\"\",\"\",smoothing!B187)","v":""},{"$f":"IF(smoothing!G187=\"\",\"\",smoothing!F187)","v":""},{"$f":"IF(smoothing!K187=\"\",\"\",smoothing!J187)","v":""}]
[{"$f":"IF(smoothing!A188=\"out of range\",\"out of range\",\"\")","v":""},{"$f":"IF(ISBLANK(data!A192),\"\",data!A192)","v":""},{"$f":"IF(ISBLANK(data!B192),\"\",data!B192)","v":""},{"$f":"IF(ISBLANK(data!$A192),\"\",IF(ISBLANK(data!$B192),\"\",IF(ISBLANK(data!$C192),\"\",IF(ISBLANK(data!D192),\"\",data!G192))))","v":""},{"$f":"IF(ISBLANK(data!$A192),\"\",IF(ISBLANK(data!$B192),\"\",IF(ISBLANK(data!$C192),\"\",IF(ISBLANK(data!E192),\"\",data!H192))))","v":""},{"$f":"IF(ISBLANK(data!$A192),\"\",IF(ISBLANK(data!$B192),\"\",IF(ISBLANK(data!$C192),\"\",IF(ISBLANK(data!F192),\"\",data!I192))))","v":""},{"$f":"IF(smoothing!C188=\"\",\"\",smoothing!B188)","v":""},{"$f":"IF(smoothing!G188=\"\",\"\",smoothing!F188)","v":""},{"$f":"IF(smoothing!K188=\"\",\"\",smoothing!J188)","v":""}]
[{"$f":"IF(smoothing!A189=\"out of range\",\"out of range\",\"\")","v":""},{"$f":"IF(ISBLANK(data!A193),\"\",data!A193)","v":""},{"$f":"IF(ISBLANK(data!B193),\"\",data!B193)","v":""},{"$f":"IF(ISBLANK(data!$A193),\"\",IF(ISBLANK(data!$B193),\"\",IF(ISBLANK(data!$C193),\"\",IF(ISBLANK(data!D193),\"\",data!G193))))","v":""},{"$f":"IF(ISBLANK(data!$A193),\"\",IF(ISBLANK(data!$B193),\"\",IF(ISBLANK(data!$C193),\"\",IF(ISBLANK(data!E193),\"\",data!H193))))","v":""},{"$f":"IF(ISBLANK(data!$A193),\"\",IF(ISBLANK(data!$B193),\"\",IF(ISBLANK(data!$C193),\"\",IF(ISBLANK(data!F193),\"\",data!I193))))","v":""},{"$f":"IF(smoothing!C189=\"\",\"\",smoothing!B189)","v":""},{"$f":"IF(smoothing!G189=\"\",\"\",smoothing!F189)","v":""},{"$f":"IF(smoothing!K189=\"\",\"\",smoothing!J189)","v":""}]
[{"$f":"IF(smoothing!A190=\"out of range\",\"out of range\",\"\")","v":""},{"$f":"IF(ISBLANK(data!A194),\"\",data!A194)","v":""},{"$f":"IF(ISBLANK(data!B194),\"\",data!B194)","v":""},{"$f":"IF(ISBLANK(data!$A194),\"\",IF(ISBLANK(data!$B194),\"\",IF(ISBLANK(data!$C194),\"\",IF(ISBLANK(data!D194),\"\",data!G194))))","v":""},{"$f":"IF(ISBLANK(data!$A194),\"\",IF(ISBLANK(data!$B194),\"\",IF(ISBLANK(data!$C194),\"\",IF(ISBLANK(data!E194),\"\",data!H194))))","v":""},{"$f":"IF(ISBLANK(data!$A194),\"\",IF(ISBLANK(data!$B194),\"\",IF(ISBLANK(data!$C194),\"\",IF(ISBLANK(data!F194),\"\",data!I194))))","v":""},{"$f":"IF(smoothing!C190=\"\",\"\",smoothing!B190)","v":""},{"$f":"IF(smoothing!G190=\"\",\"\",smoothing!F190)","v":""},{"$f":"IF(smoothing!K190=\"\",\"\",smoothing!J190)","v":""}]
[{"$f":"IF(smoothing!A191=\"out of range\",\"out of range\",\"\")","v":""},{"$f":"IF(ISBLANK(data!A195),\"\",data!A195)","v":""},{"$f":"IF(ISBLANK(data!B195),\"\",data!B195)","v":""},{"$f":"IF(ISBLANK(data!$A195),\"\",IF(ISBLANK(data!$B195),\"\",IF(ISBLANK(data!$C195),\"\",IF(ISBLANK(data!D195),\"\",data!G195))))","v":""},{"$f":"IF(ISBLANK(data!$A195),\"\",IF(ISBLANK(data!$B195),\"\",IF(ISBLANK(data!$C195),\"\",IF(ISBLANK(data!E195),\"\",data!H195))))","v":""},{"$f":"IF(ISBLANK(data!$A195),\"\",IF(ISBLANK(data!$B195),\"\",IF(ISBLANK(data!$C195),\"\",IF(ISBLANK(data!F195),\"\",data!I195))))","v":""},{"$f":"IF(smoothing!C191=\"\",\"\",smoothing!B191)","v":""},{"$f":"IF(smoothing!G191=\"\",\"\",smoothing!F191)","v":""},{"$f":"IF(smoothing!K191=\"\",\"\",smoothing!J191)","v":""}]
[{"$f":"IF(smoothing!A192=\"out of range\",\"out of range\",\"\")","v":""},{"$f":"IF(ISBLANK(data!A196),\"\",data!A196)","v":""},{"$f":"IF(ISBLANK(data!B196),\"\",data!B196)","v":""},{"$f":"IF(ISBLANK(data!$A196),\"\",IF(ISBLANK(data!$B196),\"\",IF(ISBLANK(data!$C196),\"\",IF(ISBLANK(data!D196),\"\",data!G196))))","v":""},{"$f":"IF(ISBLANK(data!$A196),\"\",IF(ISBLANK(data!$B196),\"\",IF(ISBLANK(data!$C196),\"\",IF(ISBLANK(data!E196),\"\",data!H196))))","v":""},{"$f":"IF(ISBLANK(data!$A196),\"\",IF(ISBLANK(data!$B196),\"\",IF(ISBLANK(data!$C196),\"\",IF(ISBLANK(data!F196),\"\",data!I196))))","v":""},{"$f":"IF(smoothing!C192=\"\",\"\",smoothing!B192)","v":""},{"$f":"IF(smoothing!G192=\"\",\"\",smoothing!F192)","v":""},{"$f":"IF(smoothing!K192=\"\",\"\",smoothing!J192)","v":""}]
[{"$f":"IF(smoothing!A193=\"out of range\",\"out of range\",\"\")","v":""},{"$f":"IF(ISBLANK(data!A197),\"\",data!A197)","v":""},{"$f":"IF(ISBLANK(data!B197),\"\",data!B197)","v":""},{"$f":"IF(ISBLANK(data!$A197),\"\",IF(ISBLANK(data!$B197),\"\",IF(ISBLANK(data!$C197),\"\",IF(ISBLANK(data!D197),\"\",data!G197))))","v":""},{"$f":"IF(ISBLANK(data!$A197),\"\",IF(ISBLANK(data!$B197),\"\",IF(ISBLANK(data!$C197),\"\",IF(ISBLANK(data!E197),\"\",data!H197))))","v":""},{"$f":"IF(ISBLANK(data!$A197),\"\",IF(ISBLANK(data!$B197),\"\",IF(ISBLANK(data!$C197),\"\",IF(ISBLANK(data!F197),\"\",data!I197))))","v":""},{"$f":"IF(smoothing!C193=\"\",\"\",smoothing!B193)","v":""},{"$f":"IF(smoothing!G193=\"\",\"\",smoothing!F193)","v":""},{"$f":"IF(smoothing!K193=\"\",\"\",smoothing!J193)","v":""}]
[{"$f":"IF(smoothing!A194=\"out of range\",\"out of range\",\"\")","v":""},{"$f":"IF(ISBLANK(data!A198),\"\",data!A198)","v":""},{"$f":"IF(ISBLANK(data!B198),\"\",data!B198)","v":""},{"$f":"IF(ISBLANK(data!$A198),\"\",IF(ISBLANK(data!$B198),\"\",IF(ISBLANK(data!$C198),\"\",IF(ISBLANK(data!D198),\"\",data!G198))))","v":""},{"$f":"IF(ISBLANK(data!$A198),\"\",IF(ISBLANK(data!$B198),\"\",IF(ISBLANK(data!$C198),\"\",IF(ISBLANK(data!E198),\"\",data!H198))))","v":""},{"$f":"IF(ISBLANK(data!$A198),\"\",IF(ISBLANK(data!$B198),\"\",IF(ISBLANK(data!$C198),\"\",IF(ISBLANK(data!F198),\"\",data!I198))))","v":""},{"$f":"IF(smoothing!C194=\"\",\"\",smoothing!B194)","v":""},{"$f":"IF(smoothing!G194=\"\",\"\",smoothing!F194)","v":""},{"$f":"IF(smoothing!K194=\"\",\"\",smoothing!J194)","v":""}]
[{"$f":"IF(smoothing!A195=\"out of range\",\"out of range\",\"\")","v":""},{"$f":"IF(ISBLANK(data!A199),\"\",data!A199)","v":""},{"$f":"IF(ISBLANK(data!B199),\"\",data!B199)","v":""},{"$f":"IF(ISBLANK(data!$A199),\"\",IF(ISBLANK(data!$B199),\"\",IF(ISBLANK(data!$C199),\"\",IF(ISBLANK(data!D199),\"\",data!G199))))","v":""},{"$f":"IF(ISBLANK(data!$A199),\"\",IF(ISBLANK(data!$B199),\"\",IF(ISBLANK(data!$C199),\"\",IF(ISBLANK(data!E199),\"\",data!H199))))","v":""},{"$f":"IF(ISBLANK(data!$A199),\"\",IF(ISBLANK(data!$B199),\"\",IF(ISBLANK(data!$C199),\"\",IF(ISBLANK(data!F199),\"\",data!I199))))","v":""},{"$f":"IF(smoothing!C195=\"\",\"\",smoothing!B195)","v":""},{"$f":"IF(smoothing!G195=\"\",\"\",smoothing!F195)","v":""},{"$f":"IF(smoothing!K195=\"\",\"\",smoothing!J195)","v":""}]
[{"$f":"IF(smoothing!A196=\"out of range\",\"out of range\",\"\")","v":""},{"$f":"IF(ISBLANK(data!A200),\"\",data!A200)","v":""},{"$f":"IF(ISBLANK(data!B200),\"\",data!B200)","v":""},{"$f":"IF(ISBLANK(data!$A200),\"\",IF(ISBLANK(data!$B200),\"\",IF(ISBLANK(data!$C200),\"\",IF(ISBLANK(data!D200),\"\",data!G200))))","v":""},{"$f":"IF(ISBLANK(data!$A200),\"\",IF(ISBLANK(data!$B200),\"\",IF(ISBLANK(data!$C200),\"\",IF(ISBLANK(data!E200),\"\",data!H200))))","v":""},{"$f":"IF(ISBLANK(data!$A200),\"\",IF(ISBLANK(data!$B200),\"\",IF(ISBLANK(data!$C200),\"\",IF(ISBLANK(data!F200),\"\",data!I200))))","v":""},{"$f":"IF(smoothing!C196=\"\",\"\",smoothing!B196)","v":""},{"$f":"IF(smoothing!G196=\"\",\"\",smoothing!F196)","v":""},{"$f":"IF(smoothing!K196=\"\",\"\",smoothing!J196)","v":""}]
[{"$f":"IF(smoothing!A197=\"out of range\",\"out of range\",\"\")","v":""},{"$f":"IF(ISBLANK(data!A201),\"\",data!A201)","v":""},{"$f":"IF(ISBLANK(data!B201),\"\",data!B201)","v":""},{"$f":"IF(ISBLANK(data!$A201),\"\",IF(ISBLANK(data!$B201),\"\",IF(ISBLANK(data!$C201),\"\",IF(ISBLANK(data!D201),\"\",data!G201))))","v":""},{"$f":"IF(ISBLANK(data!$A201),\"\",IF(ISBLANK(data!$B201),\"\",IF(ISBLANK(data!$C201),\"\",IF(ISBLANK(data!E201),\"\",data!H201))))","v":""},{"$f":"IF(ISBLANK(data!$A201),\"\",IF(ISBLANK(data!$B201),\"\",IF(ISBLANK(data!$C201),\"\",IF(ISBLANK(data!F201),\"\",data!I201))))","v":""},{"$f":"IF(smoothing!C197=\"\",\"\",smoothing!B197)","v":""},{"$f":"IF(smoothing!G197=\"\",\"\",smoothing!F197)","v":""},{"$f":"IF(smoothing!K197=\"\",\"\",smoothing!J197)","v":""}]
[{"$f":"IF(smoothing!A198=\"out of range\",\"out of range\",\"\")","v":""},{"$f":"IF(ISBLANK(data!A202),\"\",data!A202)","v":""},{"$f":"IF(ISBLANK(data!B202),\"\",data!B202)","v":""},{"$f":"IF(ISBLANK(data!$A202),\"\",IF(ISBLANK(data!$B202),\"\",IF(ISBLANK(data!$C202),\"\",IF(ISBLANK(data!D202),\"\",data!G202))))","v":""},{"$f":"IF(ISBLANK(data!$A202),\"\",IF(ISBLANK(data!$B202),\"\",IF(ISBLANK(data!$C202),\"\",IF(ISBLANK(data!E202),\"\",data!H202))))","v":""},{"$f":"IF(ISBLANK(data!$A202),\"\",IF(ISBLANK(data!$B202),\"\",IF(ISBLANK(data!$C202),\"\",IF(ISBLANK(data!F202),\"\",data!I202))))","v":""},{"$f":"IF(smoothing!C198=\"\",\"\",smoothing!B198)","v":""},{"$f":"IF(smoothing!G198=\"\",\"\",smoothing!F198)","v":""},{"$f":"IF(smoothing!K198=\"\",\"\",smoothing!J198)","v":""}]
[{"$f":"IF(smoothing!A199=\"out of range\",\"out of range\",\"\")","v":""},{"$f":"IF(ISBLANK(data!A203),\"\",data!A203)","v":""},{"$f":"IF(ISBLANK(data!B203),\"\",data!B203)","v":""},{"$f":"IF(ISBLANK(data!$A203),\"\",IF(ISBLANK(data!$B203),\"\",IF(ISBLANK(data!$C203),\"\",IF(ISBLANK(data!D203),\"\",data!G203))))","v":""},{"$f":"IF(ISBLANK(data!$A203),\"\",IF(ISBLANK(data!$B203),\"\",IF(ISBLANK(data!$C203),\"\",IF(ISBLANK(data!E203),\"\",data!H203))))","v":""},{"$f":"IF(ISBLANK(data!$A203),\"\",IF(ISBLANK(data!$B203),\"\",IF(ISBLANK(data!$C203),\"\",IF(ISBLANK(data!F203),\"\",data!I203))))","v":""},{"$f":"IF(smoothing!C199=\"\",\"\",smoothing!B199)","v":""},{"$f":"IF(smoothing!G199=\"\",\"\",smoothing!F199)","v":""},{"$f":"IF(smoothing!K199=\"\",\"\",smoothing!J199)","v":""}]
[{"$f":"IF(smoothing!A200=\"out of range\",\"out of range\",\"\")","v":""},{"$f":"IF(ISBLANK(data!A204),\"\",data!A204)","v":""},{"$f":"IF(ISBLANK(data!B204),\"\",data!B204)","v":""},{"$f":"IF(ISBLANK(data!$A204),\"\",IF(ISBLANK(data!$B204),\"\",IF(ISBLANK(data!$C204),\"\",IF(ISBLANK(data!D204),\"\",data!G204))))","v":""},{"$f":"IF(ISBLANK(data!$A204),\"\",IF(ISBLANK(data!$B204),\"\",IF(ISBLANK(data!$C204),\"\",IF(ISBLANK(data!E204),\"\",data!H204))))","v":""},{"$f":"IF(ISBLANK(data!$A204),\"\",IF(ISBLANK(data!$B204),\"\",IF(ISBLANK(data!$C204),\"\",IF(ISBLANK(data!F204),\"\",data!I204))))","v":""},{"$f":"IF(smoothing!C200=\"\",\"\",smoothing!B200)","v":""},{"$f":"IF(smoothing!G200=\"\",\"\",smoothing!F200)","v":""},{"$f":"IF(smoothing!K200=\"\",\"\",smoothing!J200)","v":""}]
[{"$f":"IF(smoothing!A201=\"out of range\",\"out of range\",\"\")","v":""},{"$f":"IF(ISBLANK(data!A205),\"\",data!A205)","v":""},{"$f":"IF(ISBLANK(data!B205),\"\",data!B205)","v":""},{"$f":"IF(ISBLANK(data!$A205),\"\",IF(ISBLANK(data!$B205),\"\",IF(ISBLANK(data!$C205),\"\",IF(ISBLANK(data!D205),\"\",data!G205))))","v":""},{"$f":"IF(ISBLANK(data!$A205),\"\",IF(ISBLANK(data!$B205),\"\",IF(ISBLANK(data!$C205),\"\",IF(ISBLANK(data!E205),\"\",data!H205))))","v":""},{"$f":"IF(ISBLANK(data!$A205),\"\",IF(ISBLANK(data!$B205),\"\",IF(ISBLANK(data!$C205),\"\",IF(ISBLANK(data!F205),\"\",data!I205))))","v":""},{"$f":"IF(smoothing!C201=\"\",\"\",smoothing!B201)","v":""},{"$f":"IF(smoothing!G201=\"\",\"\",smoothing!F201)","v":""},{"$f":"IF(smoothing!K201=\"\",\"\",smoothing!J201)","v":""}]
[{"$f":"IF(smoothing!A202=\"out of range\",\"out of range\",\"\")","v":""},{"$f":"IF(ISBLANK(data!A206),\"\",data!A206)","v":""},{"$f":"IF(ISBLANK(data!B206),\"\",data!B206)","v":""},{"$f":"IF(ISBLANK(data!$A206),\"\",IF(ISBLANK(data!$B206),\"\",IF(ISBLANK(data!$C206),\"\",IF(ISBLANK(data!D206),\"\",data!G206))))","v":""},{"$f":"IF(ISBLANK(data!$A206),\"\",IF(ISBLANK(data!$B206),\"\",IF(ISBLANK(data!$C206),\"\",IF(ISBLANK(data!E206),\"\",data!H206))))","v":""},{"$f":"IF(ISBLANK(data!$A206),\"\",IF(ISBLANK(data!$B206),\"\",IF(ISBLANK(data!$C206),\"\",IF(ISBLANK(data!F206),\"\",data!I206))))","v":""},{"$f":"IF(smoothing!C202=\"\",\"\",smoothing!B202)","v":""},{"$f":"IF(smoothing!G202=\"\",\"\",smoothing!F202)","v":""},{"$f":"IF(smoothing!K202=\"\",\"\",smoothing!J202)","v":""}]
[{"$f":"IF(smoothing!A203=\"out of range\",\"out of range\",\"\")","v":""},{"$f":"IF(ISBLANK(data!A207),\"\",data!A207)","v":""},{"$f":"IF(ISBLANK(data!B207),\"\",data!B207)","v":""},{"$f":"IF(ISBLANK(data!$A207),\"\",IF(ISBLANK(data!$B207),\"\",IF(ISBLANK(data!$C207),\"\",IF(ISBLANK(data!D207),\"\",data!G207))))","v":""},{"$f":"IF(ISBLANK(data!$A207),\"\",IF(ISBLANK(data!$B207),\"\",IF(ISBLANK(data!$C207),\"\",IF(ISBLANK(data!E207),\"\",data!H207))))","v":""},{"$f":"IF(ISBLANK(data!$A207),\"\",IF(ISBLANK(data!$B207),\"\",IF(ISBLANK(data!$C207),\"\",IF(ISBLANK(data!F207),\"\",data!I207))))","v":""},{"$f":"IF(smoothing!C203=\"\",\"\",smoothing!B203)","v":""},{"$f":"IF(smoothing!G203=\"\",\"\",smoothing!F203)","v":""},{"$f":"IF(smoothing!K203=\"\",\"\",smoothing!J203)","v":""}]
[{"$f":"IF(smoothing!A204=\"out of range\",\"out of range\",\"\")","v":""},{"$f":"IF(ISBLANK(data!A208),\"\",data!A208)","v":""},{"$f":"IF(ISBLANK(data!B208),\"\",data!B208)","v":""},{"$f":"IF(ISBLANK(data!$A208),\"\",IF(ISBLANK(data!$B208),\"\",IF(ISBLANK(data!$C208),\"\",IF(ISBLANK(data!D208),\"\",data!G208))))","v":""},{"$f":"IF(ISBLANK(data!$A208),\"\",IF(ISBLANK(data!$B208),\"\",IF(ISBLANK(data!$C208),\"\",IF(ISBLANK(data!E208),\"\",data!H208))))","v":""},{"$f":"IF(ISBLANK(data!$A208),\"\",IF(ISBLANK(data!$B208),\"\",IF(ISBLANK(data!$C208),\"\",IF(ISBLANK(data!F208),\"\",data!I208))))","v":""},{"$f":"IF(smoothing!C204=\"\",\"\",smoothing!B204)","v":""},{"$f":"IF(smoothing!G204=\"\",\"\",smoothing!F204)","v":""},{"$f":"IF(smoothing!K204=\"\",\"\",smoothing!J204)","v":""}]
[{"$f":"IF(smoothing!A205=\"out of range\",\"out of range\",\"\")","v":""},{"$f":"IF(ISBLANK(data!A209),\"\",data!A209)","v":""},{"$f":"IF(ISBLANK(data!B209),\"\",data!B209)","v":""},{"$f":"IF(ISBLANK(data!$A209),\"\",IF(ISBLANK(data!$B209),\"\",IF(ISBLANK(data!$C209),\"\",IF(ISBLANK(data!D209),\"\",data!G209))))","v":""},{"$f":"IF(ISBLANK(data!$A209),\"\",IF(ISBLANK(data!$B209),\"\",IF(ISBLANK(data!$C209),\"\",IF(ISBLANK(data!E209),\"\",data!H209))))","v":""},{"$f":"IF(ISBLANK(data!$A209),\"\",IF(ISBLANK(data!$B209),\"\",IF(ISBLANK(data!$C209),\"\",IF(ISBLANK(data!F209),\"\",data!I209))))","v":""},{"$f":"IF(smoothing!C205=\"\",\"\",smoothing!B205)","v":""},{"$f":"IF(smoothing!G205=\"\",\"\",smoothing!F205)","v":""},{"$f":"IF(smoothing!K205=\"\",\"\",smoothing!J205)","v":""}]
[{"$f":"IF(smoothing!A206=\"out of range\",\"out of range\",\"\")","v":""},{"$f":"IF(ISBLANK(data!A210),\"\",data!A210)","v":""},{"$f":"IF(ISBLANK(data!B210),\"\",data!B210)","v":""},{"$f":"IF(ISBLANK(data!$A210),\"\",IF(ISBLANK(data!$B210),\"\",IF(ISBLANK(data!$C210),\"\",IF(ISBLANK(data!D210),\"\",data!G210))))","v":""},{"$f":"IF(ISBLANK(data!$A210),\"\",IF(ISBLANK(data!$B210),\"\",IF(ISBLANK(data!$C210),\"\",IF(ISBLANK(data!E210),\"\",data!H210))))","v":""},{"$f":"IF(ISBLANK(data!$A210),\"\",IF(ISBLANK(data!$B210),\"\",IF(ISBLANK(data!$C210),\"\",IF(ISBLANK(data!F210),\"\",data!I210))))","v":""},{"$f":"IF(smoothing!C206=\"\",\"\",smoothing!B206)","v":""},{"$f":"IF(smoothing!G206=\"\",\"\",smoothing!F206)","v":""},{"$f":"IF(smoothing!K206=\"\",\"\",smoothing!J206)","v":""}]
[{"$f":"IF(smoothing!A207=\"out of range\",\"out of range\",\"\")","v":""},{"$f":"IF(ISBLANK(data!A211),\"\",data!A211)","v":""},{"$f":"IF(ISBLANK(data!B211),\"\",data!B211)","v":""},{"$f":"IF(ISBLANK(data!$A211),\"\",IF(ISBLANK(data!$B211),\"\",IF(ISBLANK(data!$C211),\"\",IF(ISBLANK(data!D211),\"\",data!G211))))","v":""},{"$f":"IF(ISBLANK(data!$A211),\"\",IF(ISBLANK(data!$B211),\"\",IF(ISBLANK(data!$C211),\"\",IF(ISBLANK(data!E211),\"\",data!H211))))","v":""},{"$f":"IF(ISBLANK(data!$A211),\"\",IF(ISBLANK(data!$B211),\"\",IF(ISBLANK(data!$C211),\"\",IF(ISBLANK(data!F211),\"\",data!I211))))","v":""},{"$f":"IF(smoothing!C207=\"\",\"\",smoothing!B207)","v":""},{"$f":"IF(smoothing!G207=\"\",\"\",smoothing!F207)","v":""},{"$f":"IF(smoothing!K207=\"\",\"\",smoothing!J207)","v":""}]
[{"$f":"IF(smoothing!A208=\"out of range\",\"out of range\",\"\")","v":""},{"$f":"IF(ISBLANK(data!A212),\"\",data!A212)","v":""},{"$f":"IF(ISBLANK(data!B212),\"\",data!B212)","v":""},{"$f":"IF(ISBLANK(data!$A212),\"\",IF(ISBLANK(data!$B212),\"\",IF(ISBLANK(data!$C212),\"\",IF(ISBLANK(data!D212),\"\",data!G212))))","v":""},{"$f":"IF(ISBLANK(data!$A212),\"\",IF(ISBLANK(data!$B212),\"\",IF(ISBLANK(data!$C212),\"\",IF(ISBLANK(data!E212),\"\",data!H212))))","v":""},{"$f":"IF(ISBLANK(data!$A212),\"\",IF(ISBLANK(data!$B212),\"\",IF(ISBLANK(data!$C212),\"\",IF(ISBLANK(data!F212),\"\",data!I212))))","v":""},{"$f":"IF(smoothing!C208=\"\",\"\",smoothing!B208)","v":""},{"$f":"IF(smoothing!G208=\"\",\"\",smoothing!F208)","v":""},{"$f":"IF(smoothing!K208=\"\",\"\",smoothing!J208)","v":""}]
[{"$f":"IF(smoothing!A209=\"out of range\",\"out of range\",\"\")","v":""},{"$f":"IF(ISBLANK(data!A213),\"\",data!A213)","v":""},{"$f":"IF(ISBLANK(data!B213),\"\",data!B213)","v":""},{"$f":"IF(ISBLANK(data!$A213),\"\",IF(ISBLANK(data!$B213),\"\",IF(ISBLANK(data!$C213),\"\",IF(ISBLANK(data!D213),\"\",data!G213))))","v":""},{"$f":"IF(ISBLANK(data!$A213),\"\",IF(ISBLANK(data!$B213),\"\",IF(ISBLANK(data!$C213),\"\",IF(ISBLANK(data!E213),\"\",data!H213))))","v":""},{"$f":"IF(ISBLANK(data!$A213),\"\",IF(ISBLANK(data!$B213),\"\",IF(ISBLANK(data!$C213),\"\",IF(ISBLANK(data!F213),\"\",data!I213))))","v":""},{"$f":"IF(smoothing!C209=\"\",\"\",smoothing!B209)","v":""},{"$f":"IF(smoothing!G209=\"\",\"\",smoothing!F209)","v":""},{"$f":"IF(smoothing!K209=\"\",\"\",smoothing!J209)","v":""}]
[{"$f":"IF(smoothing!A210=\"out of range\",\"out of range\",\"\")","v":""},{"$f":"IF(ISBLANK(data!A214),\"\",data!A214)","v":""},{"$f":"IF(ISBLANK(data!B214),\"\",data!B214)","v":""},{"$f":"IF(ISBLANK(data!$A214),\"\",IF(ISBLANK(data!$B214),\"\",IF(ISBLANK(data!$C214),\"\",IF(ISBLANK(data!D214),\"\",data!G214))))","v":""},{"$f":"IF(ISBLANK(data!$A214),\"\",IF(ISBLANK(data!$B214),\"\",IF(ISBLANK(data!$C214),\"\",IF(ISBLANK(data!E214),\"\",data!H214))))","v":""},{"$f":"IF(ISBLANK(data!$A214),\"\",IF(ISBLANK(data!$B214),\"\",IF(ISBLANK(data!$C214),\"\",IF(ISBLANK(data!F214),\"\",data!I214))))","v":""},{"$f":"IF(smoothing!C210=\"\",\"\",smoothing!B210)","v":""},{"$f":"IF(smoothing!G210=\"\",\"\",smoothing!F210)","v":""},{"$f":"IF(smoothing!K210=\"\",\"\",smoothing!J210)","v":""}]
[{"$f":"IF(smoothing!A211=\"out of range\",\"out of range\",\"\")","v":""},{"$f":"IF(ISBLANK(data!A215),\"\",data!A215)","v":""},{"$f":"IF(ISBLANK(data!B215),\"\",data!B215)","v":""},{"$f":"IF(ISBLANK(data!$A215),\"\",IF(ISBLANK(data!$B215),\"\",IF(ISBLANK(data!$C215),\"\",IF(ISBLANK(data!D215),\"\",data!G215))))","v":""},{"$f":"IF(ISBLANK(data!$A215),\"\",IF(ISBLANK(data!$B215),\"\",IF(ISBLANK(data!$C215),\"\",IF(ISBLANK(data!E215),\"\",data!H215))))","v":""},{"$f":"IF(ISBLANK(data!$A215),\"\",IF(ISBLANK(data!$B215),\"\",IF(ISBLANK(data!$C215),\"\",IF(ISBLANK(data!F215),\"\",data!I215))))","v":""},{"$f":"IF(smoothing!C211=\"\",\"\",smoothing!B211)","v":""},{"$f":"IF(smoothing!G211=\"\",\"\",smoothing!F211)","v":""},{"$f":"IF(smoothing!K211=\"\",\"\",smoothing!J211)","v":""}]
[{"$f":"IF(smoothing!A212=\"out of range\",\"out of range\",\"\")","v":""},{"$f":"IF(ISBLANK(data!A216),\"\",data!A216)","v":""},{"$f":"IF(ISBLANK(data!B216),\"\",data!B216)","v":""},{"$f":"IF(ISBLANK(data!$A216),\"\",IF(ISBLANK(data!$B216),\"\",IF(ISBLANK(data!$C216),\"\",IF(ISBLANK(data!D216),\"\",data!G216))))","v":""},{"$f":"IF(ISBLANK(data!$A216),\"\",IF(ISBLANK(data!$B216),\"\",IF(ISBLANK(data!$C216),\"\",IF(ISBLANK(data!E216),\"\",data!H216))))","v":""},{"$f":"IF(ISBLANK(data!$A216),\"\",IF(ISBLANK(data!$B216),\"\",IF(ISBLANK(data!$C216),\"\",IF(ISBLANK(data!F216),\"\",data!I216))))","v":""},{"$f":"IF(smoothing!C212=\"\",\"\",smoothing!B212)","v":""},{"$f":"IF(smoothing!G212=\"\",\"\",smoothing!F212)","v":""},{"$f":"IF(smoothing!K212=\"\",\"\",smoothing!J212)","v":""}]
[{"$f":"IF(smoothing!A213=\"out of range\",\"out of range\",\"\")","v":""},{"$f":"IF(ISBLANK(data!A217),\"\",data!A217)","v":""},{"$f":"IF(ISBLANK(data!B217),\"\",data!B217)","v":""},{"$f":"IF(ISBLANK(data!$A217),\"\",IF(ISBLANK(data!$B217),\"\",IF(ISBLANK(data!$C217),\"\",IF(ISBLANK(data!D217),\"\",data!G217))))","v":""},{"$f":"IF(ISBLANK(data!$A217),\"\",IF(ISBLANK(data!$B217),\"\",IF(ISBLANK(data!$C217),\"\",IF(ISBLANK(data!E217),\"\",data!H217))))","v":""},{"$f":"IF(ISBLANK(data!$A217),\"\",IF(ISBLANK(data!$B217),\"\",IF(ISBLANK(data!$C217),\"\",IF(ISBLANK(data!F217),\"\",data!I217))))","v":""},{"$f":"IF(smoothing!C213=\"\",\"\",smoothing!B213)","v":""},{"$f":"IF(smoothing!G213=\"\",\"\",smoothing!F213)","v":""},{"$f":"IF(smoothing!K213=\"\",\"\",smoothing!J213)","v":""}]
[{"$f":"IF(smoothing!A214=\"out of range\",\"out of range\",\"\")","v":""},{"$f":"IF(ISBLANK(data!A218),\"\",data!A218)","v":""},{"$f":"IF(ISBLANK(data!B218),\"\",data!B218)","v":""},{"$f":"IF(ISBLANK(data!$A218),\"\",IF(ISBLANK(data!$B218),\"\",IF(ISBLANK(data!$C218),\"\",IF(ISBLANK(data!D218),\"\",data!G218))))","v":""},{"$f":"IF(ISBLANK(data!$A218),\"\",IF(ISBLANK(data!$B218),\"\",IF(ISBLANK(data!$C218),\"\",IF(ISBLANK(data!E218),\"\",data!H218))))","v":""},{"$f":"IF(ISBLANK(data!$A218),\"\",IF(ISBLANK(data!$B218),\"\",IF(ISBLANK(data!$C218),\"\",IF(ISBLANK(data!F218),\"\",data!I218))))","v":""},{"$f":"IF(smoothing!C214=\"\",\"\",smoothing!B214)","v":""},{"$f":"IF(smoothing!G214=\"\",\"\",smoothing!F214)","v":""},{"$f":"IF(smoothing!K214=\"\",\"\",smoothing!J214)","v":""}]

{"sheet":"milk yield 2018","index":3,"n_rows":232,"n_cols":8,"rows_kept":232,"cut":false,"hidden":true,"merged":[]}
[]
[]
[null,"Morning milking"]
["key","Laktation nr","Milkinginterval class","milkinginterval description","lactation stadium class","days in milk description","Intercept","Regr.Koeff."]
[1111,1,1,"< 720 Min.",1,"< 60 days",3.44076,1.73133]
[1112,1,1,"< 720 Min.",2,"< 120 days",4.9959600000000002,1.64527]
[1113,1,1,"< 720 Min.",3,"< 180 days",3.83372,1.68144]
[1114,1,1,"< 720 Min.",4,"< 240 days",3.8703400000000001,1.68102]
[1115,1,1,"< 720 Min.",5,"< 300 days",1.7613399999999999,1.8042400000000001]
[1116,1,1,"< 720 Min.",6,"< 360 days",0.79303999999999997,1.89072]
[1117,1,1,"< 720 Min.",7,">= 360 days",1.4353499999999999,1.8061400000000001]
[1121,1,2,"< 740 Min.",1,"< 60 days",3.7228400000000001,1.68499]
[1122,1,2,"< 740 Min.",2,"< 120 days",4.4266699999999997,1.6650799999999999]
[1123,1,2,"< 740 Min.",3,"< 180 days",2.7019000000000002,1.75871]
[1124,1,2,"< 740 Min.",4,"< 240 days",2.4153799999999999,1.7593700000000001]
[1125,1,2,"< 740 Min.",5,"< 300 days",1.65412,1.8164899999999999]
[1126,1,2,"< 740 Min.",6,"< 360 days",2.0842999999999998,1.7735000000000001]
[1127,1,2,"< 740 Min.",7,">= 360 days",1.43238,1.8065100000000001]
[1131,1,3,"< 760 Min.",1,"< 60 days",2.4531399999999999,1.77068]
[1132,1,3,"< 760 Min.",2,"< 120 days",3.0121699999999998,1.70966]
[1133,1,3,"< 760 Min.",3,"< 180 days",2.0999699999999999,1.7494499999999999]
[1134,1,3,"< 760 Min.",4,"< 240 days",2.3668300000000002,1.7174100000000001]
[1135,1,3,"< 760 Min.",5,"< 300 days",1.56776,1.7575499999999999]
[1136,1,3,"< 760 Min.",6,"< 360 days",1.6382399999999999,1.7545200000000001]
[1137,1,3,"< 760 Min.",7,">= 360 days",0.74114000000000002,1.8342099999999999]
[1141,1,4,"< 780 Min.",1,"< 60 days",1.4704699999999999,1.7858799999999999]
[1142,1,4,"< 780 Min.",2,"< 120 days",2.2216800000000001,1.7298500000000001]
[1143,1,4,"< 780 Min.",3,"< 180 days",2.50108,1.69618]
[1144,1,4,"< 780 Min.",4,"< 240 days",1.9714100000000001,1.7202]
[1145,1,4,"< 780 Min.",5,"< 300 days",1.1705399999999999,1.7587900000000001]
[1146,1,4,"< 780 Min.",6,"< 360 days",1.7475499999999999,1.7096800000000001]
[1147,1,4,"< 780 Min.",7,">= 360 days",0.52481999999999995,1.80155]
[1151,1,5,"< 800 Min.",1,"< 60 days",1.76464,1.7621899999999999]
[1152,1,5,"< 800 Min.",2,"< 120 days",1.99594,1.73438]
[1153,1,5,"< 800 Min.",3,"< 180 days",1.8804000000000001,1.7236199999999999]
[1154,1,5,"< 800 Min.",4,"< 240 days",1.8333699999999999,1.7147699999999999]
[1155,1,5,"< 800 Min.",5,"< 300 days",1.49752,1.7261500000000001]
[1156,1,5,"< 800 Min.",6,"< 360 days",1.3042,1.7304999999999999]
[1157,1,5,"< 800 Min.",7,">= 360 days",2.00868,1.67669]
[1161,1,6,"< 820 Min.",1,"< 60 days",0.84992999999999996,1.75972]
[1162,1,6,"< 820 Min.",2,"< 120 days",1.93666,1.6740600000000001]
[1163,1,6,"< 820 Min.",3,"< 180 days",2.1211500000000001,1.64964]
[1164,1,6,"< 820 Min.",4,"< 240 days",0.68830999999999998,1.7390099999999999]
[1165,1,6,"< 820 Min.",5,"< 300 days",1.1308100000000001,1.69479]
[1166,1,6,"< 820 Min.",6,"< 360 days",0.58930000000000005,1.7253700000000001]
[1167,1,6,"< 820 Min.",7,">= 360 days",0.72519,1.7195499999999999]
[1171,1,7,"< 840 Min.",1,"< 60 days",1.85937,1.6606399999999999]
[1172,1,7,"< 840 Min.",2,"< 120 days",1.8527,1.6489199999999999]
[1173,1,7,"< 840 Min.",3,"< 180 days",1.5690500000000001,1.6608400000000001]
[1174,1,7,"< 840 Min.",4,"< 240 days",0.74968000000000001,1.6985699999999999]
[1175,1,7,"< 840 Min.",5,"< 300 days",1.08222,1.6592499999999999]
[1176,1,7,"< 840 Min.",6,"< 360 days",1.1124000000000001,1.68059]
[1177,1,7,"< 840 Min.",7,">= 360 days",0.88031000000000004,1.6751]
[1181,1,8,">= 840 Min.",1,"< 60 days",0.62802000000000002,1.7240200000000001]
[1182,1,8,">= 840 Min.",2,"< 120 days",0.83901999999999999,1.68303]
[1183,1,8,">= 840 Min.",3,"< 180 days",1.33727,1.6340699999999999]
[1184,1,8,">= 840 Min.",4,"< 240 days",1.0638099999999999,1.6476200000000001]
[1185,1,8,">= 840 Min.",5,"< 300 days",1.13714,1.6171599999999999]
[1186,1,8,">= 840 Min.",6,"< 360 days",1.1913400000000001,1.60463]
[1187,1,8,">= 840 Min.",7,">= 360 days",1.5887199999999999,1.6020399999999999]
[1211,">=2",1,"< 720 Min.",1,"< 60 days",3.4677500000000001,1.78609]
[1212,">=2",1,"< 720 Min.",2,"< 120 days",5.6987899999999998,1.67614]
[1213,">=2",1,"< 720 Min.",3,"< 180 days",5.1898499999999999,1.66571]
[1214,">=2",1,"< 720 Min.",4,"< 240 days",3.4343499999999998,1.7418199999999999]
[1215,">=2",1,"< 720 Min.",5,"< 300 days",2.4864299999999999,1.7621899999999999]
[1216,">=2",1,"< 720 Min.",6,"< 360 days",1.41151,1.8229200000000001]
[1217,">=2",1,"< 720 Min.",7,">= 360 days",0.90959999999999996,1.8409]
[1221,">=2",2,"< 740 Min.",1,"< 60 days",1.85358,1.8361499999999999]
[1222,">=2",2,"< 740 Min.",2,"< 120 days",3.8118799999999999,1.7497799999999999]
[1223,">=2",2,"< 740 Min.",3,"< 180 days",3.16717,1.7667900000000001]
[1224,">=2",2,"< 740 Min.",4,"< 240 days",2.3366400000000001,1.7893399999999999]
[1225,">=2",2,"< 740 Min.",5,"< 300 days",2.01675,1.7930299999999999]
[1226,">=2",2,"< 740 Min.",6,"< 360 days",1.80809,1.80081]
[1227,">=2",2,"< 740 Min.",7,">= 360 days",1.01661,1.8294999999999999]
[1231,">=2",3,"< 760 Min.",1,"< 60 days",2.0147400000000002,1.8142]
[1232,">=2",3,"< 760 Min.",2,"< 120 days",3.5398900000000002,1.7198500000000001]
[1233,">=2",3,"< 760 Min.",3,"< 180 days",3.3841199999999998,1.6990700000000001]
[1234,">=2",3,"< 760 Min.",4,"< 240 days",2.2170999999999998,1.7462200000000001]
[1235,">=2",3,"< 760 Min.",5,"< 300 days",1.11799,1.8094399999999999]
[1236,">=2",3,"< 760 Min.",6,"< 360 days",1.4046400000000001,1.76033]
[1237,">=2",3,"< 760 Min.",7,">= 360 days",0.11328000000000001,1.8972]
[1241,">=2",4,"< 780 Min.",1,"< 60 days",2.5977700000000001,1.7447600000000001]
[1242,">=2",4,"< 780 Min.",2,"< 120 days",3.5385300000000002,1.6951099999999999]
[1243,">=2",4,"< 780 Min.",3,"< 180 days",2.80538,1.70587]
[1244,">=2",4,"< 780 Min.",4,"< 240 days",2.1819099999999998,1.72068]
[1245,">=2",4,"< 780 Min.",5,"< 300 days",1.23383,1.7716000000000001]
[1246,">=2",4,"< 780 Min.",6,"< 360 days",0.85651999999999995,1.7927900000000001]
[1247,">=2",4,"< 780 Min.",7,">= 360 days",0.97994999999999999,1.7717799999999999]
[1251,">=2",5,"< 800 Min.",1,"< 60 days",2.4701599999999999,1.7498499999999999]
[1252,">=2",5,"< 800 Min.",2,"< 120 days",3.7619400000000001,1.6897899999999999]
[1253,">=2",5,"< 800 Min.",3,"< 180 days",2.6142099999999999,1.70766]
[1254,">=2",5,"< 800 Min.",4,"< 240 days",1.6809000000000001,1.74028]
[1255,">=2",5,"< 800 Min.",5,"< 300 days",1.3124100000000001,1.75722]
[1256,">=2",5,"< 800 Min.",6,"< 360 days",1.6656299999999999,1.7178100000000001]
[1257,">=2",5,"< 800 Min.",7,">= 360 days",0.87470999999999999,1.7499100000000001]
[1261,">=2",6,"< 820 Min.",1,"< 60 days",1.70055,1.7283200000000001]
[1262,">=2",6,"< 820 Min.",2,"< 120 days",3.2055799999999999,1.65143]
[1263,">=2",6,"< 820 Min.",3,"< 180 days",1.5827,1.7153799999999999]
[1264,">=2",6,"< 820 Min.",4,"< 240 days",1.7692000000000001,1.6947300000000001]
[1265,">=2",6,"< 820 Min.",5,"< 300 days",1.33003,1.7054199999999999]
[1266,">=2",6,"< 820 Min.",6,"< 360 days",1.0126599999999999,1.7115499999999999]
[1267,">=2",6,"< 820 Min.",7,">= 360 days",0.98560000000000003,1.7009099999999999]
[1271,">=2",7,"< 840 Min.",1,"< 60 days",2.02441,1.67788]
[1272,">=2",7,"< 840 Min.",2,"< 120 days",1.4394899999999999,1.71143]
[1273,">=2",7,"< 840 Min.",3,"< 180 days",1.68946,1.66442]
[1274,">=2",7,"< 840 Min.",4,"< 240 days",1.1096699999999999,1.68591]
[1275,">=2",7,"< 840 Min.",5,"< 300 days",0.77866000000000002,1.70882]
[1276,">=2",7,"< 840 Min.",6,"< 360 days",0.67501999999999995,1.69719]
[1277,">=2",7,"< 840 Min.",7,">= 360 days",0.65215999999999996,1.70336]
[1281,">=2",8,">= 840 Min.",1,"< 60 days",1.33877,1.6735800000000001]
[1282,">=2",8,">= 840 Min.",2,"< 120 days",0.71697,1.71038]
[1283,">=2",8,">= 840 Min.",3,"< 180 days",2.1319699999999999,1.62429]
[1284,">=2",8,">= 840 Min.",4,"< 240 days",1.1693199999999999,1.66188]
[1285,">=2",8,">= 840 Min.",5,"< 300 days",1.48369,1.6238699999999999]
[1286,">=2",8,">= 840 Min.",6,"< 360 days",1.18879,1.65442]
[1287,">=2",8,">= 840 Min.",7,">= 360 days",0.58052000000000004,1.68546]
[]
[]
[null,"Evening milking"]
["key","Laktation nr","Milkinginterval class","milkinginterval description","lactation stadium class","days in milk description","Intercept","Regr.Koeff."]
[2111,1,1,"<=599 Min.",1,"< 60 days",5.2933300000000001,1.83283]
[2112,1,1,"<=599 Min.",2,"< 120 days",4.1767599999999998,1.9744699999999999]
[2113,1,1,"<=599 Min.",3,"< 180 days",4.2647599999999999,1.9594499999999999]
[2114,1,1,"<=599 Min.",4,"< 240 days",3.41282,2.0181399999999998]
[2115,1,1,"<=599 Min.",5,"< 300 days",1.79548,2.2266499999999998]
[2116,1,1,"<=599 Min.",6,"< 360 days",3.7751000000000001,1.9550799999999999]
[2117,1,1,"<=599 Min.",7,">= 360 days",1.544,2.1478000000000002]
[2121,1,2,">= 600 Min.",1,"< 60 days",5.8583999999999996,1.79409]
[2122,1,2,">= 600 Min.",2,"< 120 days",5.4552399999999999,1.8425800000000001]
[2123,1,2,">= 600 Min.",3,"< 180 days",4.6405200000000004,1.8670599999999999]
[2124,1,2,">= 600 Min.",4,"< 240 days",2.86835,2.06209]
[2125,1,2,">= 600 Min.",5,"< 300 days",2.1133600000000001,2.1205500000000002]
[2126,1,2,">= 600 Min.",6,"< 360 days",2.0067300000000001,2.0636000000000001]
[2127,1,2,">= 600 Min.",7,">= 360 days",1.7175199999999999,2.1126900000000002]
[2131,1,3,">= 620 Min.",1,"< 60 days",2.8024399999999998,2.02183]
[2132,1,3,">= 620 Min.",2,"< 120 days",3.4739599999999999,1.98268]
[2133,1,3,">= 620 Min.",3,"< 180 days",2.8170199999999999,2.0434800000000002]
[2134,1,3,">= 620 Min.",4,"< 240 days",3.1989000000000001,1.998]
[2135,1,3,">= 620 Min.",5,"< 300 days",2.4705499999999998,2.04826]
[2136,1,3,">= 620 Min.",6,"< 360 days",1.923,2.07728]
[2137,1,3,">= 620 Min.",7,">= 360 days",1.8526400000000001,2.0872999999999999]
[2141,1,4,">= 640 Min.",1,"< 60 days",2.7504200000000001,1.96631]
[2142,1,4,">= 640 Min.",2,"< 120 days",2.97505,1.9671099999999999]
[2143,1,4,">= 640 Min.",3,"< 180 days",2.33365,2.0298600000000002]
[2144,1,4,">= 640 Min.",4,"< 240 days",3.4150499999999999,1.9410700000000001]
[2145,1,4,">= 640 Min.",5,"< 300 days",2.6748799999999999,1.97797]
[2146,1,4,">= 640 Min.",6,"< 360 days",1.89907,2.0484100000000001]
[2147,1,4,">= 640 Min.",7,">= 360 days",1.8032600000000001,2.0355400000000001]
[2151,1,5,">= 660 Min.",1,"< 60 days",2.76763,1.9286300000000001]
[2152,1,5,">= 660 Min.",2,"< 120 days",3.36896,1.92048]
[2153,1,5,">= 660 Min.",3,"< 180 days",2.22763,2.0045199999999999]
[2154,1,5,">= 660 Min.",4,"< 240 days",2.44625,1.9704900000000001]
[2155,1,5,">= 660 Min.",5,"< 300 days",2.379,1.9730700000000001]
[2156,1,5,">= 660 Min.",6,"< 360 days",1.62948,2.0249100000000002]
[2157,1,5,">= 660 Min.",7,">= 360 days",1.45651,2.0253999999999999]
[2161,1,6,">= 680 Min.",1,"< 60 days",2.0108799999999998,1.9497]
[2162,1,6,">= 680 Min.",2,"< 120 days",2.9660500000000001,1.9306399999999999]
[2163,1,6,">= 680 Min.",3,"< 180 days",2.2281,1.96085]
[2164,1,6,">= 680 Min.",4,"< 240 days",2.39473,1.952]
[2165,1,6,">= 680 Min.",5,"< 300 days",2.3795500000000001,1.9412700000000001]
[2166,1,6,">= 680 Min.",6,"< 360 days",0.36203000000000002,2.1239300000000001]
[2167,1,6,">= 680 Min.",7,">= 360 days",1.5702,1.96794]
[2171,1,7,">= 700 Min.",1,"< 60 days",3.9365399999999999,1.82772]
[2172,1,7,">= 700 Min.",2,"< 120 days",4.3966200000000004,1.8158099999999999]
[2173,1,7,">= 700 Min.",3,"< 180 days",3.7832499999999998,1.82778]
[2174,1,7,">= 700 Min.",4,"< 240 days",3.3911600000000002,1.8630199999999999]
[2175,1,7,">= 700 Min.",5,"< 300 days",3.2011099999999999,1.8325499999999999]
[2176,1,7,">= 700 Min.",6,"< 360 days",3.7563900000000001,1.7866500000000001]
[2177,1,7,">= 700 Min.",7,">= 360 days",1.42153,1.9564900000000001]
[2181,1,8,">= 720 Min.",1,"< 60 days",2.3454000000000002,1.9043600000000001]
[2182,1,8,">= 720 Min.",2,"< 120 days",3.9755699999999998,1.8274600000000001]
[2183,1,8,">= 720 Min.",3,"< 180 days",4.2693899999999996,1.8050299999999999]
[2184,1,8,">= 720 Min.",4,"< 240 days",2.9077899999999999,1.8986099999999999]
[2185,1,8,">= 720 Min.",5,"< 300 days",2.8264999999999998,1.87632]
[2186,1,8,">= 720 Min.",6,"< 360 days",2.2631199999999998,1.8739699999999999]
[2187,1,8,">= 720 Min.",7,">= 360 days",0.31381999999999999,2.0440200000000002]
[2211,">=2",1,"<=599 Min.",1,"< 60 days",4.6375200000000003,1.9961500000000001]
[2212,">=2",1,"<=599 Min.",2,"< 120 days",5.5622600000000002,1.9152100000000001]
[2213,">=2",1,"<=599 Min.",3,"< 180 days",4.5198299999999998,1.9696199999999999]
[2214,">=2",1,"<=599 Min.",4,"< 240 days",4.5156299999999998,1.9303300000000001]
[2215,">=2",1,"<=599 Min.",5,"< 300 days",2.6033400000000002,2.0733799999999998]
[2216,">=2",1,"<=599 Min.",6,"< 360 days",2.8606799999999999,1.9845699999999999]
[2217,">=2",1,"<=599 Min.",7,">= 360 days",1.6596,2.1175299999999999]
[2221,">=2",2,">= 600 Min.",1,"< 60 days",3.9465599999999998,2.03607]
[2222,">=2",2,">= 600 Min.",2,"< 120 days",4.2052500000000004,1.98621]
[2223,">=2",2,">= 600 Min.",3,"< 180 days",3.3172899999999998,2.04589]
[2224,">=2",2,">= 600 Min.",4,"< 240 days",1.95977,2.1392600000000002]
[2225,">=2",2,">= 600 Min.",5,"< 300 days",1.49014,2.1488900000000002]
[2226,">=2",2,">= 600 Min.",6,"< 360 days",0.82235000000000003,2.2251699999999999]
[2227,">=2",2,">= 600 Min.",7,">= 360 days",1.5360799999999999,2.0897199999999998]
[2231,">=2",3,">= 620 Min.",1,"< 60 days",3.8552499999999998,2.0042900000000001]
[2232,">=2",3,">= 620 Min.",2,"< 120 days",4.1508000000000003,1.9852000000000001]
[2233,">=2",3,">= 620 Min.",3,"< 180 days",3.3149299999999999,2.02332]
[2234,">=2",3,">= 620 Min.",4,"< 240 days",2.4735399999999998,2.0651999999999999]
[2235,">=2",3,">= 620 Min.",5,"< 300 days",1.6851700000000001,2.0880899999999998]
[2236,">=2",3,">= 620 Min.",6,"< 360 days",1.3160000000000001,2.1271399999999998]
[2237,">=2",3,">= 620 Min.",7,">= 360 days",0.48409999999999997,2.2053799999999999]
[2241,">=2",4,">= 640 Min.",1,"< 60 days",2.8262299999999998,2.0181900000000002]
[2242,">=2",4,">= 640 Min.",2,"< 120 days",3.2403900000000001,1.9811000000000001]
[2243,">=2",4,">= 640 Min.",3,"< 180 days",2.4544999999999999,2.0338599999999998]
[2244,">=2",4,">= 640 Min.",4,"< 240 days",2.4644599999999999,2.0162599999999999]
[2245,">=2",4,">= 640 Min.",5,"< 300 days",2.1133899999999999,2.0072399999999999]
[2246,">=2",4,">= 640 Min.",6,"< 360 days",1.5114099999999999,2.0456300000000001]
[2247,">=2",4,">= 640 Min.",7,">= 360 days",0.95935999999999999,2.0996299999999999]
[2251,">=2",5,">= 660 Min.",1,"< 60 days",3.3656100000000002,1.97323]
[2252,">=2",5,">= 660 Min.",2,"< 120 days",3.66222,1.95479]
[2253,">=2",5,">= 660 Min.",3,"< 180 days",3.2044199999999998,1.9616499999999999]
[2254,">=2",5,">= 660 Min.",4,"< 240 days",1.7867299999999999,2.0426000000000002]
[2255,">=2",5,">= 660 Min.",5,"< 300 days",1.6186799999999999,2.0198800000000001]
[2256,">=2",5,">= 660 Min.",6,"< 360 days",1.3012300000000001,2.0221800000000001]
[2257,">=2",5,">= 660 Min.",7,">= 360 days",0.65695000000000003,2.0826899999999999]
[2261,">=2",6,">= 680 Min.",1,"< 60 days",2.3773,1.9669000000000001]
[2262,">=2",6,">= 680 Min.",2,"< 120 days",2.8255599999999998,1.95506]
[2263,">=2",6,">= 680 Min.",3,"< 180 days",2.7235,1.9488300000000001]
[2264,">=2",6,">= 680 Min.",4,"< 240 days",1.7772699999999999,1.9827300000000001]
[2265,">=2",6,">= 680 Min.",5,"< 300 days",0.81040999999999996,2.0529500000000001]
[2266,">=2",6,">= 680 Min.",6,"< 360 days",0.72187999999999997,2.0465]
[2267,">=2",6,">= 680 Min.",7,">= 360 days",1.2159800000000001,1.97942]
[2271,">=2",7,">= 700 Min.",1,"< 60 days",3.5505399999999998,1.8912800000000001]
[2272,">=2",7,">= 700 Min.",2,"< 120 days",5.0061999999999998,1.8157399999999999]
[2273,">=2",7,">= 700 Min.",3,"< 180 days",3.9520400000000002,1.8494699999999999]
[2274,">=2",7,">= 700 Min.",4,"< 240 days",2.36233,1.9168000000000001]
[2275,">=2",7,">= 700 Min.",5,"< 300 days",1.48851,1.9444300000000001]
[2276,">=2",7,">= 700 Min.",6,"< 360 days",1.22525,1.9445399999999999]
[2277,">=2",7,">= 700 Min.",7,">= 360 days",1.1384700000000001,1.9375599999999999]
[2281,">=2",8,">= 720 Min.",1,"< 60 days",4.0987400000000003,1.8770800000000001]
[2282,">=2",8,">= 720 Min.",2,"< 120 days",4.6640300000000003,1.8430200000000001]
[2283,">=2",8,">= 720 Min.",3,"< 180 days",3.2437499999999999,1.89351]
[2284,">=2",8,">= 720 Min.",4,"< 240 days",2.2417500000000001,1.9208400000000001]
[2285,">=2",8,">= 720 Min.",5,"< 300 days",1.6378299999999999,1.93625]
[2286,">=2",8,">= 720 Min.",6,"< 360 days",2.0175299999999998,1.8909499999999999]
[2287,">=2",8,">= 720 Min.",7,">= 360 days",0.97567999999999999,1.9721500000000001]

{"sheet":"fat 2018","index":4,"n_rows":232,"n_cols":8,"rows_kept":232,"cut":false,"hidden":true,"merged":[]}
[]
[]
[null,"morning milking"]
["key","Laktation nr","Milkinginterval class","milkinginterval description","lactation stadium class","days in milk description","Intercept","Regr.Koeff."]
[1111,1,1,"< 720 Min.",1,"< 60 Tage",0.27759,1.55037]
[1112,1,1,"< 720 Min.",2,"< 120 Tage",0.23219999999999999,1.58033]
[1113,1,1,"< 720 Min.",3,"< 180 Tage",0.25086999999999998,1.52033]
[1114,1,1,"< 720 Min.",4,"< 240 Tage",0.20979,1.6015299999999999]
[1115,1,1,"< 720 Min.",5,"< 300 Tage",0.15240999999999999,1.70485]
[1116,1,1,"< 720 Min.",6,"< 360 Tage",9.9059999999999995E-2,1.8031200000000001]
[1117,1,1,"< 720 Min.",7,">= 360 Tage",5.9299999999999999E-2,1.81589]
[1121,1,2,"< 740 Min.",1,"< 60 Tage",0.19225999999999999,1.66567]
[1122,1,2,"< 740 Min.",2,"< 120 Tage",0.24314,1.5565199999999999]
[1123,1,2,"< 740 Min.",3,"< 180 Tage",0.32717000000000002,1.38452]
[1124,1,2,"< 740 Min.",4,"< 240 Tage",0.14574999999999999,1.6835500000000001]
[1125,1,2,"< 740 Min.",5,"< 300 Tage",0.13925999999999999,1.7062299999999999]
[1126,1,2,"< 740 Min.",6,"< 360 Tage",0.21052000000000001,1.57508]
[1127,1,2,"< 740 Min.",7,">= 360 Tage",8.0310000000000006E-2,1.78712]
[1131,1,3,"< 760 Min.",1,"< 60 Tage",0.18151999999999999,1.7344299999999999]
[1132,1,3,"< 760 Min.",2,"< 120 Tage",0.19388,1.6617500000000001]
[1133,1,3,"< 760 Min.",3,"< 180 Tage",0.14493,1.6827700000000001]
[1134,1,3,"< 760 Min.",4,"< 240 Tage",0.12243999999999999,1.71407]
[1135,1,3,"< 760 Min.",5,"< 300 Tage",8.7760000000000005E-2,1.76946]
[1136,1,3,"< 760 Min.",6,"< 360 Tage",9.4219999999999998E-2,1.7679400000000001]
[1137,1,3,"< 760 Min.",7,">= 360 Tage",8.0390000000000003E-2,1.7830600000000001]
[1141,1,4,"< 780 Min.",1,"< 60 Tage",0.17271,1.6937899999999999]
[1142,1,4,"< 780 Min.",2,"< 120 Tage",0.20701,1.59429]
[1143,1,4,"< 780 Min.",3,"< 180 Tage",0.16828000000000001,1.6196200000000001]
[1144,1,4,"< 780 Min.",4,"< 240 Tage",0.14460000000000001,1.66357]
[1145,1,4,"< 780 Min.",5,"< 300 Tage",0.1172,1.69234]
[1146,1,4,"< 780 Min.",6,"< 360 Tage",0.12562000000000001,1.6760299999999999]
[1147,1,4,"< 780 Min.",7,">= 360 Tage",7.3450000000000001E-2,1.7561500000000001]
[1151,1,5,"< 800 Min.",1,"< 60 Tage",0.24301,1.59094]
[1152,1,5,"< 800 Min.",2,"< 120 Tage",0.19839999999999999,1.5953999999999999]
[1153,1,5,"< 800 Min.",3,"< 180 Tage",0.13019,1.67977]
[1154,1,5,"< 800 Min.",4,"< 240 Tage",0.11197,1.70244]
[1155,1,5,"< 800 Min.",5,"< 300 Tage",0.13128000000000001,1.6546099999999999]
[1156,1,5,"< 800 Min.",6,"< 360 Tage",7.1730000000000002E-2,1.75315]
[1157,1,5,"< 800 Min.",7,">= 360 Tage",0.12298000000000001,1.64761]
[1161,1,6,"< 820 Min.",1,"< 60 Tage",0.12917999999999999,1.7402599999999999]
[1162,1,6,"< 820 Min.",2,"< 120 Tage",0.16606000000000001,1.5994299999999999]
[1163,1,6,"< 820 Min.",3,"< 180 Tage",0.19988,1.5082100000000001]
[1164,1,6,"< 820 Min.",4,"< 240 Tage",9.6740000000000007E-2,1.6838]
[1165,1,6,"< 820 Min.",5,"< 300 Tage",6.4130000000000006E-2,1.72559]
[1166,1,6,"< 820 Min.",6,"< 360 Tage",2.598E-2,1.80138]
[1167,1,6,"< 820 Min.",7,">= 360 Tage",3.1570000000000001E-2,1.7840499999999999]
[1171,1,7,"< 840 Min.",1,"< 60 Tage",0.24160000000000001,1.4967600000000001]
[1172,1,7,"< 840 Min.",2,"< 120 Tage",0.2374,1.43845]
[1173,1,7,"< 840 Min.",3,"< 180 Tage",0.15434,1.5559799999999999]
[1174,1,7,"< 840 Min.",4,"< 240 Tage",0.13496,1.56636]
[1175,1,7,"< 840 Min.",5,"< 300 Tage",0.10847,1.613]
[1176,1,7,"< 840 Min.",6,"< 360 Tage",0.14266999999999999,1.57525]
[1177,1,7,"< 840 Min.",7,">= 360 Tage",0.10534,1.60483]
[1181,1,8,">= 840 Min.",1,"< 60 Tage",0.19225,1.5463100000000001]
[1182,1,8,">= 840 Min.",2,"< 120 Tage",0.15492,1.5342100000000001]
[1183,1,8,">= 840 Min.",3,"< 180 Tage",0.19835,1.43309]
[1184,1,8,">= 840 Min.",4,"< 240 Tage",0.11026,1.58762]
[1185,1,8,">= 840 Min.",5,"< 300 Tage",0.13322000000000001,1.53166]
[1186,1,8,">= 840 Min.",6,"< 360 Tage",0.11089,1.54864]
[1187,1,8,">= 840 Min.",7,">= 360 Tage",6.6000000000000003E-2,1.64659]
[1211,">=2",1,"< 720 Min.",1,"< 60 Tage",0.28955999999999998,1.6851499999999999]
[1212,">=2",1,"< 720 Min.",2,"< 120 Tage",0.3725,1.5044999999999999]
[1213,">=2",1,"< 720 Min.",3,"< 180 Tage",0.40123999999999999,1.40574]
[1214,">=2",1,"< 720 Min.",4,"< 240 Tage",0.20332,1.66994]
[1215,">=2",1,"< 720 Min.",5,"< 300 Tage",0.13714000000000001,1.7396]
[1216,">=2",1,"< 720 Min.",6,"< 360 Tage",0.15415000000000001,1.6725000000000001]
[1217,">=2",1,"< 720 Min.",7,">= 360 Tage",8.8109999999999994E-2,1.7823]
[1221,">=2",2,"< 740 Min.",1,"< 60 Tage",0.28355000000000002,1.6476500000000001]
[1222,">=2",2,"< 740 Min.",2,"< 120 Tage",0.25972000000000001,1.62799]
[1223,">=2",2,"< 740 Min.",3,"< 180 Tage",0.29831999999999997,1.53409]
[1224,">=2",2,"< 740 Min.",4,"< 240 Tage",0.22694,1.60101]
[1225,">=2",2,"< 740 Min.",5,"< 300 Tage",0.10664,1.79792]
[1226,">=2",2,"< 740 Min.",6,"< 360 Tage",0.13658999999999999,1.7093499999999999]
[1227,">=2",2,"< 740 Min.",7,">= 360 Tage",5.4800000000000001E-2,1.8468800000000001]
[1231,">=2",3,"< 760 Min.",1,"< 60 Tage",0.21867,1.74325]
[1232,">=2",3,"< 760 Min.",2,"< 120 Tage",0.28195999999999999,1.6086800000000001]
[1233,">=2",3,"< 760 Min.",3,"< 180 Tage",0.27409,1.5616399999999999]
[1234,">=2",3,"< 760 Min.",4,"< 240 Tage",0.16075999999999999,1.7010700000000001]
[1235,">=2",3,"< 760 Min.",5,"< 300 Tage",0.11087,1.75678]
[1236,">=2",3,"< 760 Min.",6,"< 360 Tage",0.10048,1.72933]
[1237,">=2",3,"< 760 Min.",7,">= 360 Tage",4.052E-2,1.8710100000000001]
[1241,">=2",4,"< 780 Min.",1,"< 60 Tage",0.28154000000000001,1.66509]
[1242,">=2",4,"< 780 Min.",2,"< 120 Tage",0.38311000000000001,1.4683900000000001]
[1243,">=2",4,"< 780 Min.",3,"< 180 Tage",0.26685999999999999,1.5578700000000001]
[1244,">=2",4,"< 780 Min.",4,"< 240 Tage",0.18332999999999999,1.65612]
[1245,">=2",4,"< 780 Min.",5,"< 300 Tage",0.12823999999999999,1.7117899999999999]
[1246,">=2",4,"< 780 Min.",6,"< 360 Tage",7.6300000000000007E-2,1.79314]
[1247,">=2",4,"< 780 Min.",7,">= 360 Tage",7.9699999999999993E-2,1.7577]
[1251,">=2",5,"< 800 Min.",1,"< 60 Tage",0.32061000000000001,1.60073]
[1252,">=2",5,"< 800 Min.",2,"< 120 Tage",0.32786999999999999,1.5467500000000001]
[1253,">=2",5,"< 800 Min.",3,"< 180 Tage",0.20307,1.64866]
[1254,">=2",5,"< 800 Min.",4,"< 240 Tage",0.16794999999999999,1.6649099999999999]
[1255,">=2",5,"< 800 Min.",5,"< 300 Tage",0.14383000000000001,1.68302]
[1256,">=2",5,"< 800 Min.",6,"< 360 Tage",0.12720999999999999,1.69231]
[1257,">=2",5,"< 800 Min.",7,">= 360 Tage",7.8820000000000001E-2,1.71706]
[1261,">=2",6,"< 820 Min.",1,"< 60 Tage",0.20838999999999999,1.6775899999999999]
[1262,">=2",6,"< 820 Min.",2,"< 120 Tage",0.33676,1.47797]
[1263,">=2",6,"< 820 Min.",3,"< 180 Tage",0.19719,1.6203799999999999]
[1264,">=2",6,"< 820 Min.",4,"< 240 Tage",0.14854000000000001,1.66225]
[1265,">=2",6,"< 820 Min.",5,"< 300 Tage",0.10725999999999999,1.69398]
[1266,">=2",6,"< 820 Min.",6,"< 360 Tage",9.3759999999999996E-2,1.70285]
[1267,">=2",6,"< 820 Min.",7,">= 360 Tage",6.454E-2,1.7306299999999999]
[1271,">=2",7,"< 840 Min.",1,"< 60 Tage",0.30435000000000001,1.5407]
[1272,">=2",7,"< 840 Min.",2,"< 120 Tage",0.30098000000000003,1.47963]
[1273,">=2",7,"< 840 Min.",3,"< 180 Tage",0.24776999999999999,1.47116]
[1274,">=2",7,"< 840 Min.",4,"< 240 Tage",0.15662999999999999,1.6010899999999999]
[1275,">=2",7,"< 840 Min.",5,"< 300 Tage",0.11248,1.6438900000000001]
[1276,">=2",7,"< 840 Min.",6,"< 360 Tage",0.10289,1.62419]
[1277,">=2",7,"< 840 Min.",7,">= 360 Tage",5.5449999999999999E-2,1.7338800000000001]
[1281,">=2",8,">= 840 Min.",1,"< 60 Tage",0.18368999999999999,1.64385]
[1282,">=2",8,">= 840 Min.",2,"< 120 Tage",0.25461,1.49037]
[1283,">=2",8,">= 840 Min.",3,"< 180 Tage",0.23930000000000001,1.4767300000000001]
[1284,">=2",8,">= 840 Min.",4,"< 240 Tage",0.13758999999999999,1.6010800000000001]
[1285,">=2",8,">= 840 Min.",5,"< 300 Tage",0.12547,1.58988]
[1286,">=2",8,">= 840 Min.",6,"< 360 Tage",0.10031,1.6281300000000001]
[1287,">=2",8,">= 840 Min.",7,">= 360 Tage",2.6960000000000001E-2,1.7382]
[]
[]
[null,"evening milking"]
["key","Laktation nr","Milkinginterval class","milkinginterval description","lactation stadium class","days in milk description","Intercept","Regr.Koeff."]
[2111,1,1,"<=599 Min.",1,"< 60 Tage",0.30911,1.4351799999999999]
[2112,1,1,"<=599 Min.",2,"< 120 Tage",0.28029999999999999,1.56914]
[2113,1,1,"<=599 Min.",3,"< 180 Tage",0.18826000000000001,1.8246800000000001]
[2114,1,1,"<=599 Min.",4,"< 240 Tage",0.25024999999999997,1.64707]
[2115,1,1,"<=599 Min.",5,"< 300 Tage",6.5780000000000005E-2,2.0951499999999998]
[2116,1,1,"<=599 Min.",6,"< 360 Tage",0.12853999999999999,1.93892]
[2117,1,1,"<=599 Min.",7,">= 360 Tage",6.4250000000000002E-2,2.06779]
[2121,1,2,">= 600 Min.",1,"< 60 Tage",0.33193,1.42953]
[2122,1,2,">= 600 Min.",2,"< 120 Tage",0.32877000000000001,1.43235]
[2123,1,2,">= 600 Min.",3,"< 180 Tage",0.27155000000000001,1.5701700000000001]
[2124,1,2,">= 600 Min.",4,"< 240 Tage",0.18647,1.79403]
[2125,1,2,">= 600 Min.",5,"< 300 Tage",0.10435,1.9720599999999999]
[2126,1,2,">= 600 Min.",6,"< 360 Tage",0.1386,1.8333600000000001]
[2127,1,2,">= 600 Min.",7,">= 360 Tage",6.5009999999999998E-2,2.0379]
[2131,1,3,">= 620 Min.",1,"< 60 Tage",0.17663000000000001,1.72438]
[2132,1,3,">= 620 Min.",2,"< 120 Tage",0.2135,1.6805000000000001]
[2133,1,3,">= 620 Min.",3,"< 180 Tage",0.20754,1.71868]
[2134,1,3,">= 620 Min.",4,"< 240 Tage",0.21578,1.6991000000000001]
[2135,1,3,">= 620 Min.",5,"< 300 Tage",0.15418000000000001,1.83151]
[2136,1,3,">= 620 Min.",6,"< 360 Tage",0.11783,1.8967799999999999]
[2137,1,3,">= 620 Min.",7,">= 360 Tage",0.13047,1.86711]
[2141,1,4,">= 640 Min.",1,"< 60 Tage",0.24793999999999999,1.61741]
[2142,1,4,">= 640 Min.",2,"< 120 Tage",0.20029,1.7184200000000001]
[2143,1,4,">= 640 Min.",3,"< 180 Tage",0.17021,1.79996]
[2144,1,4,">= 640 Min.",4,"< 240 Tage",0.1845,1.76799]
[2145,1,4,">= 640 Min.",5,"< 300 Tage",0.13433,1.85893]
[2146,1,4,">= 640 Min.",6,"< 360 Tage",8.7150000000000005E-2,1.96251]
[2147,1,4,">= 640 Min.",7,">= 360 Tage",0.12509999999999999,1.86477]
[2151,1,5,">= 660 Min.",1,"< 60 Tage",0.15754000000000001,1.7247399999999999]
[2152,1,5,">= 660 Min.",2,"< 120 Tage",0.22359999999999999,1.6414899999999999]
[2153,1,5,">= 660 Min.",3,"< 180 Tage",0.17613999999999999,1.7474000000000001]
[2154,1,5,">= 660 Min.",4,"< 240 Tage",0.17216999999999999,1.74753]
[2155,1,5,">= 660 Min.",5,"< 300 Tage",0.15964999999999999,1.7613399999999999]
[2156,1,5,">= 660 Min.",6,"< 360 Tage",0.11021,1.8554600000000001]
[2157,1,5,">= 660 Min.",7,">= 360 Tage",7.4789999999999995E-2,1.9278900000000001]
[2161,1,6,">= 680 Min.",1,"< 60 Tage",0.16547999999999999,1.68143]
[2162,1,6,">= 680 Min.",2,"< 120 Tage",0.25840999999999997,1.52566]
[2163,1,6,">= 680 Min.",3,"< 180 Tage",0.19036,1.6901299999999999]
[2164,1,6,">= 680 Min.",4,"< 240 Tage",0.17854,1.7242299999999999]
[2165,1,6,">= 680 Min.",5,"< 300 Tage",0.19578999999999999,1.6641900000000001]
[2166,1,6,">= 680 Min.",6,"< 360 Tage",0.14291000000000001,1.7582199999999999]
[2167,1,6,">= 680 Min.",7,">= 360 Tage",0.1336,1.76796]
[2171,1,7,">= 700 Min.",1,"< 60 Tage",0.2359,1.61894]
[2172,1,7,">= 700 Min.",2,"< 120 Tage",0.24969,1.5881000000000001]
[2173,1,7,">= 700 Min.",3,"< 180 Tage",0.19228000000000001,1.7180200000000001]
[2174,1,7,">= 700 Min.",4,"< 240 Tage",0.19689999999999999,1.71838]
[2175,1,7,">= 700 Min.",5,"< 300 Tage",9.8930000000000004E-2,1.8630899999999999]
[2176,1,7,">= 700 Min.",6,"< 360 Tage",0.25205,1.5617399999999999]
[2177,1,7,">= 700 Min.",7,">= 360 Tage",9.2259999999999995E-2,1.8588199999999999]
[2181,1,8,">= 720 Min.",1,"< 60 Tage",0.14321,1.77423]
[2182,1,8,">= 720 Min.",2,"< 120 Tage",0.26651000000000002,1.5837399999999999]
[2183,1,8,">= 720 Min.",3,"< 180 Tage",0.22917999999999999,1.6492500000000001]
[2184,1,8,">= 720 Min.",4,"< 240 Tage",0.18578,1.7396799999999999]
[2185,1,8,">= 720 Min.",5,"< 300 Tage",0.19374,1.6792899999999999]
[2186,1,8,">= 720 Min.",6,"< 360 Tage",9.9169999999999994E-2,1.82528]
[2187,1,8,">= 720 Min.",7,">= 360 Tage",5.049E-2,1.95773]
[2211,">=2",1,"<=599 Min.",1,"< 60 Tage",0.31102000000000002,1.58962]
[2212,">=2",1,"<=599 Min.",2,"< 120 Tage",0.26761000000000001,1.6434200000000001]
[2213,">=2",1,"<=599 Min.",3,"< 180 Tage",0.26221,1.6508799999999999]
[2214,">=2",1,"<=599 Min.",4,"< 240 Tage",0.18468000000000001,1.80715]
[2215,">=2",1,"<=599 Min.",5,"< 300 Tage",0.16011,1.81257]
[2216,">=2",1,"<=599 Min.",6,"< 360 Tage",0.15381,1.7919700000000001]
[2217,">=2",1,"<=599 Min.",7,">= 360 Tage",0.13089000000000001,1.83687]
[2221,">=2",2,">= 600 Min.",1,"< 60 Tage",0.23716000000000001,1.6988000000000001]
[2222,">=2",2,">= 600 Min.",2,"< 120 Tage",0.3553,1.4666300000000001]
[2223,">=2",2,">= 600 Min.",3,"< 180 Tage",0.29681999999999997,1.57761]
[2224,">=2",2,">= 600 Min.",4,"< 240 Tage",0.16059000000000001,1.7984599999999999]
[2225,">=2",2,">= 600 Min.",5,"< 300 Tage",0.10057000000000001,1.9077200000000001]
[2226,">=2",2,">= 600 Min.",6,"< 360 Tage",7.5730000000000006E-2,1.94963]
[2227,">=2",2,">= 600 Min.",7,">= 360 Tage",0.11472,1.81148]
[2231,">=2",3,">= 620 Min.",1,"< 60 Tage",0.27990999999999999,1.6240300000000001]
[2232,">=2",3,">= 620 Min.",2,"< 120 Tage",0.36349999999999999,1.47515]
[2233,">=2",3,">= 620 Min.",3,"< 180 Tage",0.31130999999999998,1.55183]
[2234,">=2",3,">= 620 Min.",4,"< 240 Tage",0.20827999999999999,1.71637]
[2235,">=2",3,">= 620 Min.",5,"< 300 Tage",0.14418,1.80246]
[2236,">=2",3,">= 620 Min.",6,"< 360 Tage",0.11206000000000001,1.8717900000000001]
[2237,">=2",3,">= 620 Min.",7,">= 360 Tage",4.6330000000000003E-2,2.02915]
[2241,">=2",4,">= 640 Min.",1,"< 60 Tage",0.25825999999999999,1.69268]
[2242,">=2",4,">= 640 Min.",2,"< 120 Tage",0.36282999999999999,1.50648]
[2243,">=2",4,">= 640 Min.",3,"< 180 Tage",0.19627,1.75339]
[2244,">=2",4,">= 640 Min.",4,"< 240 Tage",0.17827000000000001,1.76414]
[2245,">=2",4,">= 640 Min.",5,"< 300 Tage",0.14884,1.7796400000000001]
[2246,">=2",4,">= 640 Min.",6,"< 360 Tage",0.11559,1.82474]
[2247,">=2",4,">= 640 Min.",7,">= 360 Tage",7.0440000000000003E-2,1.9528099999999999]
[2251,">=2",5,">= 660 Min.",1,"< 60 Tage",0.26490000000000002,1.65361]
[2252,">=2",5,">= 660 Min.",2,"< 120 Tage",0.35065000000000002,1.5102800000000001]
[2253,">=2",5,">= 660 Min.",3,"< 180 Tage",0.28676000000000001,1.58823]
[2254,">=2",5,">= 660 Min.",4,"< 240 Tage",0.17183000000000001,1.7519800000000001]
[2255,">=2",5,">= 660 Min.",5,"< 300 Tage",0.11914,1.8087800000000001]
[2256,">=2",5,">= 660 Min.",6,"< 360 Tage",0.10514999999999999,1.80653]
[2257,">=2",5,">= 660 Min.",7,">= 360 Tage",6.8349999999999994E-2,1.8910199999999999]
[2261,">=2",6,">= 680 Min.",1,"< 60 Tage",0.24867,1.6335999999999999]
[2262,">=2",6,">= 680 Min.",2,"< 120 Tage",0.31730999999999998,1.5179800000000001]
[2263,">=2",6,">= 680 Min.",3,"< 180 Tage",0.30620999999999998,1.5177]
[2264,">=2",6,">= 680 Min.",4,"< 240 Tage",0.17988999999999999,1.6934100000000001]
[2265,">=2",6,">= 680 Min.",5,"< 300 Tage",0.13961000000000001,1.7439100000000001]
[2266,">=2",6,">= 680 Min.",6,"< 360 Tage",9.8739999999999994E-2,1.7992699999999999]
[2267,">=2",6,">= 680 Min.",7,">= 360 Tage",7.0650000000000004E-2,1.8721099999999999]
[2271,">=2",7,">= 700 Min.",1,"< 60 Tage",0.27401999999999999,1.6103099999999999]
[2272,">=2",7,">= 700 Min.",2,"< 120 Tage",0.31190000000000001,1.54857]
[2273,">=2",7,">= 700 Min.",3,"< 180 Tage",0.30464999999999998,1.5390699999999999]
[2274,">=2",7,">= 700 Min.",4,"< 240 Tage",0.18751000000000001,1.7041200000000001]
[2275,">=2",7,">= 700 Min.",5,"< 300 Tage",9.9729999999999999E-2,1.8104100000000001]
[2276,">=2",7,">= 700 Min.",6,"< 360 Tage",6.6170000000000007E-2,1.8708199999999999]
[2277,">=2",7,">= 700 Min.",7,">= 360 Tage",8.1089999999999995E-2,1.83388]
[2281,">=2",8,">= 720 Min.",1,"< 60 Tage",0.20311999999999999,1.73434]
[2282,">=2",8,">= 720 Min.",2,"< 120 Tage",0.31807999999999997,1.5609299999999999]
[2283,">=2",8,">= 720 Min.",3,"< 180 Tage",0.28270000000000001,1.5954600000000001]
[2284,">=2",8,">= 720 Min.",4,"< 240 Tage",0.17795,1.72611]
[2285,">=2",8,">= 720 Min.",5,"< 300 Tage",0.1225,1.7864199999999999]
[2286,">=2",8,">= 720 Min.",6,"< 360 Tage",0.13741999999999999,1.74752]
[2287,">=2",8,">= 720 Min.",7,">= 360 Tage",5.926E-2,1.8880699999999999]

{"sheet":"protein 2018","index":5,"n_rows":232,"n_cols":8,"rows_kept":232,"cut":false,"hidden":true,"merged":[]}
[]
[]
[null,"morning milking"]
["key","Laktation nr","Milkinginterval class","milkinginterval description","lactation stadium class","days in milk description","Intercept","Regr.Koeff."]
[1111,1,1,"< 720 Min.",1,"< 60 Tage",0.13322999999999999,1.68913]
[1112,1,1,"< 720 Min.",2,"< 120 Tage",0.17533000000000001,1.62422]
[1113,1,1,"< 720 Min.",3,"< 180 Tage",0.14524999999999999,1.66706]
[1114,1,1,"< 720 Min.",4,"< 240 Tage",0.13627,1.68885]
[1115,1,1,"< 720 Min.",5,"< 300 Tage",6.2309999999999997E-2,1.81524]
[1116,1,1,"< 720 Min.",6,"< 360 Tage",3.2770000000000001E-2,1.89435]
[1117,1,1,"< 720 Min.",7,">= 360 Tage",4.07E-2,1.85002]
[1121,1,2,"< 740 Min.",1,"< 60 Tage",0.1237,1.6645300000000001]
[1122,1,2,"< 740 Min.",2,"< 120 Tage",0.14360999999999999,1.6625099999999999]
[1123,1,2,"< 740 Min.",3,"< 180 Tage",0.11056000000000001,1.72312]
[1124,1,2,"< 740 Min.",4,"< 240 Tage",9.0380000000000002E-2,1.7413799999999999]
[1125,1,2,"< 740 Min.",5,"< 300 Tage",5.9700000000000003E-2,1.8137799999999999]
[1126,1,2,"< 740 Min.",6,"< 360 Tage",7.2440000000000004E-2,1.78566]
[1127,1,2,"< 740 Min.",7,">= 360 Tage",5.2690000000000001E-2,1.8172699999999999]
[1131,1,3,"< 760 Min.",1,"< 60 Tage",7.6569999999999999E-2,1.7802500000000001]
[1132,1,3,"< 760 Min.",2,"< 120 Tage",5.6239999999999998E-2,1.80606]
[1133,1,3,"< 760 Min.",3,"< 180 Tage",5.4460000000000001E-2,1.7922]
[1134,1,3,"< 760 Min.",4,"< 240 Tage",6.7750000000000005E-2,1.7572099999999999]
[1135,1,3,"< 760 Min.",5,"< 300 Tage",4.2439999999999999E-2,1.7967500000000001]
[1136,1,3,"< 760 Min.",6,"< 360 Tage",4.181E-2,1.8060400000000001]
[1137,1,3,"< 760 Min.",7,">= 360 Tage",2.3470000000000001E-2,1.8559600000000001]
[1141,1,4,"< 780 Min.",1,"< 60 Tage",6.5110000000000001E-2,1.7498499999999999]
[1142,1,4,"< 780 Min.",2,"< 120 Tage",8.1780000000000005E-2,1.71455]
[1143,1,4,"< 780 Min.",3,"< 180 Tage",8.5980000000000001E-2,1.70516]
[1144,1,4,"< 780 Min.",4,"< 240 Tage",6.8559999999999996E-2,1.73201]
[1145,1,4,"< 780 Min.",5,"< 300 Tage",4.6240000000000003E-2,1.75806]
[1146,1,4,"< 780 Min.",6,"< 360 Tage",6.2899999999999998E-2,1.72333]
[1147,1,4,"< 780 Min.",7,">= 360 Tage",2.6710000000000001E-2,1.79288]
[1151,1,5,"< 800 Min.",1,"< 60 Tage",7.1559999999999999E-2,1.73136]
[1152,1,5,"< 800 Min.",2,"< 120 Tage",6.4890000000000003E-2,1.7344900000000001]
[1153,1,5,"< 800 Min.",3,"< 180 Tage",6.7830000000000001E-2,1.71916]
[1154,1,5,"< 800 Min.",4,"< 240 Tage",5.7639999999999997E-2,1.73194]
[1155,1,5,"< 800 Min.",5,"< 300 Tage",4.6559999999999997E-2,1.7433000000000001]
[1156,1,5,"< 800 Min.",6,"< 360 Tage",4.4819999999999999E-2,1.7399]
[1157,1,5,"< 800 Min.",7,">= 360 Tage",9.1749999999999998E-2,1.64669]
[1161,1,6,"< 820 Min.",1,"< 60 Tage",3.2800000000000003E-2,1.7480199999999999]
[1162,1,6,"< 820 Min.",2,"< 120 Tage",4.5350000000000001E-2,1.7105999999999999]
[1163,1,6,"< 820 Min.",3,"< 180 Tage",5.2290000000000003E-2,1.6898599999999999]
[1164,1,6,"< 820 Min.",4,"< 240 Tage",1.6959999999999999E-2,1.75787]
[1165,1,6,"< 820 Min.",5,"< 300 Tage",4.9360000000000001E-2,1.67757]
[1166,1,6,"< 820 Min.",6,"< 360 Tage",1.5910000000000001E-2,1.74082]
[1167,1,6,"< 820 Min.",7,">= 360 Tage",2.8889999999999999E-2,1.7197199999999999]
[1171,1,7,"< 840 Min.",1,"< 60 Tage",6.8070000000000006E-2,1.6359900000000001]
[1172,1,7,"< 840 Min.",2,"< 120 Tage",6.336E-2,1.6431]
[1173,1,7,"< 840 Min.",3,"< 180 Tage",4.3360000000000003E-2,1.68109]
[1174,1,7,"< 840 Min.",4,"< 240 Tage",2.8709999999999999E-2,1.6933]
[1175,1,7,"< 840 Min.",5,"< 300 Tage",3.3050000000000003E-2,1.6782900000000001]
[1176,1,7,"< 840 Min.",6,"< 360 Tage",4.4159999999999998E-2,1.6776]
[1177,1,7,"< 840 Min.",7,">= 360 Tage",4.2160000000000003E-2,1.6644399999999999]
[1181,1,8,">= 840 Min.",1,"< 60 Tage",3.2469999999999999E-2,1.6936800000000001]
[1182,1,8,">= 840 Min.",2,"< 120 Tage",5.9220000000000002E-2,1.6141099999999999]
[1183,1,8,">= 840 Min.",3,"< 180 Tage",5.8740000000000001E-2,1.61141]
[1184,1,8,">= 840 Min.",4,"< 240 Tage",4.0189999999999997E-2,1.64574]
[1185,1,8,">= 840 Min.",5,"< 300 Tage",5.6480000000000002E-2,1.5914900000000001]
[1186,1,8,">= 840 Min.",6,"< 360 Tage",6.2579999999999997E-2,1.5691200000000001]
[1187,1,8,">= 840 Min.",7,">= 360 Tage",4.7480000000000001E-2,1.6328199999999999]
[1211,">=2",1,"< 720 Min.",1,"< 60 Tage",0.15003,1.7217100000000001]
[1212,">=2",1,"< 720 Min.",2,"< 120 Tage",0.19774,1.64659]
[1213,">=2",1,"< 720 Min.",3,"< 180 Tage",0.17827999999999999,1.6579299999999999]
[1214,">=2",1,"< 720 Min.",4,"< 240 Tage",0.11075,1.7622100000000001]
[1215,">=2",1,"< 720 Min.",5,"< 300 Tage",9.6360000000000001E-2,1.75624]
[1216,">=2",1,"< 720 Min.",6,"< 360 Tage",6.5490000000000007E-2,1.80013]
[1217,">=2",1,"< 720 Min.",7,">= 360 Tage",3.4669999999999999E-2,1.8527499999999999]
[1221,">=2",2,"< 740 Min.",1,"< 60 Tage",6.055E-2,1.83138]
[1222,">=2",2,"< 740 Min.",2,"< 120 Tage",0.11237999999999999,1.7645999999999999]
[1223,">=2",2,"< 740 Min.",3,"< 180 Tage",9.4070000000000001E-2,1.78959]
[1224,">=2",2,"< 740 Min.",4,"< 240 Tage",7.2730000000000003E-2,1.8037099999999999]
[1225,">=2",2,"< 740 Min.",5,"< 300 Tage",6.062E-2,1.8184]
[1226,">=2",2,"< 740 Min.",6,"< 360 Tage",7.3349999999999999E-2,1.79213]
[1227,">=2",2,"< 740 Min.",7,">= 360 Tage",3.4139999999999997E-2,1.84213]
[1231,">=2",3,"< 760 Min.",1,"< 60 Tage",5.3589999999999999E-2,1.8308800000000001]
[1232,">=2",3,"< 760 Min.",2,"< 120 Tage",0.10823000000000001,1.73763]
[1233,">=2",3,"< 760 Min.",3,"< 180 Tage",0.11042,1.71397]
[1234,">=2",3,"< 760 Min.",4,"< 240 Tage",7.3719999999999994E-2,1.7590600000000001]
[1235,">=2",3,"< 760 Min.",5,"< 300 Tage",3.7920000000000002E-2,1.81891]
[1236,">=2",3,"< 760 Min.",6,"< 360 Tage",5.3420000000000002E-2,1.75745]
[1237,">=2",3,"< 760 Min.",7,">= 360 Tage",7.8700000000000003E-3,1.8875299999999999]
[1241,">=2",4,"< 780 Min.",1,"< 60 Tage",0.10763,1.71072]
[1242,">=2",4,"< 780 Min.",2,"< 120 Tage",0.13242999999999999,1.66523]
[1243,">=2",4,"< 780 Min.",3,"< 180 Tage",0.11260000000000001,1.68024]
[1244,">=2",4,"< 780 Min.",4,"< 240 Tage",8.5000000000000006E-2,1.7102900000000001]
[1245,">=2",4,"< 780 Min.",5,"< 300 Tage",4.845E-2,1.7662800000000001]
[1246,">=2",4,"< 780 Min.",6,"< 360 Tage",3.5630000000000002E-2,1.78528]
[1247,">=2",4,"< 780 Min.",7,">= 360 Tage",3.8460000000000001E-2,1.7704299999999999]
[1251,">=2",5,"< 800 Min.",1,"< 60 Tage",0.10455,1.71058]
[1252,">=2",5,"< 800 Min.",2,"< 120 Tage",0.11781,1.69109]
[1253,">=2",5,"< 800 Min.",3,"< 180 Tage",8.3150000000000002E-2,1.7137800000000001]
[1254,">=2",5,"< 800 Min.",4,"< 240 Tage",6.2019999999999999E-2,1.73305]
[1255,">=2",5,"< 800 Min.",5,"< 300 Tage",5.3379999999999997E-2,1.7456199999999999]
[1256,">=2",5,"< 800 Min.",6,"< 360 Tage",6.1469999999999997E-2,1.7210099999999999]
[1257,">=2",5,"< 800 Min.",7,">= 360 Tage",4.1730000000000003E-2,1.7324600000000001]
[1261,">=2",6,"< 820 Min.",1,"< 60 Tage",6.0010000000000001E-2,1.7177899999999999]
[1262,">=2",6,"< 820 Min.",2,"< 120 Tage",9.6420000000000006E-2,1.6546000000000001]
[1263,">=2",6,"< 820 Min.",3,"< 180 Tage",5.3240000000000003E-2,1.71254]
[1264,">=2",6,"< 820 Min.",4,"< 240 Tage",5.7579999999999999E-2,1.69946]
[1265,">=2",6,"< 820 Min.",5,"< 300 Tage",4.5650000000000003E-2,1.7096]
[1266,">=2",6,"< 820 Min.",6,"< 360 Tage",4.0050000000000002E-2,1.7082200000000001]
[1267,">=2",6,"< 820 Min.",7,">= 360 Tage",3.9399999999999998E-2,1.6979599999999999]
[1271,">=2",7,"< 840 Min.",1,"< 60 Tage",8.6730000000000002E-2,1.63673]
[1272,">=2",7,"< 840 Min.",2,"< 120 Tage",6.5269999999999995E-2,1.6729499999999999]
[1273,">=2",7,"< 840 Min.",3,"< 180 Tage",6.5939999999999999E-2,1.6483399999999999]
[1274,">=2",7,"< 840 Min.",4,"< 240 Tage",4.9489999999999999E-2,1.67069]
[1275,">=2",7,"< 840 Min.",5,"< 300 Tage",3.4020000000000002E-2,1.7021500000000001]
[1276,">=2",7,"< 840 Min.",6,"< 360 Tage",3.5069999999999997E-2,1.67744]
[1277,">=2",7,"< 840 Min.",7,">= 360 Tage",2.2329999999999999E-2,1.72102]
[1281,">=2",8,">= 840 Min.",1,"< 60 Tage",6.055E-2,1.63818]
[1282,">=2",8,">= 840 Min.",2,"< 120 Tage",4.7980000000000002E-2,1.6639699999999999]
[1283,">=2",8,">= 840 Min.",3,"< 180 Tage",8.1360000000000002E-2,1.6065]
[1284,">=2",8,">= 840 Min.",4,"< 240 Tage",4.6300000000000001E-2,1.64856]
[1285,">=2",8,">= 840 Min.",5,"< 300 Tage",6.9190000000000002E-2,1.5925]
[1286,">=2",8,">= 840 Min.",6,"< 360 Tage",7.392E-2,1.58846]
[1287,">=2",8,">= 840 Min.",7,">= 360 Tage",1.9820000000000001E-2,1.70519]
[]
[]
[null,"evening milking"]
["key","Laktation nr","Milkinginterval class","milkinginterval description","lactation stadium class","days in milk description","Intercept","Regr.Koeff."]
[2111,1,1,"<=599 Min.",1,"< 60 Tage",0.18984000000000001,1.77461]
[2112,1,1,"<=599 Min.",2,"< 120 Tage",0.12246,2.0056799999999999]
[2113,1,1,"<=599 Min.",3,"< 180 Tage",0.12623999999999999,2.0137]
[2114,1,1,"<=599 Min.",4,"< 240 Tage",0.12519,1.9962899999999999]
[2115,1,1,"<=599 Min.",5,"< 300 Tage",5.2490000000000002E-2,2.24065]
[2116,1,1,"<=599 Min.",6,"< 360 Tage",0.11935999999999999,2.0097900000000002]
[2117,1,1,"<=599 Min.",7,">= 360 Tage",5.6899999999999999E-2,2.1385100000000001]
[2121,1,2,">= 600 Min.",1,"< 60 Tage",0.20755999999999999,1.7287999999999999]
[2122,1,2,">= 600 Min.",2,"< 120 Tage",0.21332000000000001,1.7400100000000001]
[2123,1,2,">= 600 Min.",3,"< 180 Tage",0.16439000000000001,1.8453900000000001]
[2124,1,2,">= 600 Min.",4,"< 240 Tage",0.10803,2.0192999999999999]
[2125,1,2,">= 600 Min.",5,"< 300 Tage",7.1929999999999994E-2,2.1065100000000001]
[2126,1,2,">= 600 Min.",6,"< 360 Tage",6.8919999999999995E-2,2.0653199999999998]
[2127,1,2,">= 600 Min.",7,">= 360 Tage",5.5690000000000003E-2,2.1288100000000001]
[2131,1,3,">= 620 Min.",1,"< 60 Tage",0.11078,1.9642200000000001]
[2132,1,3,">= 620 Min.",2,"< 120 Tage",0.10471,1.99092]
[2133,1,3,">= 620 Min.",3,"< 180 Tage",0.11269999999999999,1.98403]
[2134,1,3,">= 620 Min.",4,"< 240 Tage",0.10802,1.9951700000000001]
[2135,1,3,">= 620 Min.",5,"< 300 Tage",7.492E-2,2.0754700000000001]
[2136,1,3,">= 620 Min.",6,"< 360 Tage",6.4570000000000002E-2,2.0839099999999999]
[2137,1,3,">= 620 Min.",7,">= 360 Tage",7.0999999999999994E-2,2.0691700000000002]
[2141,1,4,">= 640 Min.",1,"< 60 Tage",9.2480000000000007E-2,1.9537599999999999]
[2142,1,4,">= 640 Min.",2,"< 120 Tage",9.3810000000000004E-2,1.97081]
[2143,1,4,">= 640 Min.",3,"< 180 Tage",7.6310000000000003E-2,2.0316700000000001]
[2144,1,4,">= 640 Min.",4,"< 240 Tage",0.10989,1.9545600000000001]
[2145,1,4,">= 640 Min.",5,"< 300 Tage",9.4320000000000001E-2,1.9775499999999999]
[2146,1,4,">= 640 Min.",6,"< 360 Tage",7.1319999999999995E-2,2.0422500000000001]
[2147,1,4,">= 640 Min.",7,">= 360 Tage",6.0720000000000003E-2,2.0474700000000001]
[2151,1,5,">= 660 Min.",1,"< 60 Tage",0.10187,1.8874899999999999]
[2152,1,5,">= 660 Min.",2,"< 120 Tage",0.12368999999999999,1.8823000000000001]
[2153,1,5,">= 660 Min.",3,"< 180 Tage",8.0189999999999997E-2,1.9782]
[2154,1,5,">= 660 Min.",4,"< 240 Tage",8.8900000000000007E-2,1.9464699999999999]
[2155,1,5,">= 660 Min.",5,"< 300 Tage",8.9599999999999999E-2,1.9457500000000001]
[2156,1,5,">= 660 Min.",6,"< 360 Tage",8.5199999999999998E-2,1.9459299999999999]
[2157,1,5,">= 660 Min.",7,">= 360 Tage",5.8459999999999998E-2,2.00196]
[2161,1,6,">= 680 Min.",1,"< 60 Tage",0.10100000000000001,1.85846]
[2162,1,6,">= 680 Min.",2,"< 120 Tage",0.12096999999999999,1.8606100000000001]
[2163,1,6,">= 680 Min.",3,"< 180 Tage",8.0320000000000003E-2,1.9375]
[2164,1,6,">= 680 Min.",4,"< 240 Tage",6.8629999999999997E-2,1.9758199999999999]
[2165,1,6,">= 680 Min.",5,"< 300 Tage",8.4470000000000003E-2,1.9315599999999999]
[2166,1,6,">= 680 Min.",6,"< 360 Tage",3.8449999999999998E-2,2.04562]
[2167,1,6,">= 680 Min.",7,">= 360 Tage",6.4490000000000006E-2,1.9482900000000001]
[2171,1,7,">= 700 Min.",1,"< 60 Tage",0.15032000000000001,1.76054]
[2172,1,7,">= 700 Min.",2,"< 120 Tage",0.16908999999999999,1.74794]
[2173,1,7,">= 700 Min.",3,"< 180 Tage",0.12368,1.8268]
[2174,1,7,">= 700 Min.",4,"< 240 Tage",0.12282,1.8480000000000001]
[2175,1,7,">= 700 Min.",5,"< 300 Tage",0.10440000000000001,1.84257]
[2176,1,7,">= 700 Min.",6,"< 360 Tage",0.14105000000000001,1.7680199999999999]
[2177,1,7,">= 700 Min.",7,">= 360 Tage",4.6359999999999998E-2,1.96245]
[2181,1,8,">= 720 Min.",1,"< 60 Tage",0.10703,1.8230599999999999]
[2182,1,8,">= 720 Min.",2,"< 120 Tage",0.15298,1.7638499999999999]
[2183,1,8,">= 720 Min.",3,"< 180 Tage",0.12923999999999999,1.8106100000000001]
[2184,1,8,">= 720 Min.",4,"< 240 Tage",0.13947999999999999,1.7967900000000001]
[2185,1,8,">= 720 Min.",5,"< 300 Tage",0.12377000000000001,1.8094399999999999]
[2186,1,8,">= 720 Min.",6,"< 360 Tage",8.8190000000000004E-2,1.84453]
[2187,1,8,">= 720 Min.",7,">= 360 Tage",2.6120000000000001E-2,1.9901199999999999]
[2211,">=2",1,"<=599 Min.",1,"< 60 Tage",0.16636999999999999,1.9668600000000001]
[2212,">=2",1,"<=599 Min.",2,"< 120 Tage",0.16972999999999999,1.9414499999999999]
[2213,">=2",1,"<=599 Min.",3,"< 180 Tage",0.12245,2.03857]
[2214,">=2",1,"<=599 Min.",4,"< 240 Tage",0.15251999999999999,1.94807]
[2215,">=2",1,"<=599 Min.",5,"< 300 Tage",9.8919999999999994E-2,2.0549300000000001]
[2216,">=2",1,"<=599 Min.",6,"< 360 Tage",8.6190000000000003E-2,2.0404599999999999]
[2217,">=2",1,"<=599 Min.",7,">= 360 Tage",9.9080000000000001E-2,1.96479]
[2221,">=2",2,">= 600 Min.",1,"< 60 Tage",0.19559000000000001,1.8876500000000001]
[2222,">=2",2,">= 600 Min.",2,"< 120 Tage",0.16569999999999999,1.9217500000000001]
[2223,">=2",2,">= 600 Min.",3,"< 180 Tage",0.12490999999999999,2.0094500000000002]
[2224,">=2",2,">= 600 Min.",4,"< 240 Tage",6.7129999999999995E-2,2.1283500000000002]
[2225,">=2",2,">= 600 Min.",5,"< 300 Tage",5.2789999999999997E-2,2.1404700000000001]
[2226,">=2",2,">= 600 Min.",6,"< 360 Tage",4.0140000000000002E-2,2.1754899999999999]
[2227,">=2",2,">= 600 Min.",7,">= 360 Tage",6.7599999999999993E-2,2.0395699999999999]
[2231,">=2",3,">= 620 Min.",1,"< 60 Tage",0.12862999999999999,1.98973]
[2232,">=2",3,">= 620 Min.",2,"< 120 Tage",0.13952000000000001,1.9707399999999999]
[2233,">=2",3,">= 620 Min.",3,"< 180 Tage",0.11703,2.0069599999999999]
[2234,">=2",3,">= 620 Min.",4,"< 240 Tage",9.4020000000000006E-2,2.0414699999999999]
[2235,">=2",3,">= 620 Min.",5,"< 300 Tage",6.9169999999999995E-2,2.0580799999999999]
[2236,">=2",3,">= 620 Min.",6,"< 360 Tage",4.7230000000000001E-2,2.12486]
[2237,">=2",3,">= 620 Min.",7,">= 360 Tage",2.3689999999999999E-2,2.18113]
[2241,">=2",4,">= 640 Min.",1,"< 60 Tage",0.11251,1.97665]
[2242,">=2",4,">= 640 Min.",2,"< 120 Tage",0.11719,1.9624600000000001]
[2243,">=2",4,">= 640 Min.",3,"< 180 Tage",9.6979999999999997E-2,2.00807]
[2244,">=2",4,">= 640 Min.",4,"< 240 Tage",8.0259999999999998E-2,2.0291199999999998]
[2245,">=2",4,">= 640 Min.",5,"< 300 Tage",7.7490000000000003E-2,2.0058500000000001]
[2246,">=2",4,">= 640 Min.",6,"< 360 Tage",6.1940000000000002E-2,2.0258600000000002]
[2247,">=2",4,">= 640 Min.",7,">= 360 Tage",3.6450000000000003E-2,2.0992999999999999]
[2251,">=2",5,">= 660 Min.",1,"< 60 Tage",0.13019,1.9240200000000001]
[2252,">=2",5,">= 660 Min.",2,"< 120 Tage",0.14652000000000001,1.89882]
[2253,">=2",5,">= 660 Min.",3,"< 180 Tage",0.12031,1.93028]
[2254,">=2",5,">= 660 Min.",4,"< 240 Tage",6.7799999999999999E-2,2.0202499999999999]
[2255,">=2",5,">= 660 Min.",5,"< 300 Tage",6.6239999999999993E-2,1.9928300000000001]
[2256,">=2",5,">= 660 Min.",6,"< 360 Tage",5.3449999999999998E-2,2.00292]
[2257,">=2",5,">= 660 Min.",7,">= 360 Tage",3.32E-2,2.0525000000000002]
[2261,">=2",6,">= 680 Min.",1,"< 60 Tage",8.319E-2,1.9474100000000001]
[2262,">=2",6,">= 680 Min.",2,"< 120 Tage",0.12008000000000001,1.89324]
[2263,">=2",6,">= 680 Min.",3,"< 180 Tage",9.3649999999999997E-2,1.93764]
[2264,">=2",6,">= 680 Min.",4,"< 240 Tage",7.3139999999999997E-2,1.9516100000000001]
[2265,">=2",6,">= 680 Min.",5,"< 300 Tage",4.4679999999999997E-2,2.01091]
[2266,">=2",6,">= 680 Min.",6,"< 360 Tage",3.1370000000000002E-2,2.0330900000000001]
[2267,">=2",6,">= 680 Min.",7,">= 360 Tage",4.4839999999999998E-2,1.98491]
[2271,">=2",7,">= 700 Min.",1,"< 60 Tage",0.10827000000000001,1.8908499999999999]
[2272,">=2",7,">= 700 Min.",2,"< 120 Tage",0.18009,1.7686500000000001]
[2273,">=2",7,">= 700 Min.",3,"< 180 Tage",0.16048000000000001,1.7889999999999999]
[2274,">=2",7,">= 700 Min.",4,"< 240 Tage",9.5310000000000006E-2,1.8835500000000001]
[2275,">=2",7,">= 700 Min.",5,"< 300 Tage",5.9040000000000002E-2,1.9249700000000001]
[2276,">=2",7,">= 700 Min.",6,"< 360 Tage",5.5160000000000001E-2,1.91259]
[2277,">=2",7,">= 700 Min.",7,">= 360 Tage",4.7059999999999998E-2,1.9316500000000001]
[2281,">=2",8,">= 720 Min.",1,"< 60 Tage",0.15506,1.83083]
[2282,">=2",8,">= 720 Min.",2,"< 120 Tage",0.18049000000000001,1.78288]
[2283,">=2",8,">= 720 Min.",3,"< 180 Tage",0.13583000000000001,1.8342700000000001]
[2284,">=2",8,">= 720 Min.",4,"< 240 Tage",9.6360000000000001E-2,1.8743799999999999]
[2285,">=2",8,">= 720 Min.",5,"< 300 Tage",6.59E-2,1.90934]
[2286,">=2",8,">= 720 Min.",6,"< 360 Tage",8.2890000000000005E-2,1.8655299999999999]
[2287,">=2",8,">= 720 Min.",7,">= 360 Tage",4.0570000000000002E-2,1.95672]

{"sheet":"smoothing","index":6,"n_rows":214,"n_cols":11,"rows_kept":214,"cut":false,"hidden":true,"merged":[[12,7,12,9],[12,3,12,5]]}
[]
[]
[]
[]
[]
[]
[]
[]
[]
[]
[]
[]
["total",null,null,"fat %",null,null,null,"protein %"]
[null,"limit milk","comment","Min","Max",null,"comment","Min","Max",null,"comment"]
[{"$f":"IF(C15=\"out of range\",\"out of range\",IF(G15=\"out of range\",\"out of range\",IF(K15=\"out of range\",\"out of range\")))","v":false},{"$f":"IF(data!D19<5,IF(data!$E$9=1,data!D19*2,data!D19*2.5),1000)","v":1000},{"$f":"IF(B15=0,\"\",IF(B15>results!D9,\"\",\"out of range\"))","v":""},{"$f":"IF(data!D19<5,data!E19*0.9,0)","v":0},{"$f":"IF(data!D19<5,data!E19*1.1,0)","v":0},{"$f":"IF(results!E9<smoothing!D15,D15,IF(results!E9>smoothing!E15,smoothing!E15,results!E9))","v":0},{"$f":"IF(F15=0,\"\",IF(results!E9<smoothing!D15,\"out of range\",IF(results!E9>smoothing!E15,\"out of range\",\"\")))","v":""},{"$f":"IF(data!D19<5,data!F19*0.9,0)","v":0},{"$f":"IF(data!D19<5,data!F19*1.1,0)","v":0},{"$f":"IF(results!F9<smoothing!H15,H15,IF(results!F9>smoothing!I15,smoothing!I15,results!F9))","v":0},{"$f":"IF(J15=0,\"\",IF(results!F9<smoothing!H15,\"out of range\",IF(results!F9>smoothing!I15,\"out of range\",\"\")))","v":""}]
[{"$f":"IF(C16=\"out of range\",\"out of range\",IF(G16=\"out of range\",\"out of range\",IF(K16=\"out of range\",\"out of range\")))","v":false},{"$f":"IF(data!D20<5,IF(data!$E$9=1,data!D20*2,data!D20*2.5),1000)","v":0},{"$f":"IF(B16=0,\"\",IF(B16>results!D10,\"\",\"out of range\"))","v":""},{"$f":"IF(data!D20<5,data!E20*0.9,0)","v":0},{"$f":"IF(data!D20<5,data!E20*1.1,0)","v":0},{"$f":"IF(results!E10<smoothing!D16,D16,IF(results!E10>smoothing!E16,smoothing!E16,results!E10))","v":0},{"$f":"IF(F16=0,\"\",IF(results!E10<smoothing!D16,\"out of range\",IF(results!E10>smoothing!E16,\"out of range\",\"\")))","v":""},{"$f":"IF(data!D20<5,data!F20*0.9,0)","v":0},{"$f":"IF(data!D20<5,data!F20*1.1,0)","v":0},{"$f":"IF(results!F10<smoothing!H16,H16,IF(results!F10>smoothing!I16,smoothing!I16,results!F10))","v":0},{"$f":"IF(J16=0,\"\",IF(results!F10<smoothing!H16,\"out of range\",IF(results!F10>smoothing!I16,\"out of range\",\"\")))","v":""}]
[false,{"$f":"IF(data!D21<5,IF(data!$E$9=1,data!D21*2,data!D21*2.5),1000)","v":0},{"$f":"IF(B17=0,\"\",IF(B17>results!D11,\"\",\"out of range\"))","v":""},{"$f":"IF(data!D21<5,data!E21*0.9,0)","v":0},{"$f":"IF(data!D21<5,data!E21*1.1,0)","v":0},{"$f":"IF(results!E11<smoothing!D17,D17,IF(results!E11>smoothing!E17,smoothing!E17,results!E11))","v":0},{"$f":"IF(F17=0,\"\",IF(results!E11<smoothing!D17,\"out of range\",IF(results!E11>smoothing!E17,\"out of range\",\"\")))","v":""},{"$f":"IF(data!D21<5,data!F21*0.9,0)","v":0},{"$f":"IF(data!D21<5,data!F21*1.1,0)","v":0},{"$f":"IF(results!F11<smoothing!H17,H17,IF(results!F11>smoothing!I17,smoothing!I17,results!F11))","v":0},{"$f":"IF(J17=0,\"\",IF(results!F11<smoothing!H17,\"out of range\",IF(results!F11>smoothing!I17,\"out of range\",\"\")))","v":""}]
[false,{"$f":"IF(data!D22<5,IF(data!$E$9=1,data!D22*2,data!D22*2.5),1000)","v":0},{"$f":"IF(B18=0,\"\",IF(B18>results!D12,\"\",\"out of range\"))","v":""},{"$f":"IF(data!D22<5,data!E22*0.9,0)","v":0},{"$f":"IF(data!D22<5,data!E22*1.1,0)","v":0},{"$f":"IF(results!E12<smoothing!D18,D18,IF(results!E12>smoothing!E18,smoothing!E18,results!E12))","v":0},{"$f":"IF(F18=0,\"\",IF(results!E12<smoothing!D18,\"out of range\",IF(results!E12>smoothing!E18,\"out of range\",\"\")))","v":""},{"$f":"IF(data!D22<5,data!F22*0.9,0)","v":0},{"$f":"IF(data!D22<5,data!F22*1.1,0)","v":0},{"$f":"IF(results!F12<smoothing!H18,H18,IF(results!F12>smoothing!I18,smoothing!I18,results!F12))","v":0},{"$f":"IF(J18=0,\"\",IF(results!F12<smoothing!H18,\"out of range\",IF(results!F12>smoothing!I18,\"out of range\",\"\")))","v":""}]
[false,{"$f":"IF(data!D23<5,IF(data!$E$9=1,data!D23*2,data!D23*2.5),1000)","v":0},{"$f":"IF(B19=0,\"\",IF(B19>results!D13,\"\",\"out of range\"))","v":""},{"$f":"IF(data!D23<5,data!E23*0.9,0)","v":0},{"$f":"IF(data!D23<5,data!E23*1.1,0)","v":0},{"$f":"IF(results!E13<smoothing!D19,D19,IF(results!E13>smoothing!E19,smoothing!E19,results!E13))","v":0},{"$f":"IF(F19=0,\"\",IF(results!E13<smoothing!D19,\"out of range\",IF(results!E13>smoothing!E19,\"out of range\",\"\")))","v":""},{"$f":"IF(data!D23<5,data!F23*0.9,0)","v":0},{"$f":"IF(data!D23<5,data!F23*1.1,0)","v":0},{"$f":"IF(results!F13<smoothing!H19,H19,IF(results!F13>smoothing!I19,smoothing!I19,results!F13))","v":0},{"$f":"IF(J19=0,\"\",IF(results!F13<smoothing!H19,\"out of range\",IF(results!F13>smoothing!I19,\"out of range\",\"\")))","v":""}]
[false,{"$f":"IF(data!D24<5,IF(data!$E$9=1,data!D24*2,data!D24*2.5),1000)","v":0},{"$f":"IF(B20=0,\"\",IF(B20>results!D14,\"\",\"out of range\"))","v":""},{"$f":"IF(data!D24<5,data!E24*0.9,0)","v":0},{"$f":"IF(data!D24<5,data!E24*1.1,0)","v":0},{"$f":"IF(results!E14<smoothing!D20,D20,IF(results!E14>smoothing!E20,smoothing!E20,results!E14))","v":0},{"$f":"IF(F20=0,\"\",IF(results!E14<smoothing!D20,\"out of range\",IF(results!E14>smoothing!E20,\"out of range\",\"\")))","v":""},{"$f":"IF(data!D24<5,data!F24*0.9,0)","v":0},{"$f":"IF(data!D24<5,data!F24*1.1,0)","v":0},{"$f":"IF(results!F14<smoothing!H20,H20,IF(results!F14>smoothing!I20,smoothing!I20,results!F14))","v":0},{"$f":"IF(J20=0,\"\",IF(results!F14<smoothing!H20,\"out of range\",IF(results!F14>smoothing!I20,\"out of range\",\"\")))","v":""}]
[false,{"$f":"IF(data!D25<5,IF(data!$E$9=1,data!D25*2,data!D25*2.5),1000)","v":0},{"$f":"IF(B21=0,\"\",IF(B21>results!D15,\"\",\"out of range\"))","v":""},{"$f":"IF(data!D25<5,data!E25*0.9,0)","v":0},{"$f":"IF(data!D25<5,data!E25*1.1,0)","v":0},{"$f":"IF(results!E15<smoothing!D21,D21,IF(results!E15>smoothing!E21,smoothing!E21,results!E15))","v":0},{"$f":"IF(F21=0,\"\",IF(results!E15<smoothing!D21,\"out of range\",IF(results!E15>smoothing!E21,\"out of range\",\"\")))","v":""},{"$f":"IF(data!D25<5,data!F25*0.9,0)","v":0},{"$f":"IF(data!D25<5,data!F25*1.1,0)","v":0},{"$f":"IF(results!F15<smoothing!H21,H21,IF(results!F15>smoothing!I21,smoothing!I21,results!F15))","v":0},{"$f":"IF(J21=0,\"\",IF(results!F15<smoothing!H21,\"out of range\",IF(results!F15>smoothing!I21,\"out of range\",\"\")))","v":""}]
[false,{"$f":"IF(data!D26<5,IF(data!$E$9=1,data!D26*2,data!D26*2.5),1000)","v":0},{"$f":"IF(B22=0,\"\",IF(B22>results!D16,\"\",\"out of range\"))","v":""},{"$f":"IF(data!D26<5,data!E26*0.9,0)","v":0},{"$f":"IF(data!D26<5,data!E26*1.1,0)","v":0},{"$f":"IF(results!E16<smoothing!D22,D22,IF(results!E16>smoothing!E22,smoothing!E22,results!E16))","v":0},{"$f":"IF(F22=0,\"\",IF(results!E16<smoothing!D22,\"out of range\",IF(results!E16>smoothing!E22,\"out of range\",\"\")))","v":""},{"$f":"IF(data!D26<5,data!F26*0.9,0)","v":0},{"$f":"IF(data!D26<5,data!F26*1.1,0)","v":0},{"$f":"IF(results!F16<smoothing!H22,H22,IF(results!F16>smoothing!I22,smoothing!I22,results!F16))","v":0},{"$f":"IF(J22=0,\"\",IF(results!F16<smoothing!H22,\"out of range\",IF(results!F16>smoothing!I22,\"out of range\",\"\")))","v":""}]
[false,{"$f":"IF(data!D27<5,IF(data!$E$9=1,data!D27*2,data!D27*2.5),1000)","v":0},{"$f":"IF(B23=0,\"\",IF(B23>results!D17,\"\",\"out of range\"))","v":""},{"$f":"IF(data!D27<5,data!E27*0.9,0)","v":0},{"$f":"IF(data!D27<5,data!E27*1.1,0)","v":0},{"$f":"IF(results!E17<smoothing!D23,D23,IF(results!E17>smoothing!E23,smoothing!E23,results!E17))","v":0},{"$f":"IF(F23=0,\"\",IF(results!E17<smoothing!D23,\"out of range\",IF(results!E17>smoothing!E23,\"out of range\",\"\")))","v":""},{"$f":"IF(data!D27<5,data!F27*0.9,0)","v":0},{"$f":"IF(data!D27<5,data!F27*1.1,0)","v":0},{"$f":"IF(results!F17<smoothing!H23,H23,IF(results!F17>smoothing!I23,smoothing!I23,results!F17))","v":0},{"$f":"IF(J23=0,\"\",IF(results!F17<smoothing!H23,\"out of range\",IF(results!F17>smoothing!I23,\"out of range\",\"\")))","v":""}]
[false,{"$f":"IF(data!D28<5,IF(data!$E$9=1,data!D28*2,data!D28*2.5),1000)","v":0},{"$f":"IF(B24=0,\"\",IF(B24>results!D18,\"\",\"out of range\"))","v":""},{"$f":"IF(data!D28<5,data!E28*0.9,0)","v":0},{"$f":"IF(data!D28<5,data!E28*1.1,0)","v":0},{"$f":"IF(results!E18<smoothing!D24,D24,IF(results!E18>smoothing!E24,smoothing!E24,results!E18))","v":0},{"$f":"IF(F24=0,\"\",IF(results!E18<smoothing!D24,\"out of range\",IF(results!E18>smoothing!E24,\"out of range\",\"\")))","v":""},{"$f":"IF(data!D28<5,data!F28*0.9,0)","v":0},{"$f":"IF(data!D28<5,data!F28*1.1,0)","v":0},{"$f":"IF(results!F18<smoothing!H24,H24,IF(results!F18>smoothing!I24,smoothing!I24,results!F18))","v":0},{"$f":"IF(J24=0,\"\",IF(results!F18<smoothing!H24,\"out of range\",IF(results!F18>smoothing!I24,\"out of range\",\"\")))","v":""}]
[false,{"$f":"IF(data!D29<5,IF(data!$E$9=1,data!D29*2,data!D29*2.5),1000)","v":0},{"$f":"IF(B25=0,\"\",IF(B25>results!D19,\"\",\"out of range\"))","v":""},{"$f":"IF(data!D29<5,data!E29*0.9,0)","v":0},{"$f":"IF(data!D29<5,data!E29*1.1,0)","v":0},{"$f":"IF(results!E19<smoothing!D25,D25,IF(results!E19>smoothing!E25,smoothing!E25,results!E19))","v":0},{"$f":"IF(F25=0,\"\",IF(results!E19<smoothing!D25,\"out of range\",IF(results!E19>smoothing!E25,\"out of range\",\"\")))","v":""},{"$f":"IF(data!D29<5,data!F29*0.9,0)","v":0},{"$f":"IF(data!D29<5,data!F29*1.1,0)","v":0},{"$f":"IF(results!F19<smoothing!H25,H25,IF(results!F19>smoothing!I25,smoothing!I25,results!F19))","v":0},{"$f":"IF(J25=0,\"\",IF(results!F19<smoothing!H25,\"out of range\",IF(results!F19>smoothing!I25,\"out of range\",\"\")))","v":""}]
[false,{"$f":"IF(data!D30<5,IF(data!$E$9=1,data!D30*2,data!D30*2.5),1000)","v":0},{"$f":"IF(B26=0,\"\",IF(B26>results!D20,\"\",\"out of range\"))","v":""},{"$f":"IF(data!D30<5,data!E30*0.9,0)","v":0},{"$f":"IF(data!D30<5,data!E30*1.1,0)","v":0},{"$f":"IF(results!E20<smoothing!D26,D26,IF(results!E20>smoothing!E26,smoothing!E26,results!E20))","v":0},{"$f":"IF(F26=0,\"\",IF(results!E20<smoothing!D26,\"out of range\",IF(results!E20>smoothing!E26,\"out of range\",\"\")))","v":""},{"$f":"IF(data!D30<5,data!F30*0.9,0)","v":0},{"$f":"IF(data!D30<5,data!F30*1.1,0)","v":0},{"$f":"IF(results!F20<smoothing!H26,H26,IF(results!F20>smoothing!I26,smoothing!I26,results!F20))","v":0},{"$f":"IF(J26=0,\"\",IF(results!F20<smoothing!H26,\"out of range\",IF(results!F20>smoothing!I26,\"out of range\",\"\")))","v":""}]
[false,{"$f":"IF(data!D31<5,IF(data!$E$9=1,data!D31*2,data!D31*2.5),1000)","v":0},{"$f":"IF(B27=0,\"\",IF(B27>results!D21,\"\",\"out of range\"))","v":""},{"$f":"IF(data!D31<5,data!E31*0.9,0)","v":0},{"$f":"IF(data!D31<5,data!E31*1.1,0)","v":0},{"$f":"IF(results!E21<smoothing!D27,D27,IF(results!E21>smoothing!E27,smoothing!E27,results!E21))","v":0},{"$f":"IF(F27=0,\"\",IF(results!E21<smoothing!D27,\"out of range\",IF(results!E21>smoothing!E27,\"out of range\",\"\")))","v":""},{"$f":"IF(data!D31<5,data!F31*0.9,0)","v":0},{"$f":"IF(data!D31<5,data!F31*1.1,0)","v":0},{"$f":"IF(results!F21<smoothing!H27,H27,IF(results!F21>smoothing!I27,smoothing!I27,results!F21))","v":0},{"$f":"IF(J27=0,\"\",IF(results!F21<smoothing!H27,\"out of range\",IF(results!F21>smoothing!I27,\"out of range\",\"\")))","v":""}]
[false,{"$f":"IF(data!D32<5,IF(data!$E$9=1,data!D32*2,data!D32*2.5),1000)","v":0},{"$f":"IF(B28=0,\"\",IF(B28>results!D22,\"\",\"out of range\"))","v":""},{"$f":"IF(data!D32<5,data!E32*0.9,0)","v":0},{"$f":"IF(data!D32<5,data!E32*1.1,0)","v":0},{"$f":"IF(results!E22<smoothing!D28,D28,IF(results!E22>smoothing!E28,smoothing!E28,results!E22))","v":0},{"$f":"IF(F28=0,\"\",IF(results!E22<smoothing!D28,\"out of range\",IF(results!E22>smoothing!E28,\"out of range\",\"\")))","v":""},{"$f":"IF(data!D32<5,data!F32*0.9,0)","v":0},{"$f":"IF(data!D32<5,data!F32*1.1,0)","v":0},{"$f":"IF(results!F22<smoothing!H28,H28,IF(results!F22>smoothing!I28,smoothing!I28,results!F22))","v":0},{"$f":"IF(J28=0,\"\",IF(results!F22<smoothing!H28,\"out of range\",IF(results!F22>smoothing!I28,\"out of range\",\"\")))","v":""}]
[false,{"$f":"IF(data!D33<5,IF(data!$E$9=1,data!D33*2,data!D33*2.5),1000)","v":0},{"$f":"IF(B29=0,\"\",IF(B29>results!D23,\"\",\"out of range\"))","v":""},{"$f":"IF(data!D33<5,data!E33*0.9,0)","v":0},{"$f":"IF(data!D33<5,data!E33*1.1,0)","v":0},{"$f":"IF(results!E23<smoothing!D29,D29,IF(results!E23>smoothing!E29,smoothing!E29,results!E23))","v":0},{"$f":"IF(F29=0,\"\",IF(results!E23<smoothing!D29,\"out of range\",IF(results!E23>smoothing!E29,\"out of range\",\"\")))","v":""},{"$f":"IF(data!D33<5,data!F33*0.9,0)","v":0},{"$f":"IF(data!D33<5,data!F33*1.1,0)","v":0},{"$f":"IF(results!F23<smoothing!H29,H29,IF(results!F23>smoothing!I29,smoothing!I29,results!F23))","v":0},{"$f":"IF(J29=0,\"\",IF(results!F23<smoothing!H29,\"out of range\",IF(results!F23>smoothing!I29,\"out of range\",\"\")))","v":""}]
[false,{"$f":"IF(data!D34<5,IF(data!$E$9=1,data!D34*2,data!D34*2.5),1000)","v":0},{"$f":"IF(B30=0,\"\",IF(B30>results!D24,\"\",\"out of range\"))","v":""},{"$f":"IF(data!D34<5,data!E34*0.9,0)","v":0},{"$f":"IF(data!D34<5,data!E34*1.1,0)","v":0},{"$f":"IF(results!E24<smoothing!D30,D30,IF(results!E24>smoothing!E30,smoothing!E30,results!E24))","v":0},{"$f":"IF(F30=0,\"\",IF(results!E24<smoothing!D30,\"out of range\",IF(results!E24>smoothing!E30,\"out of range\",\"\")))","v":""},{"$f":"IF(data!D34<5,data!F34*0.9,0)","v":0},{"$f":"IF(data!D34<5,data!F34*1.1,0)","v":0},{"$f":"IF(results!F24<smoothing!H30,H30,IF(results!F24>smoothing!I30,smoothing!I30,results!F24))","v":0},{"$f":"IF(J30=0,\"\",IF(results!F24<smoothing!H30,\"out of range\",IF(results!F24>smoothing!I30,\"out of range\",\"\")))","v":""}]
[false,{"$f":"IF(data!D35<5,IF(data!$E$9=1,data!D35*2,data!D35*2.5),1000)","v":0},{"$f":"IF(B31=0,\"\",IF(B31>results!D25,\"\",\"out of range\"))","v":""},{"$f":"IF(data!D35<5,data!E35*0.9,0)","v":0},{"$f":"IF(data!D35<5,data!E35*1.1,0)","v":0},{"$f":"IF(results!E25<smoothing!D31,D31,IF(results!E25>smoothing!E31,smoothing!E31,results!E25))","v":0},{"$f":"IF(F31=0,\"\",IF(results!E25<smoothing!D31,\"out of range\",IF(results!E25>smoothing!E31,\"out of range\",\"\")))","v":""},{"$f":"IF(data!D35<5,data!F35*0.9,0)","v":0},{"$f":"IF(data!D35<5,data!F35*1.1,0)","v":0},{"$f":"IF(results!F25<smoothing!H31,H31,IF(results!F25>smoothing!I31,smoothing!I31,results!F25))","v":0},{"$f":"IF(J31=0,\"\",IF(results!F25<smoothing!H31,\"out of range\",IF(results!F25>smoothing!I31,\"out of range\",\"\")))","v":""}]
[false,{"$f":"IF(data!D36<5,IF(data!$E$9=1,data!D36*2,data!D36*2.5),1000)","v":0},{"$f":"IF(B32=0,\"\",IF(B32>results!D26,\"\",\"out of range\"))","v":""},{"$f":"IF(data!D36<5,data!E36*0.9,0)","v":0},{"$f":"IF(data!D36<5,data!E36*1.1,0)","v":0},{"$f":"IF(results!E26<smoothing!D32,D32,IF(results!E26>smoothing!E32,smoothing!E32,results!E26))","v":0},{"$f":"IF(F32=0,\"\",IF(results!E26<smoothing!D32,\"out of range\",IF(results!E26>smoothing!E32,\"out of range\",\"\")))","v":""},{"$f":"IF(data!D36<5,data!F36*0.9,0)","v":0},{"$f":"IF(data!D36<5,data!F36*1.1,0)","v":0},{"$f":"IF(results!F26<smoothing!H32,H32,IF(results!F26>smoothing!I32,smoothing!I32,results!F26))","v":0},{"$f":"IF(J32=0,\"\",IF(results!F26<smoothing!H32,\"out of range\",IF(results!F26>smoothing!I32,\"out of range\",\"\")))","v":""}]
[false,{"$f":"IF(data!D37<5,IF(data!$E$9=1,data!D37*2,data!D37*2.5),1000)","v":0},{"$f":"IF(B33=0,\"\",IF(B33>results!D27,\"\",\"out of range\"))","v":""},{"$f":"IF(data!D37<5,data!E37*0.9,0)","v":0},{"$f":"IF(data!D37<5,data!E37*1.1,0)","v":0},{"$f":"IF(results!E27<smoothing!D33,D33,IF(results!E27>smoothing!E33,smoothing!E33,results!E27))","v":0},{"$f":"IF(F33=0,\"\",IF(results!E27<smoothing!D33,\"out of range\",IF(results!E27>smoothing!E33,\"out of range\",\"\")))","v":""},{"$f":"IF(data!D37<5,data!F37*0.9,0)","v":0},{"$f":"IF(data!D37<5,data!F37*1.1,0)","v":0},{"$f":"IF(results!F27<smoothing!H33,H33,IF(results!F27>smoothing!I33,smoothing!I33,results!F27))","v":0},{"$f":"IF(J33=0,\"\",IF(results!F27<smoothing!H33,\"out of range\",IF(results!F27>smoothing!I33,\"out of range\",\"\")))","v":""}]
[false,{"$f":"IF(data!D38<5,IF(data!$E$9=1,data!D38*2,data!D38*2.5),1000)","v":0},{"$f":"IF(B34=0,\"\",IF(B34>results!D28,\"\",\"out of range\"))","v":""},{"$f":"IF(data!D38<5,data!E38*0.9,0)","v":0},{"$f":"IF(data!D38<5,data!E38*1.1,0)","v":0},{"$f":"IF(results!E28<smoothing!D34,D34,IF(results!E28>smoothing!E34,smoothing!E34,results!E28))","v":0},{"$f":"IF(F34=0,\"\",IF(results!E28<smoothing!D34,\"out of range\",IF(results!E28>smoothing!E34,\"out of range\",\"\")))","v":""},{"$f":"IF(data!D38<5,data!F38*0.9,0)","v":0},{"$f":"IF(data!D38<5,data!F38*1.1,0)","v":0},{"$f":"IF(results!F28<smoothing!H34,H34,IF(results!F28>smoothing!I34,smoothing!I34,results!F28))","v":0},{"$f":"IF(J34=0,\"\",IF(results!F28<smoothing!H34,\"out of range\",IF(results!F28>smoothing!I34,\"out of range\",\"\")))","v":""}]
[false,{"$f":"IF(data!D39<5,IF(data!$E$9=1,data!D39*2,data!D39*2.5),1000)","v":0},{"$f":"IF(B35=0,\"\",IF(B35>results!D29,\"\",\"out of range\"))","v":""},{"$f":"IF(data!D39<5,data!E39*0.9,0)","v":0},{"$f":"IF(data!D39<5,data!E39*1.1,0)","v":0},{"$f":"IF(results!E29<smoothing!D35,D35,IF(results!E29>smoothing!E35,smoothing!E35,results!E29))","v":0},{"$f":"IF(F35=0,\"\",IF(results!E29<smoothing!D35,\"out of range\",IF(results!E29>smoothing!E35,\"out of range\",\"\")))","v":""},{"$f":"IF(data!D39<5,data!F39*0.9,0)","v":0},{"$f":"IF(data!D39<5,data!F39*1.1,0)","v":0},{"$f":"IF(results!F29<smoothing!H35,H35,IF(results!F29>smoothing!I35,smoothing!I35,results!F29))","v":0},{"$f":"IF(J35=0,\"\",IF(results!F29<smoothing!H35,\"out of range\",IF(results!F29>smoothing!I35,\"out of range\",\"\")))","v":""}]
[false,{"$f":"IF(data!D40<5,IF(data!$E$9=1,data!D40*2,data!D40*2.5),1000)","v":0},{"$f":"IF(B36=0,\"\",IF(B36>results!D30,\"\",\"out of range\"))","v":""},{"$f":"IF(data!D40<5,data!E40*0.9,0)","v":0},{"$f":"IF(data!D40<5,data!E40*1.1,0)","v":0},{"$f":"IF(results!E30<smoothing!D36,D36,IF(results!E30>smoothing!E36,smoothing!E36,results!E30))","v":0},{"$f":"IF(F36=0,\"\",IF(results!E30<smoothing!D36,\"out of range\",IF(results!E30>smoothing!E36,\"out of range\",\"\")))","v":""},{"$f":"IF(data!D40<5,data!F40*0.9,0)","v":0},{"$f":"IF(data!D40<5,data!F40*1.1,0)","v":0},{"$f":"IF(results!F30<smoothing!H36,H36,IF(results!F30>smoothing!I36,smoothing!I36,results!F30))","v":0},{"$f":"IF(J36=0,\"\",IF(results!F30<smoothing!H36,\"out of range\",IF(results!F30>smoothing!I36,\"out of range\",\"\")))","v":""}]
[false,{"$f":"IF(data!D41<5,IF(data!$E$9=1,data!D41*2,data!D41*2.5),1000)","v":0},{"$f":"IF(B37=0,\"\",IF(B37>results!D31,\"\",\"out of range\"))","v":""},{"$f":"IF(data!D41<5,data!E41*0.9,0)","v":0},{"$f":"IF(data!D41<5,data!E41*1.1,0)","v":0},{"$f":"IF(results!E31<smoothing!D37,D37,IF(results!E31>smoothing!E37,smoothing!E37,results!E31))","v":0},{"$f":"IF(F37=0,\"\",IF(results!E31<smoothing!D37,\"out of range\",IF(results!E31>smoothing!E37,\"out of range\",\"\")))","v":""},{"$f":"IF(data!D41<5,data!F41*0.9,0)","v":0},{"$f":"IF(data!D41<5,data!F41*1.1,0)","v":0},{"$f":"IF(results!F31<smoothing!H37,H37,IF(results!F31>smoothing!I37,smoothing!I37,results!F31))","v":0},{"$f":"IF(J37=0,\"\",IF(results!F31<smoothing!H37,\"out of range\",IF(results!F31>smoothing!I37,\"out of range\",\"\")))","v":""}]
[false,{"$f":"IF(data!D42<5,IF(data!$E$9=1,data!D42*2,data!D42*2.5),1000)","v":0},{"$f":"IF(B38=0,\"\",IF(B38>results!D32,\"\",\"out of range\"))","v":""},{"$f":"IF(data!D42<5,data!E42*0.9,0)","v":0},{"$f":"IF(data!D42<5,data!E42*1.1,0)","v":0},{"$f":"IF(results!E32<smoothing!D38,D38,IF(results!E32>smoothing!E38,smoothing!E38,results!E32))","v":0},{"$f":"IF(F38=0,\"\",IF(results!E32<smoothing!D38,\"out of range\",IF(results!E32>smoothing!E38,\"out of range\",\"\")))","v":""},{"$f":"IF(data!D42<5,data!F42*0.9,0)","v":0},{"$f":"IF(data!D42<5,data!F42*1.1,0)","v":0},{"$f":"IF(results!F32<smoothing!H38,H38,IF(results!F32>smoothing!I38,smoothing!I38,results!F32))","v":0},{"$f":"IF(J38=0,\"\",IF(results!F32<smoothing!H38,\"out of range\",IF(results!F32>smoothing!I38,\"out of range\",\"\")))","v":""}]
[false,{"$f":"IF(data!D43<5,IF(data!$E$9=1,data!D43*2,data!D43*2.5),1000)","v":0},{"$f":"IF(B39=0,\"\",IF(B39>results!D33,\"\",\"out of range\"))","v":""},{"$f":"IF(data!D43<5,data!E43*0.9,0)","v":0},{"$f":"IF(data!D43<5,data!E43*1.1,0)","v":0},{"$f":"IF(results!E33<smoothing!D39,D39,IF(results!E33>smoothing!E39,smoothing!E39,results!E33))","v":0},{"$f":"IF(F39=0,\"\",IF(results!E33<smoothing!D39,\"out of range\",IF(results!E33>smoothing!E39,\"out of range\",\"\")))","v":""},{"$f":"IF(data!D43<5,data!F43*0.9,0)","v":0},{"$f":"IF(data!D43<5,data!F43*1.1,0)","v":0},{"$f":"IF(results!F33<smoothing!H39,H39,IF(results!F33>smoothing!I39,smoothing!I39,results!F33))","v":0},{"$f":"IF(J39=0,\"\",IF(results!F33<smoothing!H39,\"out of range\",IF(results!F33>smoothing!I39,\"out of range\",\"\")))","v":""}]
[false,{"$f":"IF(data!D44<5,IF(data!$E$9=1,data!D44*2,data!D44*2.5),1000)","v":0},{"$f":"IF(B40=0,\"\",IF(B40>results!D34,\"\",\"out of range\"))","v":""},{"$f":"IF(data!D44<5,data!E44*0.9,0)","v":0},{"$f":"IF(data!D44<5,data!E44*1.1,0)","v":0},{"$f":"IF(results!E34<smoothing!D40,D40,IF(results!E34>smoothing!E40,smoothing!E40,results!E34))","v":0},{"$f":"IF(F40=0,\"\",IF(results!E34<smoothing!D40,\"out of range\",IF(results!E34>smoothing!E40,\"out of range\",\"\")))","v":""},{"$f":"IF(data!D44<5,data!F44*0.9,0)","v":0},{"$f":"IF(data!D44<5,data!F44*1.1,0)","v":0},{"$f":"IF(results!F34<smoothing!H40,H40,IF(results!F34>smoothing!I40,smoothing!I40,results!F34))","v":0},{"$f":"IF(J40=0,\"\",IF(results!F34<smoothing!H40,\"out of range\",IF(results!F34>smoothing!I40,\"out of range\",\"\")))","v":""}]
[false,{"$f":"IF(data!D45<5,IF(data!$E$9=1,data!D45*2,data!D45*2.5),1000)","v":0},{"$f":"IF(B41=0,\"\",IF(B41>results!D35,\"\",\"out of range\"))","v":""},{"$f":"IF(data!D45<5,data!E45*0.9,0)","v":0},{"$f":"IF(data!D45<5,data!E45*1.1,0)","v":0},{"$f":"IF(results!E35<smoothing!D41,D41,IF(results!E35>smoothing!E41,smoothing!E41,results!E35))","v":0},{"$f":"IF(F41=0,\"\",IF(results!E35<smoothing!D41,\"out of range\",IF(results!E35>smoothing!E41,\"out of range\",\"\")))","v":""},{"$f":"IF(data!D45<5,data!F45*0.9,0)","v":0},{"$f":"IF(data!D45<5,data!F45*1.1,0)","v":0},{"$f":"IF(results!F35<smoothing!H41,H41,IF(results!F35>smoothing!I41,smoothing!I41,results!F35))","v":0},{"$f":"IF(J41=0,\"\",IF(results!F35<smoothing!H41,\"out of range\",IF(results!F35>smoothing!I41,\"out of range\",\"\")))","v":""}]
[false,{"$f":"IF(data!D46<5,IF(data!$E$9=1,data!D46*2,data!D46*2.5),1000)","v":0},{"$f":"IF(B42=0,\"\",IF(B42>results!D36,\"\",\"out of range\"))","v":""},{"$f":"IF(data!D46<5,data!E46*0.9,0)","v":0},{"$f":"IF(data!D46<5,data!E46*1.1,0)","v":0},{"$f":"IF(results!E36<smoothing!D42,D42,IF(results!E36>smoothing!E42,smoothing!E42,results!E36))","v":0},{"$f":"IF(F42=0,\"\",IF(results!E36<smoothing!D42,\"out of range\",IF(results!E36>smoothing!E42,\"out of range\",\"\")))","v":""},{"$f":"IF(data!D46<5,data!F46*0.9,0)","v":0},{"$f":"IF(data!D46<5,data!F46*1.1,0)","v":0},{"$f":"IF(results!F36<smoothing!H42,H42,IF(results!F36>smoothing!I42,smoothing!I42,results!F36))","v":0},{"$f":"IF(J42=0,\"\",IF(results!F36<smoothing!H42,\"out of range\",IF(results!F36>smoothing!I42,\"out of range\",\"\")))","v":""}]
[false,{"$f":"IF(data!D47<5,IF(data!$E$9=1,data!D47*2,data!D47*2.5),1000)","v":0},{"$f":"IF(B43=0,\"\",IF(B43>results!D37,\"\",\"out of range\"))","v":""},{"$f":"IF(data!D47<5,data!E47*0.9,0)","v":0},{"$f":"IF(data!D47<5,data!E47*1.1,0)","v":0},{"$f":"IF(results!E37<smoothing!D43,D43,IF(results!E37>smoothing!E43,smoothing!E43,results!E37))","v":0},{"$f":"IF(F43=0,\"\",IF(results!E37<smoothing!D43,\"out of range\",IF(results!E37>smoothing!E43,\"out of range\",\"\")))","v":""},{"$f":"IF(data!D47<5,data!F47*0.9,0)","v":0},{"$f":"IF(data!D47<5,data!F47*1.1,0)","v":0},{"$f":"IF(results!F37<smoothing!H43,H43,IF(results!F37>smoothing!I43,smoothing!I43,results!F37))","v":0},{"$f":"IF(J43=0,\"\",IF(results!F37<smoothing!H43,\"out of range\",IF(results!F37>smoothing!I43,\"out of range\",\"\")))","v":""}]
[false,{"$f":"IF(data!D48<5,IF(data!$E$9=1,data!D48*2,data!D48*2.5),1000)","v":0},{"$f":"IF(B44=0,\"\",IF(B44>results!D38,\"\",\"out of range\"))","v":""},{"$f":"IF(data!D48<5,data!E48*0.9,0)","v":0},{"$f":"IF(data!D48<5,data!E48*1.1,0)","v":0},{"$f":"IF(results!E38<smoothing!D44,D44,IF(results!E38>smoothing!E44,smoothing!E44,results!E38))","v":0},{"$f":"IF(F44=0,\"\",IF(results!E38<smoothing!D44,\"out of range\",IF(results!E38>smoothing!E44,\"out of range\",\"\")))","v":""},{"$f":"IF(data!D48<5,data!F48*0.9,0)","v":0},{"$f":"IF(data!D48<5,data!F48*1.1,0)","v":0},{"$f":"IF(results!F38<smoothing!H44,H44,IF(results!F38>smoothing!I44,smoothing!I44,results!F38))","v":0},{"$f":"IF(J44=0,\"\",IF(results!F38<smoothing!H44,\"out of range\",IF(results!F38>smoothing!I44,\"out of range\",\"\")))","v":""}]
[false,{"$f":"IF(data!D49<5,IF(data!$E$9=1,data!D49*2,data!D49*2.5),1000)","v":0},{"$f":"IF(B45=0,\"\",IF(B45>results!D39,\"\",\"out of range\"))","v":""},{"$f":"IF(data!D49<5,data!E49*0.9,0)","v":0},{"$f":"IF(data!D49<5,data!E49*1.1,0)","v":0},{"$f":"IF(results!E39<smoothing!D45,D45,IF(results!E39>smoothing!E45,smoothing!E45,results!E39))","v":0},{"$f":"IF(F45=0,\"\",IF(results!E39<smoothing!D45,\"out of range\",IF(results!E39>smoothing!E45,\"out of range\",\"\")))","v":""},{"$f":"IF(data!D49<5,data!F49*0.9,0)","v":0},{"$f":"IF(data!D49<5,data!F49*1.1,0)","v":0},{"$f":"IF(results!F39<smoothing!H45,H45,IF(results!F39>smoothing!I45,smoothing!I45,results!F39))","v":0},{"$f":"IF(J45=0,\"\",IF(results!F39<smoothing!H45,\"out of range\",IF(results!F39>smoothing!I45,\"out of range\",\"\")))","v":""}]
[false,{"$f":"IF(data!D50<5,IF(data!$E$9=1,data!D50*2,data!D50*2.5),1000)","v":0},{"$f":"IF(B46=0,\"\",IF(B46>results!D40,\"\",\"out of range\"))","v":""},{"$f":"IF(data!D50<5,data!E50*0.9,0)","v":0},{"$f":"IF(data!D50<5,data!E50*1.1,0)","v":0},{"$f":"IF(results!E40<smoothing!D46,D46,IF(results!E40>smoothing!E46,smoothing!E46,results!E40))","v":0},{"$f":"IF(F46=0,\"\",IF(results!E40<smoothing!D46,\"out of range\",IF(results!E40>smoothing!E46,\"out of range\",\"\")))","v":""},{"$f":"IF(data!D50<5,data!F50*0.9,0)","v":0},{"$f":"IF(data!D50<5,data!F50*1.1,0)","v":0},{"$f":"IF(results!F40<smoothing!H46,H46,IF(results!F40>smoothing!I46,smoothing!I46,results!F40))","v":0},{"$f":"IF(J46=0,\"\",IF(results!F40<smoothing!H46,\"out of range\",IF(results!F40>smoothing!I46,\"out of range\",\"\")))","v":""}]
[false,{"$f":"IF(data!D51<5,IF(data!$E$9=1,data!D51*2,data!D51*2.5),1000)","v":0},{"$f":"IF(B47=0,\"\",IF(B47>results!D41,\"\",\"out of range\"))","v":""},{"$f":"IF(data!D51<5,data!E51*0.9,0)","v":0},{"$f":"IF(data!D51<5,data!E51*1.1,0)","v":0},{"$f":"IF(results!E41<smoothing!D47,D47,IF(results!E41>smoothing!E47,smoothing!E47,results!E41))","v":0},{"$f":"IF(F47=0,\"\",IF(results!E41<smoothing!D47,\"out of range\",IF(results!E41>smoothing!E47,\"out of range\",\"\")))","v":""},{"$f":"IF(data!D51<5,data!F51*0.9,0)","v":0},{"$f":"IF(data!D51<5,data!F51*1.1,0)","v":0},{"$f":"IF(results!F41<smoothing!H47,H47,IF(results!F41>smoothing!I47,smoothing!I47,results!F41))","v":0},{"$f":"IF(J47=0,\"\",IF(results!F41<smoothing!H47,\"out of range\",IF(results!F41>smoothing!I47,\"out of range\",\"\")))","v":""}]
[false,{"$f":"IF(data!D52<5,IF(data!$E$9=1,data!D52*2,data!D52*2.5),1000)","v":0},{"$f":"IF(B48=0,\"\",IF(B48>results!D42,\"\",\"out of range\"))","v":""},{"$f":"IF(data!D52<5,data!E52*0.9,0)","v":0},{"$f":"IF(data!D52<5,data!E52*1.1,0)","v":0},{"$f":"IF(results!E42<smoothing!D48,D48,IF(results!E42>smoothing!E48,smoothing!E48,results!E42))","v":0},{"$f":"IF(F48=0,\"\",IF(results!E42<smoothing!D48,\"out of range\",IF(results!E42>smoothing!E48,\"out of range\",\"\")))","v":""},{"$f":"IF(data!D52<5,data!F52*0.9,0)","v":0},{"$f":"IF(data!D52<5,data!F52*1.1,0)","v":0},{"$f":"IF(results!F42<smoothing!H48,H48,IF(results!F42>smoothing!I48,smoothing!I48,results!F42))","v":0},{"$f":"IF(J48=0,\"\",IF(results!F42<smoothing!H48,\"out of range\",IF(results!F42>smoothing!I48,\"out of range\",\"\")))","v":""}]
[false,{"$f":"IF(data!D53<5,IF(data!$E$9=1,data!D53*2,data!D53*2.5),1000)","v":0},{"$f":"IF(B49=0,\"\",IF(B49>results!D43,\"\",\"out of range\"))","v":""},{"$f":"IF(data!D53<5,data!E53*0.9,0)","v":0},{"$f":"IF(data!D53<5,data!E53*1.1,0)","v":0},{"$f":"IF(results!E43<smoothing!D49,D49,IF(results!E43>smoothing!E49,smoothing!E49,results!E43))","v":0},{"$f":"IF(F49=0,\"\",IF(results!E43<smoothing!D49,\"out of range\",IF(results!E43>smoothing!E49,\"out of range\",\"\")))","v":""},{"$f":"IF(data!D53<5,data!F53*0.9,0)","v":0},{"$f":"IF(data!D53<5,data!F53*1.1,0)","v":0},{"$f":"IF(results!F43<smoothing!H49,H49,IF(results!F43>smoothing!I49,smoothing!I49,results!F43))","v":0},{"$f":"IF(J49=0,\"\",IF(results!F43<smoothing!H49,\"out of range\",IF(results!F43>smoothing!I49,\"out of range\",\"\")))","v":""}]
[false,{"$f":"IF(data!D54<5,IF(data!$E$9=1,data!D54*2,data!D54*2.5),1000)","v":0},{"$f":"IF(B50=0,\"\",IF(B50>results!D44,\"\",\"out of range\"))","v":""},{"$f":"IF(data!D54<5,data!E54*0.9,0)","v":0},{"$f":"IF(data!D54<5,data!E54*1.1,0)","v":0},{"$f":"IF(results!E44<smoothing!D50,D50,IF(results!E44>smoothing!E50,smoothing!E50,results!E44))","v":0},{"$f":"IF(F50=0,\"\",IF(results!E44<smoothing!D50,\"out of range\",IF(results!E44>smoothing!E50,\"out of range\",\"\")))","v":""},{"$f":"IF(data!D54<5,data!F54*0.9,0)","v":0},{"$f":"IF(data!D54<5,data!F54*1.1,0)","v":0},{"$f":"IF(results!F44<smoothing!H50,H50,IF(results!F44>smoothing!I50,smoothing!I50,results!F44))","v":0},{"$f":"IF(J50=0,\"\",IF(results!F44<smoothing!H50,\"out of range\",IF(results!F44>smoothing!I50,\"out of range\",\"\")))","v":""}]
[false,{"$f":"IF(data!D55<5,IF(data!$E$9=1,data!D55*2,data!D55*2.5),1000)","v":0},{"$f":"IF(B51=0,\"\",IF(B51>results!D45,\"\",\"out of range\"))","v":""},{"$f":"IF(data!D55<5,data!E55*0.9,0)","v":0},{"$f":"IF(data!D55<5,data!E55*1.1,0)","v":0},{"$f":"IF(results!E45<smoothing!D51,D51,IF(results!E45>smoothing!E51,smoothing!E51,results!E45))","v":0},{"$f":"IF(F51=0,\"\",IF(results!E45<smoothing!D51,\"out of range\",IF(results!E45>smoothing!E51,\"out of range\",\"\")))","v":""},{"$f":"IF(data!D55<5,data!F55*0.9,0)","v":0},{"$f":"IF(data!D55<5,data!F55*1.1,0)","v":0},{"$f":"IF(results!F45<smoothing!H51,H51,IF(results!F45>smoothing!I51,smoothing!I51,results!F45))","v":0},{"$f":"IF(J51=0,\"\",IF(results!F45<smoothing!H51,\"out of range\",IF(results!F45>smoothing!I51,\"out of range\",\"\")))","v":""}]
[false,{"$f":"IF(data!D56<5,IF(data!$E$9=1,data!D56*2,data!D56*2.5),1000)","v":0},{"$f":"IF(B52=0,\"\",IF(B52>results!D46,\"\",\"out of range\"))","v":""},{"$f":"IF(data!D56<5,data!E56*0.9,0)","v":0},{"$f":"IF(data!D56<5,data!E56*1.1,0)","v":0},{"$f":"IF(results!E46<smoothing!D52,D52,IF(results!E46>smoothing!E52,smoothing!E52,results!E46))","v":0},{"$f":"IF(F52=0,\"\",IF(results!E46<smoothing!D52,\"out of range\",IF(results!E46>smoothing!E52,\"out of range\",\"\")))","v":""},{"$f":"IF(data!D56<5,data!F56*0.9,0)","v":0},{"$f":"IF(data!D56<5,data!F56*1.1,0)","v":0},{"$f":"IF(results!F46<smoothing!H52,H52,IF(results!F46>smoothing!I52,smoothing!I52,results!F46))","v":0},{"$f":"IF(J52=0,\"\",IF(results!F46<smoothing!H52,\"out of range\",IF(results!F46>smoothing!I52,\"out of range\",\"\")))","v":""}]
[false,{"$f":"IF(data!D57<5,IF(data!$E$9=1,data!D57*2,data!D57*2.5),1000)","v":0},{"$f":"IF(B53=0,\"\",IF(B53>results!D47,\"\",\"out of range\"))","v":""},{"$f":"IF(data!D57<5,data!E57*0.9,0)","v":0},{"$f":"IF(data!D57<5,data!E57*1.1,0)","v":0},{"$f":"IF(results!E47<smoothing!D53,D53,IF(results!E47>smoothing!E53,smoothing!E53,results!E47))","v":0},{"$f":"IF(F53=0,\"\",IF(results!E47<smoothing!D53,\"out of range\",IF(results!E47>smoothing!E53,\"out of range\",\"\")))","v":""},{"$f":"IF(data!D57<5,data!F57*0.9,0)","v":0},{"$f":"IF(data!D57<5,data!F57*1.1,0)","v":0},{"$f":"IF(results!F47<smoothing!H53,H53,IF(results!F47>smoothing!I53,smoothing!I53,results!F47))","v":0},{"$f":"IF(J53=0,\"\",IF(results!F47<smoothing!H53,\"out of range\",IF(results!F47>smoothing!I53,\"out of range\",\"\")))","v":""}]
[false,{"$f":"IF(data!D58<5,IF(data!$E$9=1,data!D58*2,data!D58*2.5),1000)","v":0},{"$f":"IF(B54=0,\"\",IF(B54>results!D48,\"\",\"out of range\"))","v":""},{"$f":"IF(data!D58<5,data!E58*0.9,0)","v":0},{"$f":"IF(data!D58<5,data!E58*1.1,0)","v":0},{"$f":"IF(results!E48<smoothing!D54,D54,IF(results!E48>smoothing!E54,smoothing!E54,results!E48))","v":0},{"$f":"IF(F54=0,\"\",IF(results!E48<smoothing!D54,\"out of range\",IF(results!E48>smoothing!E54,\"out of range\",\"\")))","v":""},{"$f":"IF(data!D58<5,data!F58*0.9,0)","v":0},{"$f":"IF(data!D58<5,data!F58*1.1,0)","v":0},{"$f":"IF(results!F48<smoothing!H54,H54,IF(results!F48>smoothing!I54,smoothing!I54,results!F48))","v":0},{"$f":"IF(J54=0,\"\",IF(results!F48<smoothing!H54,\"out of range\",IF(results!F48>smoothing!I54,\"out of range\",\"\")))","v":""}]
[false,{"$f":"IF(data!D59<5,IF(data!$E$9=1,data!D59*2,data!D59*2.5),1000)","v":0},{"$f":"IF(B55=0,\"\",IF(B55>results!D49,\"\",\"out of range\"))","v":""},{"$f":"IF(data!D59<5,data!E59*0.9,0)","v":0},{"$f":"IF(data!D59<5,data!E59*1.1,0)","v":0},{"$f":"IF(results!E49<smoothing!D55,D55,IF(results!E49>smoothing!E55,smoothing!E55,results!E49))","v":0},{"$f":"IF(F55=0,\"\",IF(results!E49<smoothing!D55,\"out of range\",IF(results!E49>smoothing!E55,\"out of range\",\"\")))","v":""},{"$f":"IF(data!D59<5,data!F59*0.9,0)","v":0},{"$f":"IF(data!D59<5,data!F59*1.1,0)","v":0},{"$f":"IF(results!F49<smoothing!H55,H55,IF(results!F49>smoothing!I55,smoothing!I55,results!F49))","v":0},{"$f":"IF(J55=0,\"\",IF(results!F49<smoothing!H55,\"out of range\",IF(results!F49>smoothing!I55,\"out of range\",\"\")))","v":""}]
[false,{"$f":"IF(data!D60<5,IF(data!$E$9=1,data!D60*2,data!D60*2.5),1000)","v":0},{"$f":"IF(B56=0,\"\",IF(B56>results!D50,\"\",\"out of range\"))","v":""},{"$f":"IF(data!D60<5,data!E60*0.9,0)","v":0},{"$f":"IF(data!D60<5,data!E60*1.1,0)","v":0},{"$f":"IF(results!E50<smoothing!D56,D56,IF(results!E50>smoothing!E56,smoothing!E56,results!E50))","v":0},{"$f":"IF(F56=0,\"\",IF(results!E50<smoothing!D56,\"out of range\",IF(results!E50>smoothing!E56,\"out of range\",\"\")))","v":""},{"$f":"IF(data!D60<5,data!F60*0.9,0)","v":0},{"$f":"IF(data!D60<5,data!F60*1.1,0)","v":0},{"$f":"IF(results!F50<smoothing!H56,H56,IF(results!F50>smoothing!I56,smoothing!I56,results!F50))","v":0},{"$f":"IF(J56=0,\"\",IF(results!F50<smoothing!H56,\"out of range\",IF(results!F50>smoothing!I56,\"out of range\",\"\")))","v":""}]
[false,{"$f":"IF(data!D61<5,IF(data!$E$9=1,data!D61*2,data!D61*2.5),1000)","v":0},{"$f":"IF(B57=0,\"\",IF(B57>results!D51,\"\",\"out of range\"))","v":""},{"$f":"IF(data!D61<5,data!E61*0.9,0)","v":0},{"$f":"IF(data!D61<5,data!E61*1.1,0)","v":0},{"$f":"IF(results!E51<smoothing!D57,D57,IF(results!E51>smoothing!E57,smoothing!E57,results!E51))","v":0},{"$f":"IF(F57=0,\"\",IF(results!E51<smoothing!D57,\"out of range\",IF(results!E51>smoothing!E57,\"out of range\",\"\")))","v":""},{"$f":"IF(data!D61<5,data!F61*0.9,0)","v":0},{"$f":"IF(data!D61<5,data!F61*1.1,0)","v":0},{"$f":"IF(results!F51<smoothing!H57,H57,IF(results!F51>smoothing!I57,smoothing!I57,results!F51))","v":0},{"$f":"IF(J57=0,\"\",IF(results!F51<smoothing!H57,\"out of range\",IF(results!F51>smoothing!I57,\"out of range\",\"\")))","v":""}]
[false,{"$f":"IF(data!D62<5,IF(data!$E$9=1,data!D62*2,data!D62*2.5),1000)","v":0},{"$f":"IF(B58=0,\"\",IF(B58>results!D52,\"\",\"out of range\"))","v":""},{"$f":"IF(data!D62<5,data!E62*0.9,0)","v":0},{"$f":"IF(data!D62<5,data!E62*1.1,0)","v":0},{"$f":"IF(results!E52<smoothing!D58,D58,IF(results!E52>smoothing!E58,smoothing!E58,results!E52))","v":0},{"$f":"IF(F58=0,\"\",IF(results!E52<smoothing!D58,\"out of range\",IF(results!E52>smoothing!E58,\"out of range\",\"\")))","v":""},{"$f":"IF(data!D62<5,data!F62*0.9,0)","v":0},{"$f":"IF(data!D62<5,data!F62*1.1,0)","v":0},{"$f":"IF(results!F52<smoothing!H58,H58,IF(results!F52>smoothing!I58,smoothing!I58,results!F52))","v":0},{"$f":"IF(J58=0,\"\",IF(results!F52<smoothing!H58,\"out of range\",IF(results!F52>smoothing!I58,\"out of range\",\"\")))","v":""}]
[false,{"$f":"IF(data!D63<5,IF(data!$E$9=1,data!D63*2,data!D63*2.5),1000)","v":0},{"$f":"IF(B59=0,\"\",IF(B59>results!D53,\"\",\"out of range\"))","v":""},{"$f":"IF(data!D63<5,data!E63*0.9,0)","v":0},{"$f":"IF(data!D63<5,data!E63*1.1,0)","v":0},{"$f":"IF(results!E53<smoothing!D59,D59,IF(results!E53>smoothing!E59,smoothing!E59,results!E53))","v":0},{"$f":"IF(F59=0,\"\",IF(results!E53<smoothing!D59,\"out of range\",IF(results!E53>smoothing!E59,\"out of range\",\"\")))","v":""},{"$f":"IF(data!D63<5,data!F63*0.9,0)","v":0},{"$f":"IF(data!D63<5,data!F63*1.1,0)","v":0},{"$f":"IF(results!F53<smoothing!H59,H59,IF(results!F53>smoothing!I59,smoothing!I59,results!F53))","v":0},{"$f":"IF(J59=0,\"\",IF(results!F53<smoothing!H59,\"out of range\",IF(results!F53>smoothing!I59,\"out of range\",\"\")))","v":""}]
[false,{"$f":"IF(data!D64<5,IF(data!$E$9=1,data!D64*2,data!D64*2.5),1000)","v":0},{"$f":"IF(B60=0,\"\",IF(B60>results!D54,\"\",\"out of range\"))","v":""},{"$f":"IF(data!D64<5,data!E64*0.9,0)","v":0},{"$f":"IF(data!D64<5,data!E64*1.1,0)","v":0},{"$f":"IF(results!E54<smoothing!D60,D60,IF(results!E54>smoothing!E60,smoothing!E60,results!E54))","v":0},{"$f":"IF(F60=0,\"\",IF(results!E54<smoothing!D60,\"out of range\",IF(results!E54>smoothing!E60,\"out of range\",\"\")))","v":""},{"$f":"IF(data!D64<5,data!F64*0.9,0)","v":0},{"$f":"IF(data!D64<5,data!F64*1.1,0)","v":0},{"$f":"IF(results!F54<smoothing!H60,H60,IF(results!F54>smoothing!I60,smoothing!I60,results!F54))","v":0},{"$f":"IF(J60=0,\"\",IF(results!F54<smoothing!H60,\"out of range\",IF(results!F54>smoothing!I60,\"out of range\",\"\")))","v":""}]
[false,{"$f":"IF(data!D65<5,IF(data!$E$9=1,data!D65*2,data!D65*2.5),1000)","v":0},{"$f":"IF(B61=0,\"\",IF(B61>results!D55,\"\",\"out of range\"))","v":""},{"$f":"IF(data!D65<5,data!E65*0.9,0)","v":0},{"$f":"IF(data!D65<5,data!E65*1.1,0)","v":0},{"$f":"IF(results!E55<smoothing!D61,D61,IF(results!E55>smoothing!E61,smoothing!E61,results!E55))","v":0},{"$f":"IF(F61=0,\"\",IF(results!E55<smoothing!D61,\"out of range\",IF(results!E55>smoothing!E61,\"out of range\",\"\")))","v":""},{"$f":"IF(data!D65<5,data!F65*0.9,0)","v":0},{"$f":"IF(data!D65<5,data!F65*1.1,0)","v":0},{"$f":"IF(results!F55<smoothing!H61,H61,IF(results!F55>smoothing!I61,smoothing!I61,results!F55))","v":0},{"$f":"IF(J61=0,\"\",IF(results!F55<smoothing!H61,\"out of range\",IF(results!F55>smoothing!I61,\"out of range\",\"\")))","v":""}]
[false,{"$f":"IF(data!D66<5,IF(data!$E$9=1,data!D66*2,data!D66*2.5),1000)","v":0},{"$f":"IF(B62=0,\"\",IF(B62>results!D56,\"\",\"out of range\"))","v":""},{"$f":"IF(data!D66<5,data!E66*0.9,0)","v":0},{"$f":"IF(data!D66<5,data!E66*1.1,0)","v":0},{"$f":"IF(results!E56<smoothing!D62,D62,IF(results!E56>smoothing!E62,smoothing!E62,results!E56))","v":0},{"$f":"IF(F62=0,\"\",IF(results!E56<smoothing!D62,\"out of range\",IF(results!E56>smoothing!E62,\"out of range\",\"\")))","v":""},{"$f":"IF(data!D66<5,data!F66*0.9,0)","v":0},{"$f":"IF(data!D66<5,data!F66*1.1,0)","v":0},{"$f":"IF(results!F56<smoothing!H62,H62,IF(results!F56>smoothing!I62,smoothing!I62,results!F56))","v":0},{"$f":"IF(J62=0,\"\",IF(results!F56<smoothing!H62,\"out of range\",IF(results!F56>smoothing!I62,\"out of range\",\"\")))","v":""}]
[false,{"$f":"IF(data!D67<5,IF(data!$E$9=1,data!D67*2,data!D67*2.5),1000)","v":0},{"$f":"IF(B63=0,\"\",IF(B63>results!D57,\"\",\"out of range\"))","v":""},{"$f":"IF(data!D67<5,data!E67*0.9,0)","v":0},{"$f":"IF(data!D67<5,data!E67*1.1,0)","v":0},{"$f":"IF(results!E57<smoothing!D63,D63,IF(results!E57>smoothing!E63,smoothing!E63,results!E57))","v":0},{"$f":"IF(F63=0,\"\",IF(results!E57<smoothing!D63,\"out of range\",IF(results!E57>smoothing!E63,\"out of range\",\"\")))","v":""},{"$f":"IF(data!D67<5,data!F67*0.9,0)","v":0},{"$f":"IF(data!D67<5,data!F67*1.1,0)","v":0},{"$f":"IF(results!F57<smoothing!H63,H63,IF(results!F57>smoothing!I63,smoothing!I63,results!F57))","v":0},{"$f":"IF(J63=0,\"\",IF(results!F57<smoothing!H63,\"out of range\",IF(results!F57>smoothing!I63,\"out of range\",\"\")))","v":""}]
[false,{"$f":"IF(data!D68<5,IF(data!$E$9=1,data!D68*2,data!D68*2.5),1000)","v":0},{"$f":"IF(B64=0,\"\",IF(B64>results!D58,\"\",\"out of range\"))","v":""},{"$f":"IF(data!D68<5,data!E68*0.9,0)","v":0},{"$f":"IF(data!D68<5,data!E68*1.1,0)","v":0},{"$f":"IF(results!E58<smoothing!D64,D64,IF(results!E58>smoothing!E64,smoothing!E64,results!E58))","v":0},{"$f":"IF(F64=0,\"\",IF(results!E58<smoothing!D64,\"out of range\",IF(results!E58>smoothing!E64,\"out of range\",\"\")))","v":""},{"$f":"IF(data!D68<5,data!F68*0.9,0)","v":0},{"$f":"IF(data!D68<5,data!F68*1.1,0)","v":0},{"$f":"IF(results!F58<smoothing!H64,H64,IF(results!F58>smoothing!I64,smoothing!I64,results!F58))","v":0},{"$f":"IF(J64=0,\"\",IF(results!F58<smoothing!H64,\"out of range\",IF(results!F58>smoothing!I64,\"out of range\",\"\")))","v":""}]
[false,{"$f":"IF(data!D69<5,IF(data!$E$9=1,data!D69*2,data!D69*2.5),1000)","v":0},{"$f":"IF(B65=0,\"\",IF(B65>results!D59,\"\",\"out of range\"))","v":""},{"$f":"IF(data!D69<5,data!E69*0.9,0)","v":0},{"$f":"IF(data!D69<5,data!E69*1.1,0)","v":0},{"$f":"IF(results!E59<smoothing!D65,D65,IF(results!E59>smoothing!E65,smoothing!E65,results!E59))","v":0},{"$f":"IF(F65=0,\"\",IF(results!E59<smoothing!D65,\"out of range\",IF(results!E59>smoothing!E65,\"out of range\",\"\")))","v":""},{"$f":"IF(data!D69<5,data!F69*0.9,0)","v":0},{"$f":"IF(data!D69<5,data!F69*1.1,0)","v":0},{"$f":"IF(results!F59<smoothing!H65,H65,IF(results!F59>smoothing!I65,smoothing!I65,results!F59))","v":0},{"$f":"IF(J65=0,\"\",IF(results!F59<smoothing!H65,\"out of range\",IF(results!F59>smoothing!I65,\"out of range\",\"\")))","v":""}]
[false,{"$f":"IF(data!D70<5,IF(data!$E$9=1,data!D70*2,data!D70*2.5),1000)","v":0},{"$f":"IF(B66=0,\"\",IF(B66>results!D60,\"\",\"out of range\"))","v":""},{"$f":"IF(data!D70<5,data!E70*0.9,0)","v":0},{"$f":"IF(data!D70<5,data!E70*1.1,0)","v":0},{"$f":"IF(results!E60<smoothing!D66,D66,IF(results!E60>smoothing!E66,smoothing!E66,results!E60))","v":0},{"$f":"IF(F66=0,\"\",IF(results!E60<smoothing!D66,\"out of range\",IF(results!E60>smoothing!E66,\"out of range\",\"\")))","v":""},{"$f":"IF(data!D70<5,data!F70*0.9,0)","v":0},{"$f":"IF(data!D70<5,data!F70*1.1,0)","v":0},{"$f":"IF(results!F60<smoothing!H66,H66,IF(results!F60>smoothing!I66,smoothing!I66,results!F60))","v":0},{"$f":"IF(J66=0,\"\",IF(results!F60<smoothing!H66,\"out of range\",IF(results!F60>smoothing!I66,\"out of range\",\"\")))","v":""}]
[false,{"$f":"IF(data!D71<5,IF(data!$E$9=1,data!D71*2,data!D71*2.5),1000)","v":0},{"$f":"IF(B67=0,\"\",IF(B67>results!D61,\"\",\"out of range\"))","v":""},{"$f":"IF(data!D71<5,data!E71*0.9,0)","v":0},{"$f":"IF(data!D71<5,data!E71*1.1,0)","v":0},{"$f":"IF(results!E61<smoothing!D67,D67,IF(results!E61>smoothing!E67,smoothing!E67,results!E61))","v":0},{"$f":"IF(F67=0,\"\",IF(results!E61<smoothing!D67,\"out of range\",IF(results!E61>smoothing!E67,\"out of range\",\"\")))","v":""},{"$f":"IF(data!D71<5,data!F71*0.9,0)","v":0},{"$f":"IF(data!D71<5,data!F71*1.1,0)","v":0},{"$f":"IF(results!F61<smoothing!H67,H67,IF(results!F61>smoothing!I67,smoothing!I67,results!F61))","v":0},{"$f":"IF(J67=0,\"\",IF(results!F61<smoothing!H67,\"out of range\",IF(results!F61>smoothing!I67,\"out of range\",\"\")))","v":""}]
[false,{"$f":"IF(data!D72<5,IF(data!$E$9=1,data!D72*2,data!D72*2.5),1000)","v":0},{"$f":"IF(B68=0,\"\",IF(B68>results!D62,\"\",\"out of range\"))","v":""},{"$f":"IF(data!D72<5,data!E72*0.9,0)","v":0},{"$f":"IF(data!D72<5,data!E72*1.1,0)","v":0},{"$f":"IF(results!E62<smoothing!D68,D68,IF(results!E62>smoothing!E68,smoothing!E68,results!E62))","v":0},{"$f":"IF(F68=0,\"\",IF(results!E62<smoothing!D68,\"out of range\",IF(results!E62>smoothing!E68,\"out of range\",\"\")))","v":""},{"$f":"IF(data!D72<5,data!F72*0.9,0)","v":0},{"$f":"IF(data!D72<5,data!F72*1.1,0)","v":0},{"$f":"IF(results!F62<smoothing!H68,H68,IF(results!F62>smoothing!I68,smoothing!I68,results!F62))","v":0},{"$f":"IF(J68=0,\"\",IF(results!F62<smoothing!H68,\"out of range\",IF(results!F62>smoothing!I68,\"out of range\",\"\")))","v":""}]
[false,{"$f":"IF(data!D73<5,IF(data!$E$9=1,data!D73*2,data!D73*2.5),1000)","v":0},{"$f":"IF(B69=0,\"\",IF(B69>results!D63,\"\",\"out of range\"))","v":""},{"$f":"IF(data!D73<5,data!E73*0.9,0)","v":0},{"$f":"IF(data!D73<5,data!E73*1.1,0)","v":0},{"$f":"IF(results!E63<smoothing!D69,D69,IF(results!E63>smoothing!E69,smoothing!E69,results!E63))","v":0},{"$f":"IF(F69=0,\"\",IF(results!E63<smoothing!D69,\"out of range\",IF(results!E63>smoothing!E69,\"out of range\",\"\")))","v":""},{"$f":"IF(data!D73<5,data!F73*0.9,0)","v":0},{"$f":"IF(data!D73<5,data!F73*1.1,0)","v":0},{"$f":"IF(results!F63<smoothing!H69,H69,IF(results!F63>smoothing!I69,smoothing!I69,results!F63))","v":0},{"$f":"IF(J69=0,\"\",IF(results!F63<smoothing!H69,\"out of range\",IF(results!F63>smoothing!I69,\"out of range\",\"\")))","v":""}]
[false,{"$f":"IF(data!D74<5,IF(data!$E$9=1,data!D74*2,data!D74*2.5),1000)","v":0},{"$f":"IF(B70=0,\"\",IF(B70>results!D64,\"\",\"out of range\"))","v":""},{"$f":"IF(data!D74<5,data!E74*0.9,0)","v":0},{"$f":"IF(data!D74<5,data!E74*1.1,0)","v":0},{"$f":"IF(results!E64<smoothing!D70,D70,IF(results!E64>smoothing!E70,smoothing!E70,results!E64))","v":0},{"$f":"IF(F70=0,\"\",IF(results!E64<smoothing!D70,\"out of range\",IF(results!E64>smoothing!E70,\"out of range\",\"\")))","v":""},{"$f":"IF(data!D74<5,data!F74*0.9,0)","v":0},{"$f":"IF(data!D74<5,data!F74*1.1,0)","v":0},{"$f":"IF(results!F64<smoothing!H70,H70,IF(results!F64>smoothing!I70,smoothing!I70,results!F64))","v":0},{"$f":"IF(J70=0,\"\",IF(results!F64<smoothing!H70,\"out of range\",IF(results!F64>smoothing!I70,\"out of range\",\"\")))","v":""}]
[false,{"$f":"IF(data!D75<5,IF(data!$E$9=1,data!D75*2,data!D75*2.5),1000)","v":0},{"$f":"IF(B71=0,\"\",IF(B71>results!D65,\"\",\"out of range\"))","v":""},{"$f":"IF(data!D75<5,data!E75*0.9,0)","v":0},{"$f":"IF(data!D75<5,data!E75*1.1,0)","v":0},{"$f":"IF(results!E65<smoothing!D71,D71,IF(results!E65>smoothing!E71,smoothing!E71,results!E65))","v":0},{"$f":"IF(F71=0,\"\",IF(results!E65<smoothing!D71,\"out of range\",IF(results!E65>smoothing!E71,\"out of range\",\"\")))","v":""},{"$f":"IF(data!D75<5,data!F75*0.9,0)","v":0},{"$f":"IF(data!D75<5,data!F75*1.1,0)","v":0},{"$f":"IF(results!F65<smoothing!H71,H71,IF(results!F65>smoothing!I71,smoothing!I71,results!F65))","v":0},{"$f":"IF(J71=0,\"\",IF(results!F65<smoothing!H71,\"out of range\",IF(results!F65>smoothing!I71,\"out of range\",\"\")))","v":""}]
[false,{"$f":"IF(data!D76<5,IF(data!$E$9=1,data!D76*2,data!D76*2.5),1000)","v":0},{"$f":"IF(B72=0,\"\",IF(B72>results!D66,\"\",\"out of range\"))","v":""},{"$f":"IF(data!D76<5,data!E76*0.9,0)","v":0},{"$f":"IF(data!D76<5,data!E76*1.1,0)","v":0},{"$f":"IF(results!E66<smoothing!D72,D72,IF(results!E66>smoothing!E72,smoothing!E72,results!E66))","v":0},{"$f":"IF(F72=0,\"\",IF(results!E66<smoothing!D72,\"out of range\",IF(results!E66>smoothing!E72,\"out of range\",\"\")))","v":""},{"$f":"IF(data!D76<5,data!F76*0.9,0)","v":0},{"$f":"IF(data!D76<5,data!F76*1.1,0)","v":0},{"$f":"IF(results!F66<smoothing!H72,H72,IF(results!F66>smoothing!I72,smoothing!I72,results!F66))","v":0},{"$f":"IF(J72=0,\"\",IF(results!F66<smoothing!H72,\"out of range\",IF(results!F66>smoothing!I72,\"out of range\",\"\")))","v":""}]
[false,{"$f":"IF(data!D77<5,IF(data!$E$9=1,data!D77*2,data!D77*2.5),1000)","v":0},{"$f":"IF(B73=0,\"\",IF(B73>results!D67,\"\",\"out of range\"))","v":""},{"$f":"IF(data!D77<5,data!E77*0.9,0)","v":0},{"$f":"IF(data!D77<5,data!E77*1.1,0)","v":0},{"$f":"IF(results!E67<smoothing!D73,D73,IF(results!E67>smoothing!E73,smoothing!E73,results!E67))","v":0},{"$f":"IF(F73=0,\"\",IF(results!E67<smoothing!D73,\"out of range\",IF(results!E67>smoothing!E73,\"out of range\",\"\")))","v":""},{"$f":"IF(data!D77<5,data!F77*0.9,0)","v":0},{"$f":"IF(data!D77<5,data!F77*1.1,0)","v":0},{"$f":"IF(results!F67<smoothing!H73,H73,IF(results!F67>smoothing!I73,smoothing!I73,results!F67))","v":0},{"$f":"IF(J73=0,\"\",IF(results!F67<smoothing!H73,\"out of range\",IF(results!F67>smoothing!I73,\"out of range\",\"\")))","v":""}]
[false,{"$f":"IF(data!D78<5,IF(data!$E$9=1,data!D78*2,data!D78*2.5),1000)","v":0},{"$f":"IF(B74=0,\"\",IF(B74>results!D68,\"\",\"out of range\"))","v":""},{"$f":"IF(data!D78<5,data!E78*0.9,0)","v":0},{"$f":"IF(data!D78<5,data!E78*1.1,0)","v":0},{"$f":"IF(results!E68<smoothing!D74,D74,IF(results!E68>smoothing!E74,smoothing!E74,results!E68))","v":0},{"$f":"IF(F74=0,\"\",IF(results!E68<smoothing!D74,\"out of range\",IF(results!E68>smoothing!E74,\"out of range\",\"\")))","v":""},{"$f":"IF(data!D78<5,data!F78*0.9,0)","v":0},{"$f":"IF(data!D78<5,data!F78*1.1,0)","v":0},{"$f":"IF(results!F68<smoothing!H74,H74,IF(results!F68>smoothing!I74,smoothing!I74,results!F68))","v":0},{"$f":"IF(J74=0,\"\",IF(results!F68<smoothing!H74,\"out of range\",IF(results!F68>smoothing!I74,\"out of range\",\"\")))","v":""}]
[false,{"$f":"IF(data!D79<5,IF(data!$E$9=1,data!D79*2,data!D79*2.5),1000)","v":0},{"$f":"IF(B75=0,\"\",IF(B75>results!D69,\"\",\"out of range\"))","v":""},{"$f":"IF(data!D79<5,data!E79*0.9,0)","v":0},{"$f":"IF(data!D79<5,data!E79*1.1,0)","v":0},{"$f":"IF(results!E69<smoothing!D75,D75,IF(results!E69>smoothing!E75,smoothing!E75,results!E69))","v":0},{"$f":"IF(F75=0,\"\",IF(results!E69<smoothing!D75,\"out of range\",IF(results!E69>smoothing!E75,\"out of range\",\"\")))","v":""},{"$f":"IF(data!D79<5,data!F79*0.9,0)","v":0},{"$f":"IF(data!D79<5,data!F79*1.1,0)","v":0},{"$f":"IF(results!F69<smoothing!H75,H75,IF(results!F69>smoothing!I75,smoothing!I75,results!F69))","v":0},{"$f":"IF(J75=0,\"\",IF(results!F69<smoothing!H75,\"out of range\",IF(results!F69>smoothing!I75,\"out of range\",\"\")))","v":""}]
[false,{"$f":"IF(data!D80<5,IF(data!$E$9=1,data!D80*2,data!D80*2.5),1000)","v":0},{"$f":"IF(B76=0,\"\",IF(B76>results!D70,\"\",\"out of range\"))","v":""},{"$f":"IF(data!D80<5,data!E80*0.9,0)","v":0},{"$f":"IF(data!D80<5,data!E80*1.1,0)","v":0},{"$f":"IF(results!E70<smoothing!D76,D76,IF(results!E70>smoothing!E76,smoothing!E76,results!E70))","v":0},{"$f":"IF(F76=0,\"\",IF(results!E70<smoothing!D76,\"out of range\",IF(results!E70>smoothing!E76,\"out of range\",\"\")))","v":""},{"$f":"IF(data!D80<5,data!F80*0.9,0)","v":0},{"$f":"IF(data!D80<5,data!F80*1.1,0)","v":0},{"$f":"IF(results!F70<smoothing!H76,H76,IF(results!F70>smoothing!I76,smoothing!I76,results!F70))","v":0},{"$f":"IF(J76=0,\"\",IF(results!F70<smoothing!H76,\"out of range\",IF(results!F70>smoothing!I76,\"out of range\",\"\")))","v":""}]
[false,{"$f":"IF(data!D81<5,IF(data!$E$9=1,data!D81*2,data!D81*2.5),1000)","v":0},{"$f":"IF(B77=0,\"\",IF(B77>results!D71,\"\",\"out of range\"))","v":""},{"$f":"IF(data!D81<5,data!E81*0.9,0)","v":0},{"$f":"IF(data!D81<5,data!E81*1.1,0)","v":0},{"$f":"IF(results!E71<smoothing!D77,D77,IF(results!E71>smoothing!E77,smoothing!E77,results!E71))","v":0},{"$f":"IF(F77=0,\"\",IF(results!E71<smoothing!D77,\"out of range\",IF(results!E71>smoothing!E77,\"out of range\",\"\")))","v":""},{"$f":"IF(data!D81<5,data!F81*0.9,0)","v":0},{"$f":"IF(data!D81<5,data!F81*1.1,0)","v":0},{"$f":"IF(results!F71<smoothing!H77,H77,IF(results!F71>smoothing!I77,smoothing!I77,results!F71))","v":0},{"$f":"IF(J77=0,\"\",IF(results!F71<smoothing!H77,\"out of range\",IF(results!F71>smoothing!I77,\"out of range\",\"\")))","v":""}]
[false,{"$f":"IF(data!D82<5,IF(data!$E$9=1,data!D82*2,data!D82*2.5),1000)","v":0},{"$f":"IF(B78=0,\"\",IF(B78>results!D72,\"\",\"out of range\"))","v":""},{"$f":"IF(data!D82<5,data!E82*0.9,0)","v":0},{"$f":"IF(data!D82<5,data!E82*1.1,0)","v":0},{"$f":"IF(results!E72<smoothing!D78,D78,IF(results!E72>smoothing!E78,smoothing!E78,results!E72))","v":0},{"$f":"IF(F78=0,\"\",IF(results!E72<smoothing!D78,\"out of range\",IF(results!E72>smoothing!E78,\"out of range\",\"\")))","v":""},{"$f":"IF(data!D82<5,data!F82*0.9,0)","v":0},{"$f":"IF(data!D82<5,data!F82*1.1,0)","v":0},{"$f":"IF(results!F72<smoothing!H78,H78,IF(results!F72>smoothing!I78,smoothing!I78,results!F72))","v":0},{"$f":"IF(J78=0,\"\",IF(results!F72<smoothing!H78,\"out of range\",IF(results!F72>smoothing!I78,\"out of range\",\"\")))","v":""}]
[false,{"$f":"IF(data!D83<5,IF(data!$E$9=1,data!D83*2,data!D83*2.5),1000)","v":0},{"$f":"IF(B79=0,\"\",IF(B79>results!D73,\"\",\"out of range\"))","v":""},{"$f":"IF(data!D83<5,data!E83*0.9,0)","v":0},{"$f":"IF(data!D83<5,data!E83*1.1,0)","v":0},{"$f":"IF(results!E73<smoothing!D79,D79,IF(results!E73>smoothing!E79,smoothing!E79,results!E73))","v":0},{"$f":"IF(F79=0,\"\",IF(results!E73<smoothing!D79,\"out of range\",IF(results!E73>smoothing!E79,\"out of range\",\"\")))","v":""},{"$f":"IF(data!D83<5,data!F83*0.9,0)","v":0},{"$f":"IF(data!D83<5,data!F83*1.1,0)","v":0},{"$f":"IF(results!F73<smoothing!H79,H79,IF(results!F73>smoothing!I79,smoothing!I79,results!F73))","v":0},{"$f":"IF(J79=0,\"\",IF(results!F73<smoothing!H79,\"out of range\",IF(results!F73>smoothing!I79,\"out of range\",\"\")))","v":""}]
[{"$f":"IF(C80=\"out of range\",\"out of range\",IF(G80=\"out of range\",\"out of range\",IF(K80=\"out of range\",\"out of range\")))","v":false},{"$f":"IF(data!D84<5,IF(data!$E$9=1,data!D84*2,data!D84*2.5),1000)","v":0},{"$f":"IF(B80=0,\"\",IF(B80>results!D74,\"\",\"out of range\"))","v":""},{"$f":"IF(data!D84<5,data!E84*0.9,0)","v":0},{"$f":"IF(data!D84<5,data!E84*1.1,0)","v":0},{"$f":"IF(results!E74<smoothing!D80,D80,IF(results!E74>smoothing!E80,smoothing!E80,results!E74))","v":0},{"$f":"IF(F80=0,\"\",IF(results!E74<smoothing!D80,\"out of range\",IF(results!E74>smoothing!E80,\"out of range\",\"\")))","v":""},{"$f":"IF(data!D84<5,data!F84*0.9,0)","v":0},{"$f":"IF(data!D84<5,data!F84*1.1,0)","v":0},{"$f":"IF(results!F74<smoothing!H80,H80,IF(results!F74>smoothing!I80,smoothing!I80,results!F74))","v":0},{"$f":"IF(J80=0,\"\",IF(results!F74<smoothing!H80,\"out of range\",IF(results!F74>smoothing!I80,\"out of range\",\"\")))","v":""}]
[false,{"$f":"IF(data!D85<5,IF(data!$E$9=1,data!D85*2,data!D85*2.5),1000)","v":0},{"$f":"IF(B81=0,\"\",IF(B81>results!D75,\"\",\"out of range\"))","v":""},{"$f":"IF(data!D85<5,data!E85*0.9,0)","v":0},{"$f":"IF(data!D85<5,data!E85*1.1,0)","v":0},{"$f":"IF(results!E75<smoothing!D81,D81,IF(results!E75>smoothing!E81,smoothing!E81,results!E75))","v":0},{"$f":"IF(F81=0,\"\",IF(results!E75<smoothing!D81,\"out of range\",IF(results!E75>smoothing!E81,\"out of range\",\"\")))","v":""},{"$f":"IF(data!D85<5,data!F85*0.9,0)","v":0},{"$f":"IF(data!D85<5,data!F85*1.1,0)","v":0},{"$f":"IF(results!F75<smoothing!H81,H81,IF(results!F75>smoothing!I81,smoothing!I81,results!F75))","v":0},{"$f":"IF(J81=0,\"\",IF(results!F75<smoothing!H81,\"out of range\",IF(results!F75>smoothing!I81,\"out of range\",\"\")))","v":""}]
[false,{"$f":"IF(data!D86<5,IF(data!$E$9=1,data!D86*2,data!D86*2.5),1000)","v":0},{"$f":"IF(B82=0,\"\",IF(B82>results!D76,\"\",\"out of range\"))","v":""},{"$f":"IF(data!D86<5,data!E86*0.9,0)","v":0},{"$f":"IF(data!D86<5,data!E86*1.1,0)","v":0},{"$f":"IF(results!E76<smoothing!D82,D82,IF(results!E76>smoothing!E82,smoothing!E82,results!E76))","v":0},{"$f":"IF(F82=0,\"\",IF(results!E76<smoothing!D82,\"out of range\",IF(results!E76>smoothing!E82,\"out of range\",\"\")))","v":""},{"$f":"IF(data!D86<5,data!F86*0.9,0)","v":0},{"$f":"IF(data!D86<5,data!F86*1.1,0)","v":0},{"$f":"IF(results!F76<smoothing!H82,H82,IF(results!F76>smoothing!I82,smoothing!I82,results!F76))","v":0},{"$f":"IF(J82=0,\"\",IF(results!F76<smoothing!H82,\"out of range\",IF(results!F76>smoothing!I82,\"out of range\",\"\")))","v":""}]
[false,{"$f":"IF(data!D87<5,IF(data!$E$9=1,data!D87*2,data!D87*2.5),1000)","v":0},{"$f":"IF(B83=0,\"\",IF(B83>results!D77,\"\",\"out of range\"))","v":""},{"$f":"IF(data!D87<5,data!E87*0.9,0)","v":0},{"$f":"IF(data!D87<5,data!E87*1.1,0)","v":0},{"$f":"IF(results!E77<smoothing!D83,D83,IF(results!E77>smoothing!E83,smoothing!E83,results!E77))","v":0},{"$f":"IF(F83=0,\"\",IF(results!E77<smoothing!D83,\"out of range\",IF(results!E77>smoothing!E83,\"out of range\",\"\")))","v":""},{"$f":"IF(data!D87<5,data!F87*0.9,0)","v":0},{"$f":"IF(data!D87<5,data!F87*1.1,0)","v":0},{"$f":"IF(results!F77<smoothing!H83,H83,IF(results!F77>smoothing!I83,smoothing!I83,results!F77))","v":0},{"$f":"IF(J83=0,\"\",IF(results!F77<smoothing!H83,\"out of range\",IF(results!F77>smoothing!I83,\"out of range\",\"\")))","v":""}]
[false,{"$f":"IF(data!D88<5,IF(data!$E$9=1,data!D88*2,data!D88*2.5),1000)","v":0},{"$f":"IF(B84=0,\"\",IF(B84>results!D78,\"\",\"out of range\"))","v":""},{"$f":"IF(data!D88<5,data!E88*0.9,0)","v":0},{"$f":"IF(data!D88<5,data!E88*1.1,0)","v":0},{"$f":"IF(results!E78<smoothing!D84,D84,IF(results!E78>smoothing!E84,smoothing!E84,results!E78))","v":0},{"$f":"IF(F84=0,\"\",IF(results!E78<smoothing!D84,\"out of range\",IF(results!E78>smoothing!E84,\"out of range\",\"\")))","v":""},{"$f":"IF(data!D88<5,data!F88*0.9,0)","v":0},{"$f":"IF(data!D88<5,data!F88*1.1,0)","v":0},{"$f":"IF(results!F78<smoothing!H84,H84,IF(results!F78>smoothing!I84,smoothing!I84,results!F78))","v":0},{"$f":"IF(J84=0,\"\",IF(results!F78<smoothing!H84,\"out of range\",IF(results!F78>smoothing!I84,\"out of range\",\"\")))","v":""}]
[false,{"$f":"IF(data!D89<5,IF(data!$E$9=1,data!D89*2,data!D89*2.5),1000)","v":0},{"$f":"IF(B85=0,\"\",IF(B85>results!D79,\"\",\"out of range\"))","v":""},{"$f":"IF(data!D89<5,data!E89*0.9,0)","v":0},{"$f":"IF(data!D89<5,data!E89*1.1,0)","v":0},{"$f":"IF(results!E79<smoothing!D85,D85,IF(results!E79>smoothing!E85,smoothing!E85,results!E79))","v":0},{"$f":"IF(F85=0,\"\",IF(results!E79<smoothing!D85,\"out of range\",IF(results!E79>smoothing!E85,\"out of range\",\"\")))","v":""},{"$f":"IF(data!D89<5,data!F89*0.9,0)","v":0},{"$f":"IF(data!D89<5,data!F89*1.1,0)","v":0},{"$f":"IF(results!F79<smoothing!H85,H85,IF(results!F79>smoothing!I85,smoothing!I85,results!F79))","v":0},{"$f":"IF(J85=0,\"\",IF(results!F79<smoothing!H85,\"out of range\",IF(results!F79>smoothing!I85,\"out of range\",\"\")))","v":""}]
[false,{"$f":"IF(data!D90<5,IF(data!$E$9=1,data!D90*2,data!D90*2.5),1000)","v":0},{"$f":"IF(B86=0,\"\",IF(B86>results!D80,\"\",\"out of range\"))","v":""},{"$f":"IF(data!D90<5,data!E90*0.9,0)","v":0},{"$f":"IF(data!D90<5,data!E90*1.1,0)","v":0},{"$f":"IF(results!E80<smoothing!D86,D86,IF(results!E80>smoothing!E86,smoothing!E86,results!E80))","v":0},{"$f":"IF(F86=0,\"\",IF(results!E80<smoothing!D86,\"out of range\",IF(results!E80>smoothing!E86,\"out of range\",\"\")))","v":""},{"$f":"IF(data!D90<5,data!F90*0.9,0)","v":0},{"$f":"IF(data!D90<5,data!F90*1.1,0)","v":0},{"$f":"IF(results!F80<smoothing!H86,H86,IF(results!F80>smoothing!I86,smoothing!I86,results!F80))","v":0},{"$f":"IF(J86=0,\"\",IF(results!F80<smoothing!H86,\"out of range\",IF(results!F80>smoothing!I86,\"out of range\",\"\")))","v":""}]
[false,{"$f":"IF(data!D91<5,IF(data!$E$9=1,data!D91*2,data!D91*2.5),1000)","v":0},{"$f":"IF(B87=0,\"\",IF(B87>results!D81,\"\",\"out of range\"))","v":""},{"$f":"IF(data!D91<5,data!E91*0.9,0)","v":0},{"$f":"IF(data!D91<5,data!E91*1.1,0)","v":0},{"$f":"IF(results!E81<smoothing!D87,D87,IF(results!E81>smoothing!E87,smoothing!E87,results!E81))","v":0},{"$f":"IF(F87=0,\"\",IF(results!E81<smoothing!D87,\"out of range\",IF(results!E81>smoothing!E87,\"out of range\",\"\")))","v":""},{"$f":"IF(data!D91<5,data!F91*0.9,0)","v":0},{"$f":"IF(data!D91<5,data!F91*1.1,0)","v":0},{"$f":"IF(results!F81<smoothing!H87,H87,IF(results!F81>smoothing!I87,smoothing!I87,results!F81))","v":0},{"$f":"IF(J87=0,\"\",IF(results!F81<smoothing!H87,\"out of range\",IF(results!F81>smoothing!I87,\"out of range\",\"\")))","v":""}]
[false,{"$f":"IF(data!D92<5,IF(data!$E$9=1,data!D92*2,data!D92*2.5),1000)","v":0},{"$f":"IF(B88=0,\"\",IF(B88>results!D82,\"\",\"out of range\"))","v":""},{"$f":"IF(data!D92<5,data!E92*0.9,0)","v":0},{"$f":"IF(data!D92<5,data!E92*1.1,0)","v":0},{"$f":"IF(results!E82<smoothing!D88,D88,IF(results!E82>smoothing!E88,smoothing!E88,results!E82))","v":0},{"$f":"IF(F88=0,\"\",IF(results!E82<smoothing!D88,\"out of range\",IF(results!E82>smoothing!E88,\"out of range\",\"\")))","v":""},{"$f":"IF(data!D92<5,data!F92*0.9,0)","v":0},{"$f":"IF(data!D92<5,data!F92*1.1,0)","v":0},{"$f":"IF(results!F82<smoothing!H88,H88,IF(results!F82>smoothing!I88,smoothing!I88,results!F82))","v":0},{"$f":"IF(J88=0,\"\",IF(results!F82<smoothing!H88,\"out of range\",IF(results!F82>smoothing!I88,\"out of range\",\"\")))","v":""}]
[false,{"$f":"IF(data!D93<5,IF(data!$E$9=1,data!D93*2,data!D93*2.5),1000)","v":0},{"$f":"IF(B89=0,\"\",IF(B89>results!D83,\"\",\"out of range\"))","v":""},{"$f":"IF(data!D93<5,data!E93*0.9,0)","v":0},{"$f":"IF(data!D93<5,data!E93*1.1,0)","v":0},{"$f":"IF(results!E83<smoothing!D89,D89,IF(results!E83>smoothing!E89,smoothing!E89,results!E83))","v":0},{"$f":"IF(F89=0,\"\",IF(results!E83<smoothing!D89,\"out of range\",IF(results!E83>smoothing!E89,\"out of range\",\"\")))","v":""},{"$f":"IF(data!D93<5,data!F93*0.9,0)","v":0},{"$f":"IF(data!D93<5,data!F93*1.1,0)","v":0},{"$f":"IF(results!F83<smoothing!H89,H89,IF(results!F83>smoothing!I89,smoothing!I89,results!F83))","v":0},{"$f":"IF(J89=0,\"\",IF(results!F83<smoothing!H89,\"out of range\",IF(results!F83>smoothing!I89,\"out of range\",\"\")))","v":""}]
[false,{"$f":"IF(data!D94<5,IF(data!$E$9=1,data!D94*2,data!D94*2.5),1000)","v":0},{"$f":"IF(B90=0,\"\",IF(B90>results!D84,\"\",\"out of range\"))","v":""},{"$f":"IF(data!D94<5,data!E94*0.9,0)","v":0},{"$f":"IF(data!D94<5,data!E94*1.1,0)","v":0},{"$f":"IF(results!E84<smoothing!D90,D90,IF(results!E84>smoothing!E90,smoothing!E90,results!E84))","v":0},{"$f":"IF(F90=0,\"\",IF(results!E84<smoothing!D90,\"out of range\",IF(results!E84>smoothing!E90,\"out of range\",\"\")))","v":""},{"$f":"IF(data!D94<5,data!F94*0.9,0)","v":0},{"$f":"IF(data!D94<5,data!F94*1.1,0)","v":0},{"$f":"IF(results!F84<smoothing!H90,H90,IF(results!F84>smoothing!I90,smoothing!I90,results!F84))","v":0},{"$f":"IF(J90=0,\"\",IF(results!F84<smoothing!H90,\"out of range\",IF(results!F84>smoothing!I90,\"out of range\",\"\")))","v":""}]
[false,{"$f":"IF(data!D95<5,IF(data!$E$9=1,data!D95*2,data!D95*2.5),1000)","v":0},{"$f":"IF(B91=0,\"\",IF(B91>results!D85,\"\",\"out of range\"))","v":""},{"$f":"IF(data!D95<5,data!E95*0.9,0)","v":0},{"$f":"IF(data!D95<5,data!E95*1.1,0)","v":0},{"$f":"IF(results!E85<smoothing!D91,D91,IF(results!E85>smoothing!E91,smoothing!E91,results!E85))","v":0},{"$f":"IF(F91=0,\"\",IF(results!E85<smoothing!D91,\"out of range\",IF(results!E85>smoothing!E91,\"out of range\",\"\")))","v":""},{"$f":"IF(data!D95<5,data!F95*0.9,0)","v":0},{"$f":"IF(data!D95<5,data!F95*1.1,0)","v":0},{"$f":"IF(results!F85<smoothing!H91,H91,IF(results!F85>smoothing!I91,smoothing!I91,results!F85))","v":0},{"$f":"IF(J91=0,\"\",IF(results!F85<smoothing!H91,\"out of range\",IF(results!F85>smoothing!I91,\"out of range\",\"\")))","v":""}]
[false,{"$f":"IF(data!D96<5,IF(data!$E$9=1,data!D96*2,data!D96*2.5),1000)","v":0},{"$f":"IF(B92=0,\"\",IF(B92>results!D86,\"\",\"out of range\"))","v":""},{"$f":"IF(data!D96<5,data!E96*0.9,0)","v":0},{"$f":"IF(data!D96<5,data!E96*1.1,0)","v":0},{"$f":"IF(results!E86<smoothing!D92,D92,IF(results!E86>smoothing!E92,smoothing!E92,results!E86))","v":0},{"$f":"IF(F92=0,\"\",IF(results!E86<smoothing!D92,\"out of range\",IF(results!E86>smoothing!E92,\"out of range\",\"\")))","v":""},{"$f":"IF(data!D96<5,data!F96*0.9,0)","v":0},{"$f":"IF(data!D96<5,data!F96*1.1,0)","v":0},{"$f":"IF(results!F86<smoothing!H92,H92,IF(results!F86>smoothing!I92,smoothing!I92,results!F86))","v":0},{"$f":"IF(J92=0,\"\",IF(results!F86<smoothing!H92,\"out of range\",IF(results!F86>smoothing!I92,\"out of range\",\"\")))","v":""}]
[false,{"$f":"IF(data!D97<5,IF(data!$E$9=1,data!D97*2,data!D97*2.5),1000)","v":0},{"$f":"IF(B93=0,\"\",IF(B93>results!D87,\"\",\"out of range\"))","v":""},{"$f":"IF(data!D97<5,data!E97*0.9,0)","v":0},{"$f":"IF(data!D97<5,data!E97*1.1,0)","v":0},{"$f":"IF(results!E87<smoothing!D93,D93,IF(results!E87>smoothing!E93,smoothing!E93,results!E87))","v":0},{"$f":"IF(F93=0,\"\",IF(results!E87<smoothing!D93,\"out of range\",IF(results!E87>smoothing!E93,\"out of range\",\"\")))","v":""},{"$f":"IF(data!D97<5,data!F97*0.9,0)","v":0},{"$f":"IF(data!D97<5,data!F97*1.1,0)","v":0},{"$f":"IF(results!F87<smoothing!H93,H93,IF(results!F87>smoothing!I93,smoothing!I93,results!F87))","v":0},{"$f":"IF(J93=0,\"\",IF(results!F87<smoothing!H93,\"out of range\",IF(results!F87>smoothing!I93,\"out of range\",\"\")))","v":""}]
[false,{"$f":"IF(data!D98<5,IF(data!$E$9=1,data!D98*2,data!D98*2.5),1000)","v":0},{"$f":"IF(B94=0,\"\",IF(B94>results!D88,\"\",\"out of range\"))","v":""},{"$f":"IF(data!D98<5,data!E98*0.9,0)","v":0},{"$f":"IF(data!D98<5,data!E98*1.1,0)","v":0},{"$f":"IF(results!E88<smoothing!D94,D94,IF(results!E88>smoothing!E94,smoothing!E94,results!E88))","v":0},{"$f":"IF(F94=0,\"\",IF(results!E88<smoothing!D94,\"out of range\",IF(results!E88>smoothing!E94,\"out of range\",\"\")))","v":""},{"$f":"IF(data!D98<5,data!F98*0.9,0)","v":0},{"$f":"IF(data!D98<5,data!F98*1.1,0)","v":0},{"$f":"IF(results!F88<smoothing!H94,H94,IF(results!F88>smoothing!I94,smoothing!I94,results!F88))","v":0},{"$f":"IF(J94=0,\"\",IF(results!F88<smoothing!H94,\"out of range\",IF(results!F88>smoothing!I94,\"out of range\",\"\")))","v":""}]
[false,{"$f":"IF(data!D99<5,IF(data!$E$9=1,data!D99*2,data!D99*2.5),1000)","v":0},{"$f":"IF(B95=0,\"\",IF(B95>results!D89,\"\",\"out of range\"))","v":""},{"$f":"IF(data!D99<5,data!E99*0.9,0)","v":0},{"$f":"IF(data!D99<5,data!E99*1.1,0)","v":0},{"$f":"IF(results!E89<smoothing!D95,D95,IF(results!E89>smoothing!E95,smoothing!E95,results!E89))","v":0},{"$f":"IF(F95=0,\"\",IF(results!E89<smoothing!D95,\"out of range\",IF(results!E89>smoothing!E95,\"out of range\",\"\")))","v":""},{"$f":"IF(data!D99<5,data!F99*0.9,0)","v":0},{"$f":"IF(data!D99<5,data!F99*1.1,0)","v":0},{"$f":"IF(results!F89<smoothing!H95,H95,IF(results!F89>smoothing!I95,smoothing!I95,results!F89))","v":0},{"$f":"IF(J95=0,\"\",IF(results!F89<smoothing!H95,\"out of range\",IF(results!F89>smoothing!I95,\"out of range\",\"\")))","v":""}]
[false,{"$f":"IF(data!D100<5,IF(data!$E$9=1,data!D100*2,data!D100*2.5),1000)","v":0},{"$f":"IF(B96=0,\"\",IF(B96>results!D90,\"\",\"out of range\"))","v":""},{"$f":"IF(data!D100<5,data!E100*0.9,0)","v":0},{"$f":"IF(data!D100<5,data!E100*1.1,0)","v":0},{"$f":"IF(results!E90<smoothing!D96,D96,IF(results!E90>smoothing!E96,smoothing!E96,results!E90))","v":0},{"$f":"IF(F96=0,\"\",IF(results!E90<smoothing!D96,\"out of range\",IF(results!E90>smoothing!E96,\"out of range\",\"\")))","v":""},{"$f":"IF(data!D100<5,data!F100*0.9,0)","v":0},{"$f":"IF(data!D100<5,data!F100*1.1,0)","v":0},{"$f":"IF(results!F90<smoothing!H96,H96,IF(results!F90>smoothing!I96,smoothing!I96,results!F90))","v":0},{"$f":"IF(J96=0,\"\",IF(results!F90<smoothing!H96,\"out of range\",IF(results!F90>smoothing!I96,\"out of range\",\"\")))","v":""}]
[false,{"$f":"IF(data!D101<5,IF(data!$E$9=1,data!D101*2,data!D101*2.5),1000)","v":0},{"$f":"IF(B97=0,\"\",IF(B97>results!D91,\"\",\"out of range\"))","v":""},{"$f":"IF(data!D101<5,data!E101*0.9,0)","v":0},{"$f":"IF(data!D101<5,data!E101*1.1,0)","v":0},{"$f":"IF(results!E91<smoothing!D97,D97,IF(results!E91>smoothing!E97,smoothing!E97,results!E91))","v":0},{"$f":"IF(F97=0,\"\",IF(results!E91<smoothing!D97,\"out of range\",IF(results!E91>smoothing!E97,\"out of range\",\"\")))","v":""},{"$f":"IF(data!D101<5,data!F101*0.9,0)","v":0},{"$f":"IF(data!D101<5,data!F101*1.1,0)","v":0},{"$f":"IF(results!F91<smoothing!H97,H97,IF(results!F91>smoothing!I97,smoothing!I97,results!F91))","v":0},{"$f":"IF(J97=0,\"\",IF(results!F91<smoothing!H97,\"out of range\",IF(results!F91>smoothing!I97,\"out of range\",\"\")))","v":""}]
[false,{"$f":"IF(data!D102<5,IF(data!$E$9=1,data!D102*2,data!D102*2.5),1000)","v":0},{"$f":"IF(B98=0,\"\",IF(B98>results!D92,\"\",\"out of range\"))","v":""},{"$f":"IF(data!D102<5,data!E102*0.9,0)","v":0},{"$f":"IF(data!D102<5,data!E102*1.1,0)","v":0},{"$f":"IF(results!E92<smoothing!D98,D98,IF(results!E92>smoothing!E98,smoothing!E98,results!E92))","v":0},{"$f":"IF(F98=0,\"\",IF(results!E92<smoothing!D98,\"out of range\",IF(results!E92>smoothing!E98,\"out of range\",\"\")))","v":""},{"$f":"IF(data!D102<5,data!F102*0.9,0)","v":0},{"$f":"IF(data!D102<5,data!F102*1.1,0)","v":0},{"$f":"IF(results!F92<smoothing!H98,H98,IF(results!F92>smoothing!I98,smoothing!I98,results!F92))","v":0},{"$f":"IF(J98=0,\"\",IF(results!F92<smoothing!H98,\"out of range\",IF(results!F92>smoothing!I98,\"out of range\",\"\")))","v":""}]
[false,{"$f":"IF(data!D103<5,IF(data!$E$9=1,data!D103*2,data!D103*2.5),1000)","v":0},{"$f":"IF(B99=0,\"\",IF(B99>results!D93,\"\",\"out of range\"))","v":""},{"$f":"IF(data!D103<5,data!E103*0.9,0)","v":0},{"$f":"IF(data!D103<5,data!E103*1.1,0)","v":0},{"$f":"IF(results!E93<smoothing!D99,D99,IF(results!E93>smoothing!E99,smoothing!E99,results!E93))","v":0},{"$f":"IF(F99=0,\"\",IF(results!E93<smoothing!D99,\"out of range\",IF(results!E93>smoothing!E99,\"out of range\",\"\")))","v":""},{"$f":"IF(data!D103<5,data!F103*0.9,0)","v":0},{"$f":"IF(data!D103<5,data!F103*1.1,0)","v":0},{"$f":"IF(results!F93<smoothing!H99,H99,IF(results!F93>smoothing!I99,smoothing!I99,results!F93))","v":0},{"$f":"IF(J99=0,\"\",IF(results!F93<smoothing!H99,\"out of range\",IF(results!F93>smoothing!I99,\"out of range\",\"\")))","v":""}]
[false,{"$f":"IF(data!D104<5,IF(data!$E$9=1,data!D104*2,data!D104*2.5),1000)","v":0},{"$f":"IF(B100=0,\"\",IF(B100>results!D94,\"\",\"out of range\"))","v":""},{"$f":"IF(data!D104<5,data!E104*0.9,0)","v":0},{"$f":"IF(data!D104<5,data!E104*1.1,0)","v":0},{"$f":"IF(results!E94<smoothing!D100,D100,IF(results!E94>smoothing!E100,smoothing!E100,results!E94))","v":0},{"$f":"IF(F100=0,\"\",IF(results!E94<smoothing!D100,\"out of range\",IF(results!E94>smoothing!E100,\"out of range\",\"\")))","v":""},{"$f":"IF(data!D104<5,data!F104*0.9,0)","v":0},{"$f":"IF(data!D104<5,data!F104*1.1,0)","v":0},{"$f":"IF(results!F94<smoothing!H100,H100,IF(results!F94>smoothing!I100,smoothing!I100,results!F94))","v":0},{"$f":"IF(J100=0,\"\",IF(results!F94<smoothing!H100,\"out of range\",IF(results!F94>smoothing!I100,\"out of range\",\"\")))","v":""}]
[false,{"$f":"IF(data!D105<5,IF(data!$E$9=1,data!D105*2,data!D105*2.5),1000)","v":0},{"$f":"IF(B101=0,\"\",IF(B101>results!D95,\"\",\"out of range\"))","v":""},{"$f":"IF(data!D105<5,data!E105*0.9,0)","v":0},{"$f":"IF(data!D105<5,data!E105*1.1,0)","v":0},{"$f":"IF(results!E95<smoothing!D101,D101,IF(results!E95>smoothing!E101,smoothing!E101,results!E95))","v":0},{"$f":"IF(F101=0,\"\",IF(results!E95<smoothing!D101,\"out of range\",IF(results!E95>smoothing!E101,\"out of range\",\"\")))","v":""},{"$f":"IF(data!D105<5,data!F105*0.9,0)","v":0},{"$f":"IF(data!D105<5,data!F105*1.1,0)","v":0},{"$f":"IF(results!F95<smoothing!H101,H101,IF(results!F95>smoothing!I101,smoothing!I101,results!F95))","v":0},{"$f":"IF(J101=0,\"\",IF(results!F95<smoothing!H101,\"out of range\",IF(results!F95>smoothing!I101,\"out of range\",\"\")))","v":""}]
[false,{"$f":"IF(data!D106<5,IF(data!$E$9=1,data!D106*2,data!D106*2.5),1000)","v":0},{"$f":"IF(B102=0,\"\",IF(B102>results!D96,\"\",\"out of range\"))","v":""},{"$f":"IF(data!D106<5,data!E106*0.9,0)","v":0},{"$f":"IF(data!D106<5,data!E106*1.1,0)","v":0},{"$f":"IF(results!E96<smoothing!D102,D102,IF(results!E96>smoothing!E102,smoothing!E102,results!E96))","v":0},{"$f":"IF(F102=0,\"\",IF(results!E96<smoothing!D102,\"out of range\",IF(results!E96>smoothing!E102,\"out of range\",\"\")))","v":""},{"$f":"IF(data!D106<5,data!F106*0.9,0)","v":0},{"$f":"IF(data!D106<5,data!F106*1.1,0)","v":0},{"$f":"IF(results!F96<smoothing!H102,H102,IF(results!F96>smoothing!I102,smoothing!I102,results!F96))","v":0},{"$f":"IF(J102=0,\"\",IF(results!F96<smoothing!H102,\"out of range\",IF(results!F96>smoothing!I102,\"out of range\",\"\")))","v":""}]
[false,{"$f":"IF(data!D107<5,IF(data!$E$9=1,data!D107*2,data!D107*2.5),1000)","v":0},{"$f":"IF(B103=0,\"\",IF(B103>results!D97,\"\",\"out of range\"))","v":""},{"$f":"IF(data!D107<5,data!E107*0.9,0)","v":0},{"$f":"IF(data!D107<5,data!E107*1.1,0)","v":0},{"$f":"IF(results!E97<smoothing!D103,D103,IF(results!E97>smoothing!E103,smoothing!E103,results!E97))","v":0},{"$f":"IF(F103=0,\"\",IF(results!E97<smoothing!D103,\"out of range\",IF(results!E97>smoothing!E103,\"out of range\",\"\")))","v":""},{"$f":"IF(data!D107<5,data!F107*0.9,0)","v":0},{"$f":"IF(data!D107<5,data!F107*1.1,0)","v":0},{"$f":"IF(results!F97<smoothing!H103,H103,IF(results!F97>smoothing!I103,smoothing!I103,results!F97))","v":0},{"$f":"IF(J103=0,\"\",IF(results!F97<smoothing!H103,\"out of range\",IF(results!F97>smoothing!I103,\"out of range\",\"\")))","v":""}]
[false,{"$f":"IF(data!D108<5,IF(data!$E$9=1,data!D108*2,data!D108*2.5),1000)","v":0},{"$f":"IF(B104=0,\"\",IF(B104>results!D98,\"\",\"out of range\"))","v":""},{"$f":"IF(data!D108<5,data!E108*0.9,0)","v":0},{"$f":"IF(data!D108<5,data!E108*1.1,0)","v":0},{"$f":"IF(results!E98<smoothing!D104,D104,IF(results!E98>smoothing!E104,smoothing!E104,results!E98))","v":0},{"$f":"IF(F104=0,\"\",IF(results!E98<smoothing!D104,\"out of range\",IF(results!E98>smoothing!E104,\"out of range\",\"\")))","v":""},{"$f":"IF(data!D108<5,data!F108*0.9,0)","v":0},{"$f":"IF(data!D108<5,data!F108*1.1,0)","v":0},{"$f":"IF(results!F98<smoothing!H104,H104,IF(results!F98>smoothing!I104,smoothing!I104,results!F98))","v":0},{"$f":"IF(J104=0,\"\",IF(results!F98<smoothing!H104,\"out of range\",IF(results!F98>smoothing!I104,\"out of range\",\"\")))","v":""}]
[false,{"$f":"IF(data!D109<5,IF(data!$E$9=1,data!D109*2,data!D109*2.5),1000)","v":0},{"$f":"IF(B105=0,\"\",IF(B105>results!D99,\"\",\"out of range\"))","v":""},{"$f":"IF(data!D109<5,data!E109*0.9,0)","v":0},{"$f":"IF(data!D109<5,data!E109*1.1,0)","v":0},{"$f":"IF(results!E99<smoothing!D105,D105,IF(results!E99>smoothing!E105,smoothing!E105,results!E99))","v":0},{"$f":"IF(F105=0,\"\",IF(results!E99<smoothing!D105,\"out of range\",IF(results!E99>smoothing!E105,\"out of range\",\"\")))","v":""},{"$f":"IF(data!D109<5,data!F109*0.9,0)","v":0},{"$f":"IF(data!D109<5,data!F109*1.1,0)","v":0},{"$f":"IF(results!F99<smoothing!H105,H105,IF(results!F99>smoothing!I105,smoothing!I105,results!F99))","v":0},{"$f":"IF(J105=0,\"\",IF(results!F99<smoothing!H105,\"out of range\",IF(results!F99>smoothing!I105,\"out of range\",\"\")))","v":""}]
[false,{"$f":"IF(data!D110<5,IF(data!$E$9=1,data!D110*2,data!D110*2.5),1000)","v":0},{"$f":"IF(B106=0,\"\",IF(B106>results!D100,\"\",\"out of range\"))","v":""},{"$f":"IF(data!D110<5,data!E110*0.9,0)","v":0},{"$f":"IF(data!D110<5,data!E110*1.1,0)","v":0},{"$f":"IF(results!E100<smoothing!D106,D106,IF(results!E100>smoothing!E106,smoothing!E106,results!E100))","v":0},{"$f":"IF(F106=0,\"\",IF(results!E100<smoothing!D106,\"out of range\",IF(results!E100>smoothing!E106,\"out of range\",\"\")))","v":""},{"$f":"IF(data!D110<5,data!F110*0.9,0)","v":0},{"$f":"IF(data!D110<5,data!F110*1.1,0)","v":0},{"$f":"IF(results!F100<smoothing!H106,H106,IF(results!F100>smoothing!I106,smoothing!I106,results!F100))","v":0},{"$f":"IF(J106=0,\"\",IF(results!F100<smoothing!H106,\"out of range\",IF(results!F100>smoothing!I106,\"out of range\",\"\")))","v":""}]
[false,{"$f":"IF(data!D111<5,IF(data!$E$9=1,data!D111*2,data!D111*2.5),1000)","v":0},{"$f":"IF(B107=0,\"\",IF(B107>results!D101,\"\",\"out of range\"))","v":""},{"$f":"IF(data!D111<5,data!E111*0.9,0)","v":0},{"$f":"IF(data!D111<5,data!E111*1.1,0)","v":0},{"$f":"IF(results!E101<smoothing!D107,D107,IF(results!E101>smoothing!E107,smoothing!E107,results!E101))","v":0},{"$f":"IF(F107=0,\"\",IF(results!E101<smoothing!D107,\"out of range\",IF(results!E101>smoothing!E107,\"out of range\",\"\")))","v":""},{"$f":"IF(data!D111<5,data!F111*0.9,0)","v":0},{"$f":"IF(data!D111<5,data!F111*1.1,0)","v":0},{"$f":"IF(results!F101<smoothing!H107,H107,IF(results!F101>smoothing!I107,smoothing!I107,results!F101))","v":0},{"$f":"IF(J107=0,\"\",IF(results!F101<smoothing!H107,\"out of range\",IF(results!F101>smoothing!I107,\"out of range\",\"\")))","v":""}]
[false,{"$f":"IF(data!D112<5,IF(data!$E$9=1,data!D112*2,data!D112*2.5),1000)","v":0},{"$f":"IF(B108=0,\"\",IF(B108>results!D102,\"\",\"out of range\"))","v":""},{"$f":"IF(data!D112<5,data!E112*0.9,0)","v":0},{"$f":"IF(data!D112<5,data!E112*1.1,0)","v":0},{"$f":"IF(results!E102<smoothing!D108,D108,IF(results!E102>smoothing!E108,smoothing!E108,results!E102))","v":0},{"$f":"IF(F108=0,\"\",IF(results!E102<smoothing!D108,\"out of range\",IF(results!E102>smoothing!E108,\"out of range\",\"\")))","v":""},{"$f":"IF(data!D112<5,data!F112*0.9,0)","v":0},{"$f":"IF(data!D112<5,data!F112*1.1,0)","v":0},{"$f":"IF(results!F102<smoothing!H108,H108,IF(results!F102>smoothing!I108,smoothing!I108,results!F102))","v":0},{"$f":"IF(J108=0,\"\",IF(results!F102<smoothing!H108,\"out of range\",IF(results!F102>smoothing!I108,\"out of range\",\"\")))","v":""}]
[false,{"$f":"IF(data!D113<5,IF(data!$E$9=1,data!D113*2,data!D113*2.5),1000)","v":0},{"$f":"IF(B109=0,\"\",IF(B109>results!D103,\"\",\"out of range\"))","v":""},{"$f":"IF(data!D113<5,data!E113*0.9,0)","v":0},{"$f":"IF(data!D113<5,data!E113*1.1,0)","v":0},{"$f":"IF(results!E103<smoothing!D109,D109,IF(results!E103>smoothing!E109,smoothing!E109,results!E103))","v":0},{"$f":"IF(F109=0,\"\",IF(results!E103<smoothing!D109,\"out of range\",IF(results!E103>smoothing!E109,\"out of range\",\"\")))","v":""},{"$f":"IF(data!D113<5,data!F113*0.9,0)","v":0},{"$f":"IF(data!D113<5,data!F113*1.1,0)","v":0},{"$f":"IF(results!F103<smoothing!H109,H109,IF(results!F103>smoothing!I109,smoothing!I109,results!F103))","v":0},{"$f":"IF(J109=0,\"\",IF(results!F103<smoothing!H109,\"out of range\",IF(results!F103>smoothing!I109,\"out of range\",\"\")))","v":""}]
[false,{"$f":"IF(data!D114<5,IF(data!$E$9=1,data!D114*2,data!D114*2.5),1000)","v":0},{"$f":"IF(B110=0,\"\",IF(B110>results!D104,\"\",\"out of range\"))","v":""},{"$f":"IF(data!D114<5,data!E114*0.9,0)","v":0},{"$f":"IF(data!D114<5,data!E114*1.1,0)","v":0},{"$f":"IF(results!E104<smoothing!D110,D110,IF(results!E104>smoothing!E110,smoothing!E110,results!E104))","v":0},{"$f":"IF(F110=0,\"\",IF(results!E104<smoothing!D110,\"out of range\",IF(results!E104>smoothing!E110,\"out of range\",\"\")))","v":""},{"$f":"IF(data!D114<5,data!F114*0.9,0)","v":0},{"$f":"IF(data!D114<5,data!F114*1.1,0)","v":0},{"$f":"IF(results!F104<smoothing!H110,H110,IF(results!F104>smoothing!I110,smoothing!I110,results!F104))","v":0},{"$f":"IF(J110=0,\"\",IF(results!F104<smoothing!H110,\"out of range\",IF(results!F104>smoothing!I110,\"out of range\",\"\")))","v":""}]
[false,{"$f":"IF(data!D115<5,IF(data!$E$9=1,data!D115*2,data!D115*2.5),1000)","v":0},{"$f":"IF(B111=0,\"\",IF(B111>results!D105,\"\",\"out of range\"))","v":""},{"$f":"IF(data!D115<5,data!E115*0.9,0)","v":0},{"$f":"IF(data!D115<5,data!E115*1.1,0)","v":0},{"$f":"IF(results!E105<smoothing!D111,D111,IF(results!E105>smoothing!E111,smoothing!E111,results!E105))","v":0},{"$f":"IF(F111=0,\"\",IF(results!E105<smoothing!D111,\"out of range\",IF(results!E105>smoothing!E111,\"out of range\",\"\")))","v":""},{"$f":"IF(data!D115<5,data!F115*0.9,0)","v":0},{"$f":"IF(data!D115<5,data!F115*1.1,0)","v":0},{"$f":"IF(results!F105<smoothing!H111,H111,IF(results!F105>smoothing!I111,smoothing!I111,results!F105))","v":0},{"$f":"IF(J111=0,\"\",IF(results!F105<smoothing!H111,\"out of range\",IF(results!F105>smoothing!I111,\"out of range\",\"\")))","v":""}]
[false,{"$f":"IF(data!D116<5,IF(data!$E$9=1,data!D116*2,data!D116*2.5),1000)","v":0},{"$f":"IF(B112=0,\"\",IF(B112>results!D106,\"\",\"out of range\"))","v":""},{"$f":"IF(data!D116<5,data!E116*0.9,0)","v":0},{"$f":"IF(data!D116<5,data!E116*1.1,0)","v":0},{"$f":"IF(results!E106<smoothing!D112,D112,IF(results!E106>smoothing!E112,smoothing!E112,results!E106))","v":0},{"$f":"IF(F112=0,\"\",IF(results!E106<smoothing!D112,\"out of range\",IF(results!E106>smoothing!E112,\"out of range\",\"\")))","v":""},{"$f":"IF(data!D116<5,data!F116*0.9,0)","v":0},{"$f":"IF(data!D116<5,data!F116*1.1,0)","v":0},{"$f":"IF(results!F106<smoothing!H112,H112,IF(results!F106>smoothing!I112,smoothing!I112,results!F106))","v":0},{"$f":"IF(J112=0,\"\",IF(results!F106<smoothing!H112,\"out of range\",IF(results!F106>smoothing!I112,\"out of range\",\"\")))","v":""}]
[false,{"$f":"IF(data!D117<5,IF(data!$E$9=1,data!D117*2,data!D117*2.5),1000)","v":0},{"$f":"IF(B113=0,\"\",IF(B113>results!D107,\"\",\"out of range\"))","v":""},{"$f":"IF(data!D117<5,data!E117*0.9,0)","v":0},{"$f":"IF(data!D117<5,data!E117*1.1,0)","v":0},{"$f":"IF(results!E107<smoothing!D113,D113,IF(results!E107>smoothing!E113,smoothing!E113,results!E107))","v":0},{"$f":"IF(F113=0,\"\",IF(results!E107<smoothing!D113,\"out of range\",IF(results!E107>smoothing!E113,\"out of range\",\"\")))","v":""},{"$f":"IF(data!D117<5,data!F117*0.9,0)","v":0},{"$f":"IF(data!D117<5,data!F117*1.1,0)","v":0},{"$f":"IF(results!F107<smoothing!H113,H113,IF(results!F107>smoothing!I113,smoothing!I113,results!F107))","v":0},{"$f":"IF(J113=0,\"\",IF(results!F107<smoothing!H113,\"out of range\",IF(results!F107>smoothing!I113,\"out of range\",\"\")))","v":""}]
[false,{"$f":"IF(data!D118<5,IF(data!$E$9=1,data!D118*2,data!D118*2.5),1000)","v":0},{"$f":"IF(B114=0,\"\",IF(B114>results!D108,\"\",\"out of range\"))","v":""},{"$f":"IF(data!D118<5,data!E118*0.9,0)","v":0},{"$f":"IF(data!D118<5,data!E118*1.1,0)","v":0},{"$f":"IF(results!E108<smoothing!D114,D114,IF(results!E108>smoothing!E114,smoothing!E114,results!E108))","v":0},{"$f":"IF(F114=0,\"\",IF(results!E108<smoothing!D114,\"out of range\",IF(results!E108>smoothing!E114,\"out of range\",\"\")))","v":""},{"$f":"IF(data!D118<5,data!F118*0.9,0)","v":0},{"$f":"IF(data!D118<5,data!F118*1.1,0)","v":0},{"$f":"IF(results!F108<smoothing!H114,H114,IF(results!F108>smoothing!I114,smoothing!I114,results!F108))","v":0},{"$f":"IF(J114=0,\"\",IF(results!F108<smoothing!H114,\"out of range\",IF(results!F108>smoothing!I114,\"out of range\",\"\")))","v":""}]
[false,{"$f":"IF(data!D119<5,IF(data!$E$9=1,data!D119*2,data!D119*2.5),1000)","v":0},{"$f":"IF(B115=0,\"\",IF(B115>results!D109,\"\",\"out of range\"))","v":""},{"$f":"IF(data!D119<5,data!E119*0.9,0)","v":0},{"$f":"IF(data!D119<5,data!E119*1.1,0)","v":0},{"$f":"IF(results!E109<smoothing!D115,D115,IF(results!E109>smoothing!E115,smoothing!E115,results!E109))","v":0},{"$f":"IF(F115=0,\"\",IF(results!E109<smoothing!D115,\"out of range\",IF(results!E109>smoothing!E115,\"out of range\",\"\")))","v":""},{"$f":"IF(data!D119<5,data!F119*0.9,0)","v":0},{"$f":"IF(data!D119<5,data!F119*1.1,0)","v":0},{"$f":"IF(results!F109<smoothing!H115,H115,IF(results!F109>smoothing!I115,smoothing!I115,results!F109))","v":0},{"$f":"IF(J115=0,\"\",IF(results!F109<smoothing!H115,\"out of range\",IF(results!F109>smoothing!I115,\"out of range\",\"\")))","v":""}]
[false,{"$f":"IF(data!D120<5,IF(data!$E$9=1,data!D120*2,data!D120*2.5),1000)","v":0},{"$f":"IF(B116=0,\"\",IF(B116>results!D110,\"\",\"out of range\"))","v":""},{"$f":"IF(data!D120<5,data!E120*0.9,0)","v":0},{"$f":"IF(data!D120<5,data!E120*1.1,0)","v":0},{"$f":"IF(results!E110<smoothing!D116,D116,IF(results!E110>smoothing!E116,smoothing!E116,results!E110))","v":0},{"$f":"IF(F116=0,\"\",IF(results!E110<smoothing!D116,\"out of range\",IF(results!E110>smoothing!E116,\"out of range\",\"\")))","v":""},{"$f":"IF(data!D120<5,data!F120*0.9,0)","v":0},{"$f":"IF(data!D120<5,data!F120*1.1,0)","v":0},{"$f":"IF(results!F110<smoothing!H116,H116,IF(results!F110>smoothing!I116,smoothing!I116,results!F110))","v":0},{"$f":"IF(J116=0,\"\",IF(results!F110<smoothing!H116,\"out of range\",IF(results!F110>smoothing!I116,\"out of range\",\"\")))","v":""}]
[false,{"$f":"IF(data!D121<5,IF(data!$E$9=1,data!D121*2,data!D121*2.5),1000)","v":0},{"$f":"IF(B117=0,\"\",IF(B117>results!D111,\"\",\"out of range\"))","v":""},{"$f":"IF(data!D121<5,data!E121*0.9,0)","v":0},{"$f":"IF(data!D121<5,data!E121*1.1,0)","v":0},{"$f":"IF(results!E111<smoothing!D117,D117,IF(results!E111>smoothing!E117,smoothing!E117,results!E111))","v":0},{"$f":"IF(F117=0,\"\",IF(results!E111<smoothing!D117,\"out of range\",IF(results!E111>smoothing!E117,\"out of range\",\"\")))","v":""},{"$f":"IF(data!D121<5,data!F121*0.9,0)","v":0},{"$f":"IF(data!D121<5,data!F121*1.1,0)","v":0},{"$f":"IF(results!F111<smoothing!H117,H117,IF(results!F111>smoothing!I117,smoothing!I117,results!F111))","v":0},{"$f":"IF(J117=0,\"\",IF(results!F111<smoothing!H117,\"out of range\",IF(results!F111>smoothing!I117,\"out of range\",\"\")))","v":""}]
[false,{"$f":"IF(data!D122<5,IF(data!$E$9=1,data!D122*2,data!D122*2.5),1000)","v":0},{"$f":"IF(B118=0,\"\",IF(B118>results!D112,\"\",\"out of range\"))","v":""},{"$f":"IF(data!D122<5,data!E122*0.9,0)","v":0},{"$f":"IF(data!D122<5,data!E122*1.1,0)","v":0},{"$f":"IF(results!E112<smoothing!D118,D118,IF(results!E112>smoothing!E118,smoothing!E118,results!E112))","v":0},{"$f":"IF(F118=0,\"\",IF(results!E112<smoothing!D118,\"out of range\",IF(results!E112>smoothing!E118,\"out of range\",\"\")))","v":""},{"$f":"IF(data!D122<5,data!F122*0.9,0)","v":0},{"$f":"IF(data!D122<5,data!F122*1.1,0)","v":0},{"$f":"IF(results!F112<smoothing!H118,H118,IF(results!F112>smoothing!I118,smoothing!I118,results!F112))","v":0},{"$f":"IF(J118=0,\"\",IF(results!F112<smoothing!H118,\"out of range\",IF(results!F112>smoothing!I118,\"out of range\",\"\")))","v":""}]
[false,{"$f":"IF(data!D123<5,IF(data!$E$9=1,data!D123*2,data!D123*2.5),1000)","v":0},{"$f":"IF(B119=0,\"\",IF(B119>results!D113,\"\",\"out of range\"))","v":""},{"$f":"IF(data!D123<5,data!E123*0.9,0)","v":0},{"$f":"IF(data!D123<5,data!E123*1.1,0)","v":0},{"$f":"IF(results!E113<smoothing!D119,D119,IF(results!E113>smoothing!E119,smoothing!E119,results!E113))","v":0},{"$f":"IF(F119=0,\"\",IF(results!E113<smoothing!D119,\"out of range\",IF(results!E113>smoothing!E119,\"out of range\",\"\")))","v":""},{"$f":"IF(data!D123<5,data!F123*0.9,0)","v":0},{"$f":"IF(data!D123<5,data!F123*1.1,0)","v":0},{"$f":"IF(results!F113<smoothing!H119,H119,IF(results!F113>smoothing!I119,smoothing!I119,results!F113))","v":0},{"$f":"IF(J119=0,\"\",IF(results!F113<smoothing!H119,\"out of range\",IF(results!F113>smoothing!I119,\"out of range\",\"\")))","v":""}]
[false,{"$f":"IF(data!D124<5,IF(data!$E$9=1,data!D124*2,data!D124*2.5),1000)","v":0},{"$f":"IF(B120=0,\"\",IF(B120>results!D114,\"\",\"out of range\"))","v":""},{"$f":"IF(data!D124<5,data!E124*0.9,0)","v":0},{"$f":"IF(data!D124<5,data!E124*1.1,0)","v":0},{"$f":"IF(results!E114<smoothing!D120,D120,IF(results!E114>smoothing!E120,smoothing!E120,results!E114))","v":0},{"$f":"IF(F120=0,\"\",IF(results!E114<smoothing!D120,\"out of range\",IF(results!E114>smoothing!E120,\"out of range\",\"\")))","v":""},{"$f":"IF(data!D124<5,data!F124*0.9,0)","v":0},{"$f":"IF(data!D124<5,data!F124*1.1,0)","v":0},{"$f":"IF(results!F114<smoothing!H120,H120,IF(results!F114>smoothing!I120,smoothing!I120,results!F114))","v":0},{"$f":"IF(J120=0,\"\",IF(results!F114<smoothing!H120,\"out of range\",IF(results!F114>smoothing!I120,\"out of range\",\"\")))","v":""}]
[false,{"$f":"IF(data!D125<5,IF(data!$E$9=1,data!D125*2,data!D125*2.5),1000)","v":0},{"$f":"IF(B121=0,\"\",IF(B121>results!D115,\"\",\"out of range\"))","v":""},{"$f":"IF(data!D125<5,data!E125*0.9,0)","v":0},{"$f":"IF(data!D125<5,data!E125*1.1,0)","v":0},{"$f":"IF(results!E115<smoothing!D121,D121,IF(results!E115>smoothing!E121,smoothing!E121,results!E115))","v":0},{"$f":"IF(F121=0,\"\",IF(results!E115<smoothing!D121,\"out of range\",IF(results!E115>smoothing!E121,\"out of range\",\"\")))","v":""},{"$f":"IF(data!D125<5,data!F125*0.9,0)","v":0},{"$f":"IF(data!D125<5,data!F125*1.1,0)","v":0},{"$f":"IF(results!F115<smoothing!H121,H121,IF(results!F115>smoothing!I121,smoothing!I121,results!F115))","v":0},{"$f":"IF(J121=0,\"\",IF(results!F115<smoothing!H121,\"out of range\",IF(results!F115>smoothing!I121,\"out of range\",\"\")))","v":""}]
[false,{"$f":"IF(data!D126<5,IF(data!$E$9=1,data!D126*2,data!D126*2.5),1000)","v":0},{"$f":"IF(B122=0,\"\",IF(B122>results!D116,\"\",\"out of range\"))","v":""},{"$f":"IF(data!D126<5,data!E126*0.9,0)","v":0},{"$f":"IF(data!D126<5,data!E126*1.1,0)","v":0},{"$f":"IF(results!E116<smoothing!D122,D122,IF(results!E116>smoothing!E122,smoothing!E122,results!E116))","v":0},{"$f":"IF(F122=0,\"\",IF(results!E116<smoothing!D122,\"out of range\",IF(results!E116>smoothing!E122,\"out of range\",\"\")))","v":""},{"$f":"IF(data!D126<5,data!F126*0.9,0)","v":0},{"$f":"IF(data!D126<5,data!F126*1.1,0)","v":0},{"$f":"IF(results!F116<smoothing!H122,H122,IF(results!F116>smoothing!I122,smoothing!I122,results!F116))","v":0},{"$f":"IF(J122=0,\"\",IF(results!F116<smoothing!H122,\"out of range\",IF(results!F116>smoothing!I122,\"out of range\",\"\")))","v":""}]
[false,{"$f":"IF(data!D127<5,IF(data!$E$9=1,data!D127*2,data!D127*2.5),1000)","v":0},{"$f":"IF(B123=0,\"\",IF(B123>results!D117,\"\",\"out of range\"))","v":""},{"$f":"IF(data!D127<5,data!E127*0.9,0)","v":0},{"$f":"IF(data!D127<5,data!E127*1.1,0)","v":0},{"$f":"IF(results!E117<smoothing!D123,D123,IF(results!E117>smoothing!E123,smoothing!E123,results!E117))","v":0},{"$f":"IF(F123=0,\"\",IF(results!E117<smoothing!D123,\"out of range\",IF(results!E117>smoothing!E123,\"out of range\",\"\")))","v":""},{"$f":"IF(data!D127<5,data!F127*0.9,0)","v":0},{"$f":"IF(data!D127<5,data!F127*1.1,0)","v":0},{"$f":"IF(results!F117<smoothing!H123,H123,IF(results!F117>smoothing!I123,smoothing!I123,results!F117))","v":0},{"$f":"IF(J123=0,\"\",IF(results!F117<smoothing!H123,\"out of range\",IF(results!F117>smoothing!I123,\"out of range\",\"\")))","v":""}]
[false,{"$f":"IF(data!D128<5,IF(data!$E$9=1,data!D128*2,data!D128*2.5),1000)","v":0},{"$f":"IF(B124=0,\"\",IF(B124>results!D118,\"\",\"out of range\"))","v":""},{"$f":"IF(data!D128<5,data!E128*0.9,0)","v":0},{"$f":"IF(data!D128<5,data!E128*1.1,0)","v":0},{"$f":"IF(results!E118<smoothing!D124,D124,IF(results!E118>smoothing!E124,smoothing!E124,results!E118))","v":0},{"$f":"IF(F124=0,\"\",IF(results!E118<smoothing!D124,\"out of range\",IF(results!E118>smoothing!E124,\"out of range\",\"\")))","v":""},{"$f":"IF(data!D128<5,data!F128*0.9,0)","v":0},{"$f":"IF(data!D128<5,data!F128*1.1,0)","v":0},{"$f":"IF(results!F118<smoothing!H124,H124,IF(results!F118>smoothing!I124,smoothing!I124,results!F118))","v":0},{"$f":"IF(J124=0,\"\",IF(results!F118<smoothing!H124,\"out of range\",IF(results!F118>smoothing!I124,\"out of range\",\"\")))","v":""}]
[false,{"$f":"IF(data!D129<5,IF(data!$E$9=1,data!D129*2,data!D129*2.5),1000)","v":0},{"$f":"IF(B125=0,\"\",IF(B125>results!D119,\"\",\"out of range\"))","v":""},{"$f":"IF(data!D129<5,data!E129*0.9,0)","v":0},{"$f":"IF(data!D129<5,data!E129*1.1,0)","v":0},{"$f":"IF(results!E119<smoothing!D125,D125,IF(results!E119>smoothing!E125,smoothing!E125,results!E119))","v":0},{"$f":"IF(F125=0,\"\",IF(results!E119<smoothing!D125,\"out of range\",IF(results!E119>smoothing!E125,\"out of range\",\"\")))","v":""},{"$f":"IF(data!D129<5,data!F129*0.9,0)","v":0},{"$f":"IF(data!D129<5,data!F129*1.1,0)","v":0},{"$f":"IF(results!F119<smoothing!H125,H125,IF(results!F119>smoothing!I125,smoothing!I125,results!F119))","v":0},{"$f":"IF(J125=0,\"\",IF(results!F119<smoothing!H125,\"out of range\",IF(results!F119>smoothing!I125,\"out of range\",\"\")))","v":""}]
[false,{"$f":"IF(data!D130<5,IF(data!$E$9=1,data!D130*2,data!D130*2.5),1000)","v":0},{"$f":"IF(B126=0,\"\",IF(B126>results!D120,\"\",\"out of range\"))","v":""},{"$f":"IF(data!D130<5,data!E130*0.9,0)","v":0},{"$f":"IF(data!D130<5,data!E130*1.1,0)","v":0},{"$f":"IF(results!E120<smoothing!D126,D126,IF(results!E120>smoothing!E126,smoothing!E126,results!E120))","v":0},{"$f":"IF(F126=0,\"\",IF(results!E120<smoothing!D126,\"out of range\",IF(results!E120>smoothing!E126,\"out of range\",\"\")))","v":""},{"$f":"IF(data!D130<5,data!F130*0.9,0)","v":0},{"$f":"IF(data!D130<5,data!F130*1.1,0)","v":0},{"$f":"IF(results!F120<smoothing!H126,H126,IF(results!F120>smoothing!I126,smoothing!I126,results!F120))","v":0},{"$f":"IF(J126=0,\"\",IF(results!F120<smoothing!H126,\"out of range\",IF(results!F120>smoothing!I126,\"out of range\",\"\")))","v":""}]
[false,{"$f":"IF(data!D131<5,IF(data!$E$9=1,data!D131*2,data!D131*2.5),1000)","v":0},{"$f":"IF(B127=0,\"\",IF(B127>results!D121,\"\",\"out of range\"))","v":""},{"$f":"IF(data!D131<5,data!E131*0.9,0)","v":0},{"$f":"IF(data!D131<5,data!E131*1.1,0)","v":0},{"$f":"IF(results!E121<smoothing!D127,D127,IF(results!E121>smoothing!E127,smoothing!E127,results!E121))","v":0},{"$f":"IF(F127=0,\"\",IF(results!E121<smoothing!D127,\"out of range\",IF(results!E121>smoothing!E127,\"out of range\",\"\")))","v":""},{"$f":"IF(data!D131<5,data!F131*0.9,0)","v":0},{"$f":"IF(data!D131<5,data!F131*1.1,0)","v":0},{"$f":"IF(results!F121<smoothing!H127,H127,IF(results!F121>smoothing!I127,smoothing!I127,results!F121))","v":0},{"$f":"IF(J127=0,\"\",IF(results!F121<smoothing!H127,\"out of range\",IF(results!F121>smoothing!I127,\"out of range\",\"\")))","v":""}]
[false,{"$f":"IF(data!D132<5,IF(data!$E$9=1,data!D132*2,data!D132*2.5),1000)","v":0},{"$f":"IF(B128=0,\"\",IF(B128>results!D122,\"\",\"out of range\"))","v":""},{"$f":"IF(data!D132<5,data!E132*0.9,0)","v":0},{"$f":"IF(data!D132<5,data!E132*1.1,0)","v":0},{"$f":"IF(results!E122<smoothing!D128,D128,IF(results!E122>smoothing!E128,smoothing!E128,results!E122))","v":0},{"$f":"IF(F128=0,\"\",IF(results!E122<smoothing!D128,\"out of range\",IF(results!E122>smoothing!E128,\"out of range\",\"\")))","v":""},{"$f":"IF(data!D132<5,data!F132*0.9,0)","v":0},{"$f":"IF(data!D132<5,data!F132*1.1,0)","v":0},{"$f":"IF(results!F122<smoothing!H128,H128,IF(results!F122>smoothing!I128,smoothing!I128,results!F122))","v":0},{"$f":"IF(J128=0,\"\",IF(results!F122<smoothing!H128,\"out of range\",IF(results!F122>smoothing!I128,\"out of range\",\"\")))","v":""}]
[false,{"$f":"IF(data!D133<5,IF(data!$E$9=1,data!D133*2,data!D133*2.5),1000)","v":0},{"$f":"IF(B129=0,\"\",IF(B129>results!D123,\"\",\"out of range\"))","v":""},{"$f":"IF(data!D133<5,data!E133*0.9,0)","v":0},{"$f":"IF(data!D133<5,data!E133*1.1,0)","v":0},{"$f":"IF(results!E123<smoothing!D129,D129,IF(results!E123>smoothing!E129,smoothing!E129,results!E123))","v":0},{"$f":"IF(F129=0,\"\",IF(results!E123<smoothing!D129,\"out of range\",IF(results!E123>smoothing!E129,\"out of range\",\"\")))","v":""},{"$f":"IF(data!D133<5,data!F133*0.9,0)","v":0},{"$f":"IF(data!D133<5,data!F133*1.1,0)","v":0},{"$f":"IF(results!F123<smoothing!H129,H129,IF(results!F123>smoothing!I129,smoothing!I129,results!F123))","v":0},{"$f":"IF(J129=0,\"\",IF(results!F123<smoothing!H129,\"out of range\",IF(results!F123>smoothing!I129,\"out of range\",\"\")))","v":""}]
[false,{"$f":"IF(data!D134<5,IF(data!$E$9=1,data!D134*2,data!D134*2.5),1000)","v":0},{"$f":"IF(B130=0,\"\",IF(B130>results!D124,\"\",\"out of range\"))","v":""},{"$f":"IF(data!D134<5,data!E134*0.9,0)","v":0},{"$f":"IF(data!D134<5,data!E134*1.1,0)","v":0},{"$f":"IF(results!E124<smoothing!D130,D130,IF(results!E124>smoothing!E130,smoothing!E130,results!E124))","v":0},{"$f":"IF(F130=0,\"\",IF(results!E124<smoothing!D130,\"out of range\",IF(results!E124>smoothing!E130,\"out of range\",\"\")))","v":""},{"$f":"IF(data!D134<5,data!F134*0.9,0)","v":0},{"$f":"IF(data!D134<5,data!F134*1.1,0)","v":0},{"$f":"IF(results!F124<smoothing!H130,H130,IF(results!F124>smoothing!I130,smoothing!I130,results!F124))","v":0},{"$f":"IF(J130=0,\"\",IF(results!F124<smoothing!H130,\"out of range\",IF(results!F124>smoothing!I130,\"out of range\",\"\")))","v":""}]
[false,{"$f":"IF(data!D135<5,IF(data!$E$9=1,data!D135*2,data!D135*2.5),1000)","v":0},{"$f":"IF(B131=0,\"\",IF(B131>results!D125,\"\",\"out of range\"))","v":""},{"$f":"IF(data!D135<5,data!E135*0.9,0)","v":0},{"$f":"IF(data!D135<5,data!E135*1.1,0)","v":0},{"$f":"IF(results!E125<smoothing!D131,D131,IF(results!E125>smoothing!E131,smoothing!E131,results!E125))","v":0},{"$f":"IF(F131=0,\"\",IF(results!E125<smoothing!D131,\"out of range\",IF(results!E125>smoothing!E131,\"out of range\",\"\")))","v":""},{"$f":"IF(data!D135<5,data!F135*0.9,0)","v":0},{"$f":"IF(data!D135<5,data!F135*1.1,0)","v":0},{"$f":"IF(results!F125<smoothing!H131,H131,IF(results!F125>smoothing!I131,smoothing!I131,results!F125))","v":0},{"$f":"IF(J131=0,\"\",IF(results!F125<smoothing!H131,\"out of range\",IF(results!F125>smoothing!I131,\"out of range\",\"\")))","v":""}]
[false,{"$f":"IF(data!D136<5,IF(data!$E$9=1,data!D136*2,data!D136*2.5),1000)","v":0},{"$f":"IF(B132=0,\"\",IF(B132>results!D126,\"\",\"out of range\"))","v":""},{"$f":"IF(data!D136<5,data!E136*0.9,0)","v":0},{"$f":"IF(data!D136<5,data!E136*1.1,0)","v":0},{"$f":"IF(results!E126<smoothing!D132,D132,IF(results!E126>smoothing!E132,smoothing!E132,results!E126))","v":0},{"$f":"IF(F132=0,\"\",IF(results!E126<smoothing!D132,\"out of range\",IF(results!E126>smoothing!E132,\"out of range\",\"\")))","v":""},{"$f":"IF(data!D136<5,data!F136*0.9,0)","v":0},{"$f":"IF(data!D136<5,data!F136*1.1,0)","v":0},{"$f":"IF(results!F126<smoothing!H132,H132,IF(results!F126>smoothing!I132,smoothing!I132,results!F126))","v":0},{"$f":"IF(J132=0,\"\",IF(results!F126<smoothing!H132,\"out of range\",IF(results!F126>smoothing!I132,\"out of range\",\"\")))","v":""}]
[false,{"$f":"IF(data!D137<5,IF(data!$E$9=1,data!D137*2,data!D137*2.5),1000)","v":0},{"$f":"IF(B133=0,\"\",IF(B133>results!D127,\"\",\"out of range\"))","v":""},{"$f":"IF(data!D137<5,data!E137*0.9,0)","v":0},{"$f":"IF(data!D137<5,data!E137*1.1,0)","v":0},{"$f":"IF(results!E127<smoothing!D133,D133,IF(results!E127>smoothing!E133,smoothing!E133,results!E127))","v":0},{"$f":"IF(F133=0,\"\",IF(results!E127<smoothing!D133,\"out of range\",IF(results!E127>smoothing!E133,\"out of range\",\"\")))","v":""},{"$f":"IF(data!D137<5,data!F137*0.9,0)","v":0},{"$f":"IF(data!D137<5,data!F137*1.1,0)","v":0},{"$f":"IF(results!F127<smoothing!H133,H133,IF(results!F127>smoothing!I133,smoothing!I133,results!F127))","v":0},{"$f":"IF(J133=0,\"\",IF(results!F127<smoothing!H133,\"out of range\",IF(results!F127>smoothing!I133,\"out of range\",\"\")))","v":""}]
[false,{"$f":"IF(data!D138<5,IF(data!$E$9=1,data!D138*2,data!D138*2.5),1000)","v":0},{"$f":"IF(B134=0,\"\",IF(B134>results!D128,\"\",\"out of range\"))","v":""},{"$f":"IF(data!D138<5,data!E138*0.9,0)","v":0},{"$f":"IF(data!D138<5,data!E138*1.1,0)","v":0},{"$f":"IF(results!E128<smoothing!D134,D134,IF(results!E128>smoothing!E134,smoothing!E134,results!E128))","v":0},{"$f":"IF(F134=0,\"\",IF(results!E128<smoothing!D134,\"out of range\",IF(results!E128>smoothing!E134,\"out of range\",\"\")))","v":""},{"$f":"IF(data!D138<5,data!F138*0.9,0)","v":0},{"$f":"IF(data!D138<5,data!F138*1.1,0)","v":0},{"$f":"IF(results!F128<smoothing!H134,H134,IF(results!F128>smoothing!I134,smoothing!I134,results!F128))","v":0},{"$f":"IF(J134=0,\"\",IF(results!F128<smoothing!H134,\"out of range\",IF(results!F128>smoothing!I134,\"out of range\",\"\")))","v":""}]
[false,{"$f":"IF(data!D139<5,IF(data!$E$9=1,data!D139*2,data!D139*2.5),1000)","v":0},{"$f":"IF(B135=0,\"\",IF(B135>results!D129,\"\",\"out of range\"))","v":""},{"$f":"IF(data!D139<5,data!E139*0.9,0)","v":0},{"$f":"IF(data!D139<5,data!E139*1.1,0)","v":0},{"$f":"IF(results!E129<smoothing!D135,D135,IF(results!E129>smoothing!E135,smoothing!E135,results!E129))","v":0},{"$f":"IF(F135=0,\"\",IF(results!E129<smoothing!D135,\"out of range\",IF(results!E129>smoothing!E135,\"out of range\",\"\")))","v":""},{"$f":"IF(data!D139<5,data!F139*0.9,0)","v":0},{"$f":"IF(data!D139<5,data!F139*1.1,0)","v":0},{"$f":"IF(results!F129<smoothing!H135,H135,IF(results!F129>smoothing!I135,smoothing!I135,results!F129))","v":0},{"$f":"IF(J135=0,\"\",IF(results!F129<smoothing!H135,\"out of range\",IF(results!F129>smoothing!I135,\"out of range\",\"\")))","v":""}]
[false,{"$f":"IF(data!D140<5,IF(data!$E$9=1,data!D140*2,data!D140*2.5),1000)","v":0},{"$f":"IF(B136=0,\"\",IF(B136>results!D130,\"\",\"out of range\"))","v":""},{"$f":"IF(data!D140<5,data!E140*0.9,0)","v":0},{"$f":"IF(data!D140<5,data!E140*1.1,0)","v":0},{"$f":"IF(results!E130<smoothing!D136,D136,IF(results!E130>smoothing!E136,smoothing!E136,results!E130))","v":0},{"$f":"IF(F136=0,\"\",IF(results!E130<smoothing!D136,\"out of range\",IF(results!E130>smoothing!E136,\"out of range\",\"\")))","v":""},{"$f":"IF(data!D140<5,data!F140*0.9,0)","v":0},{"$f":"IF(data!D140<5,data!F140*1.1,0)","v":0},{"$f":"IF(results!F130<smoothing!H136,H136,IF(results!F130>smoothing!I136,smoothing!I136,results!F130))","v":0},{"$f":"IF(J136=0,\"\",IF(results!F130<smoothing!H136,\"out of range\",IF(results!F130>smoothing!I136,\"out of range\",\"\")))","v":""}]
[false,{"$f":"IF(data!D141<5,IF(data!$E$9=1,data!D141*2,data!D141*2.5),1000)","v":0},{"$f":"IF(B137=0,\"\",IF(B137>results!D131,\"\",\"out of range\"))","v":""},{"$f":"IF(data!D141<5,data!E141*0.9,0)","v":0},{"$f":"IF(data!D141<5,data!E141*1.1,0)","v":0},{"$f":"IF(results!E131<smoothing!D137,D137,IF(results!E131>smoothing!E137,smoothing!E137,results!E131))","v":0},{"$f":"IF(F137=0,\"\",IF(results!E131<smoothing!D137,\"out of range\",IF(results!E131>smoothing!E137,\"out of range\",\"\")))","v":""},{"$f":"IF(data!D141<5,data!F141*0.9,0)","v":0},{"$f":"IF(data!D141<5,data!F141*1.1,0)","v":0},{"$f":"IF(results!F131<smoothing!H137,H137,IF(results!F131>smoothing!I137,smoothing!I137,results!F131))","v":0},{"$f":"IF(J137=0,\"\",IF(results!F131<smoothing!H137,\"out of range\",IF(results!F131>smoothing!I137,\"out of range\",\"\")))","v":""}]
[false,{"$f":"IF(data!D142<5,IF(data!$E$9=1,data!D142*2,data!D142*2.5),1000)","v":0},{"$f":"IF(B138=0,\"\",IF(B138>results!D132,\"\",\"out of range\"))","v":""},{"$f":"IF(data!D142<5,data!E142*0.9,0)","v":0},{"$f":"IF(data!D142<5,data!E142*1.1,0)","v":0},{"$f":"IF(results!E132<smoothing!D138,D138,IF(results!E132>smoothing!E138,smoothing!E138,results!E132))","v":0},{"$f":"IF(F138=0,\"\",IF(results!E132<smoothing!D138,\"out of range\",IF(results!E132>smoothing!E138,\"out of range\",\"\")))","v":""},{"$f":"IF(data!D142<5,data!F142*0.9,0)","v":0},{"$f":"IF(data!D142<5,data!F142*1.1,0)","v":0},{"$f":"IF(results!F132<smoothing!H138,H138,IF(results!F132>smoothing!I138,smoothing!I138,results!F132))","v":0},{"$f":"IF(J138=0,\"\",IF(results!F132<smoothing!H138,\"out of range\",IF(results!F132>smoothing!I138,\"out of range\",\"\")))","v":""}]
[false,{"$f":"IF(data!D143<5,IF(data!$E$9=1,data!D143*2,data!D143*2.5),1000)","v":0},{"$f":"IF(B139=0,\"\",IF(B139>results!D133,\"\",\"out of range\"))","v":""},{"$f":"IF(data!D143<5,data!E143*0.9,0)","v":0},{"$f":"IF(data!D143<5,data!E143*1.1,0)","v":0},{"$f":"IF(results!E133<smoothing!D139,D139,IF(results!E133>smoothing!E139,smoothing!E139,results!E133))","v":0},{"$f":"IF(F139=0,\"\",IF(results!E133<smoothing!D139,\"out of range\",IF(results!E133>smoothing!E139,\"out of range\",\"\")))","v":""},{"$f":"IF(data!D143<5,data!F143*0.9,0)","v":0},{"$f":"IF(data!D143<5,data!F143*1.1,0)","v":0},{"$f":"IF(results!F133<smoothing!H139,H139,IF(results!F133>smoothing!I139,smoothing!I139,results!F133))","v":0},{"$f":"IF(J139=0,\"\",IF(results!F133<smoothing!H139,\"out of range\",IF(results!F133>smoothing!I139,\"out of range\",\"\")))","v":""}]
[false,{"$f":"IF(data!D144<5,IF(data!$E$9=1,data!D144*2,data!D144*2.5),1000)","v":0},{"$f":"IF(B140=0,\"\",IF(B140>results!D134,\"\",\"out of range\"))","v":""},{"$f":"IF(data!D144<5,data!E144*0.9,0)","v":0},{"$f":"IF(data!D144<5,data!E144*1.1,0)","v":0},{"$f":"IF(results!E134<smoothing!D140,D140,IF(results!E134>smoothing!E140,smoothing!E140,results!E134))","v":0},{"$f":"IF(F140=0,\"\",IF(results!E134<smoothing!D140,\"out of range\",IF(results!E134>smoothing!E140,\"out of range\",\"\")))","v":""},{"$f":"IF(data!D144<5,data!F144*0.9,0)","v":0},{"$f":"IF(data!D144<5,data!F144*1.1,0)","v":0},{"$f":"IF(results!F134<smoothing!H140,H140,IF(results!F134>smoothing!I140,smoothing!I140,results!F134))","v":0},{"$f":"IF(J140=0,\"\",IF(results!F134<smoothing!H140,\"out of range\",IF(results!F134>smoothing!I140,\"out of range\",\"\")))","v":""}]
[false,{"$f":"IF(data!D145<5,IF(data!$E$9=1,data!D145*2,data!D145*2.5),1000)","v":0},{"$f":"IF(B141=0,\"\",IF(B141>results!D135,\"\",\"out of range\"))","v":""},{"$f":"IF(data!D145<5,data!E145*0.9,0)","v":0},{"$f":"IF(data!D145<5,data!E145*1.1,0)","v":0},{"$f":"IF(results!E135<smoothing!D141,D141,IF(results!E135>smoothing!E141,smoothing!E141,results!E135))","v":0},{"$f":"IF(F141=0,\"\",IF(results!E135<smoothing!D141,\"out of range\",IF(results!E135>smoothing!E141,\"out of range\",\"\")))","v":""},{"$f":"IF(data!D145<5,data!F145*0.9,0)","v":0},{"$f":"IF(data!D145<5,data!F145*1.1,0)","v":0},{"$f":"IF(results!F135<smoothing!H141,H141,IF(results!F135>smoothing!I141,smoothing!I141,results!F135))","v":0},{"$f":"IF(J141=0,\"\",IF(results!F135<smoothing!H141,\"out of range\",IF(results!F135>smoothing!I141,\"out of range\",\"\")))","v":""}]
[false,{"$f":"IF(data!D146<5,IF(data!$E$9=1,data!D146*2,data!D146*2.5),1000)","v":0},{"$f":"IF(B142=0,\"\",IF(B142>results!D136,\"\",\"out of range\"))","v":""},{"$f":"IF(data!D146<5,data!E146*0.9,0)","v":0},{"$f":"IF(data!D146<5,data!E146*1.1,0)","v":0},{"$f":"IF(results!E136<smoothing!D142,D142,IF(results!E136>smoothing!E142,smoothing!E142,results!E136))","v":0},{"$f":"IF(F142=0,\"\",IF(results!E136<smoothing!D142,\"out of range\",IF(results!E136>smoothing!E142,\"out of range\",\"\")))","v":""},{"$f":"IF(data!D146<5,data!F146*0.9,0)","v":0},{"$f":"IF(data!D146<5,data!F146*1.1,0)","v":0},{"$f":"IF(results!F136<smoothing!H142,H142,IF(results!F136>smoothing!I142,smoothing!I142,results!F136))","v":0},{"$f":"IF(J142=0,\"\",IF(results!F136<smoothing!H142,\"out of range\",IF(results!F136>smoothing!I142,\"out of range\",\"\")))","v":""}]
[false,{"$f":"IF(data!D147<5,IF(data!$E$9=1,data!D147*2,data!D147*2.5),1000)","v":0},{"$f":"IF(B143=0,\"\",IF(B143>results!D137,\"\",\"out of range\"))","v":""},{"$f":"IF(data!D147<5,data!E147*0.9,0)","v":0},{"$f":"IF(data!D147<5,data!E147*1.1,0)","v":0},{"$f":"IF(results!E137<smoothing!D143,D143,IF(results!E137>smoothing!E143,smoothing!E143,results!E137))","v":0},{"$f":"IF(F143=0,\"\",IF(results!E137<smoothing!D143,\"out of range\",IF(results!E137>smoothing!E143,\"out of range\",\"\")))","v":""},{"$f":"IF(data!D147<5,data!F147*0.9,0)","v":0},{"$f":"IF(data!D147<5,data!F147*1.1,0)","v":0},{"$f":"IF(results!F137<smoothing!H143,H143,IF(results!F137>smoothing!I143,smoothing!I143,results!F137))","v":0},{"$f":"IF(J143=0,\"\",IF(results!F137<smoothing!H143,\"out of range\",IF(results!F137>smoothing!I143,\"out of range\",\"\")))","v":""}]
[{"$f":"IF(C144=\"out of range\",\"out of range\",IF(G144=\"out of range\",\"out of range\",IF(K144=\"out of range\",\"out of range\")))","v":false},{"$f":"IF(data!D148<5,IF(data!$E$9=1,data!D148*2,data!D148*2.5),1000)","v":0},{"$f":"IF(B144=0,\"\",IF(B144>results!D138,\"\",\"out of range\"))","v":""},{"$f":"IF(data!D148<5,data!E148*0.9,0)","v":0},{"$f":"IF(data!D148<5,data!E148*1.1,0)","v":0},{"$f":"IF(results!E138<smoothing!D144,D144,IF(results!E138>smoothing!E144,smoothing!E144,results!E138))","v":0},{"$f":"IF(F144=0,\"\",IF(results!E138<smoothing!D144,\"out of range\",IF(results!E138>smoothing!E144,\"out of range\",\"\")))","v":""},{"$f":"IF(data!D148<5,data!F148*0.9,0)","v":0},{"$f":"IF(data!D148<5,data!F148*1.1,0)","v":0},{"$f":"IF(results!F138<smoothing!H144,H144,IF(results!F138>smoothing!I144,smoothing!I144,results!F138))","v":0},{"$f":"IF(J144=0,\"\",IF(results!F138<smoothing!H144,\"out of range\",IF(results!F138>smoothing!I144,\"out of range\",\"\")))","v":""}]
[false,{"$f":"IF(data!D149<5,IF(data!$E$9=1,data!D149*2,data!D149*2.5),1000)","v":0},{"$f":"IF(B145=0,\"\",IF(B145>results!D139,\"\",\"out of range\"))","v":""},{"$f":"IF(data!D149<5,data!E149*0.9,0)","v":0},{"$f":"IF(data!D149<5,data!E149*1.1,0)","v":0},{"$f":"IF(results!E139<smoothing!D145,D145,IF(results!E139>smoothing!E145,smoothing!E145,results!E139))","v":0},{"$f":"IF(F145=0,\"\",IF(results!E139<smoothing!D145,\"out of range\",IF(results!E139>smoothing!E145,\"out of range\",\"\")))","v":""},{"$f":"IF(data!D149<5,data!F149*0.9,0)","v":0},{"$f":"IF(data!D149<5,data!F149*1.1,0)","v":0},{"$f":"IF(results!F139<smoothing!H145,H145,IF(results!F139>smoothing!I145,smoothing!I145,results!F139))","v":0},{"$f":"IF(J145=0,\"\",IF(results!F139<smoothing!H145,\"out of range\",IF(results!F139>smoothing!I145,\"out of range\",\"\")))","v":""}]
[false,{"$f":"IF(data!D150<5,IF(data!$E$9=1,data!D150*2,data!D150*2.5),1000)","v":0},{"$f":"IF(B146=0,\"\",IF(B146>results!D140,\"\",\"out of range\"))","v":""},{"$f":"IF(data!D150<5,data!E150*0.9,0)","v":0},{"$f":"IF(data!D150<5,data!E150*1.1,0)","v":0},{"$f":"IF(results!E140<smoothing!D146,D146,IF(results!E140>smoothing!E146,smoothing!E146,results!E140))","v":0},{"$f":"IF(F146=0,\"\",IF(results!E140<smoothing!D146,\"out of range\",IF(results!E140>smoothing!E146,\"out of range\",\"\")))","v":""},{"$f":"IF(data!D150<5,data!F150*0.9,0)","v":0},{"$f":"IF(data!D150<5,data!F150*1.1,0)","v":0},{"$f":"IF(results!F140<smoothing!H146,H146,IF(results!F140>smoothing!I146,smoothing!I146,results!F140))","v":0},{"$f":"IF(J146=0,\"\",IF(results!F140<smoothing!H146,\"out of range\",IF(results!F140>smoothing!I146,\"out of range\",\"\")))","v":""}]
[false,{"$f":"IF(data!D151<5,IF(data!$E$9=1,data!D151*2,data!D151*2.5),1000)","v":0},{"$f":"IF(B147=0,\"\",IF(B147>results!D141,\"\",\"out of range\"))","v":""},{"$f":"IF(data!D151<5,data!E151*0.9,0)","v":0},{"$f":"IF(data!D151<5,data!E151*1.1,0)","v":0},{"$f":"IF(results!E141<smoothing!D147,D147,IF(results!E141>smoothing!E147,smoothing!E147,results!E141))","v":0},{"$f":"IF(F147=0,\"\",IF(results!E141<smoothing!D147,\"out of range\",IF(results!E141>smoothing!E147,\"out of range\",\"\")))","v":""},{"$f":"IF(data!D151<5,data!F151*0.9,0)","v":0},{"$f":"IF(data!D151<5,data!F151*1.1,0)","v":0},{"$f":"IF(results!F141<smoothing!H147,H147,IF(results!F141>smoothing!I147,smoothing!I147,results!F141))","v":0},{"$f":"IF(J147=0,\"\",IF(results!F141<smoothing!H147,\"out of range\",IF(results!F141>smoothing!I147,\"out of range\",\"\")))","v":""}]
[false,{"$f":"IF(data!D152<5,IF(data!$E$9=1,data!D152*2,data!D152*2.5),1000)","v":0},{"$f":"IF(B148=0,\"\",IF(B148>results!D142,\"\",\"out of range\"))","v":""},{"$f":"IF(data!D152<5,data!E152*0.9,0)","v":0},{"$f":"IF(data!D152<5,data!E152*1.1,0)","v":0},{"$f":"IF(results!E142<smoothing!D148,D148,IF(results!E142>smoothing!E148,smoothing!E148,results!E142))","v":0},{"$f":"IF(F148=0,\"\",IF(results!E142<smoothing!D148,\"out of range\",IF(results!E142>smoothing!E148,\"out of range\",\"\")))","v":""},{"$f":"IF(data!D152<5,data!F152*0.9,0)","v":0},{"$f":"IF(data!D152<5,data!F152*1.1,0)","v":0},{"$f":"IF(results!F142<smoothing!H148,H148,IF(results!F142>smoothing!I148,smoothing!I148,results!F142))","v":0},{"$f":"IF(J148=0,\"\",IF(results!F142<smoothing!H148,\"out of range\",IF(results!F142>smoothing!I148,\"out of range\",\"\")))","v":""}]
[false,{"$f":"IF(data!D153<5,IF(data!$E$9=1,data!D153*2,data!D153*2.5),1000)","v":0},{"$f":"IF(B149=0,\"\",IF(B149>results!D143,\"\",\"out of range\"))","v":""},{"$f":"IF(data!D153<5,data!E153*0.9,0)","v":0},{"$f":"IF(data!D153<5,data!E153*1.1,0)","v":0},{"$f":"IF(results!E143<smoothing!D149,D149,IF(results!E143>smoothing!E149,smoothing!E149,results!E143))","v":0},{"$f":"IF(F149=0,\"\",IF(results!E143<smoothing!D149,\"out of range\",IF(results!E143>smoothing!E149,\"out of range\",\"\")))","v":""},{"$f":"IF(data!D153<5,data!F153*0.9,0)","v":0},{"$f":"IF(data!D153<5,data!F153*1.1,0)","v":0},{"$f":"IF(results!F143<smoothing!H149,H149,IF(results!F143>smoothing!I149,smoothing!I149,results!F143))","v":0},{"$f":"IF(J149=0,\"\",IF(results!F143<smoothing!H149,\"out of range\",IF(results!F143>smoothing!I149,\"out of range\",\"\")))","v":""}]
[false,{"$f":"IF(data!D154<5,IF(data!$E$9=1,data!D154*2,data!D154*2.5),1000)","v":0},{"$f":"IF(B150=0,\"\",IF(B150>results!D144,\"\",\"out of range\"))","v":""},{"$f":"IF(data!D154<5,data!E154*0.9,0)","v":0},{"$f":"IF(data!D154<5,data!E154*1.1,0)","v":0},{"$f":"IF(results!E144<smoothing!D150,D150,IF(results!E144>smoothing!E150,smoothing!E150,results!E144))","v":0},{"$f":"IF(F150=0,\"\",IF(results!E144<smoothing!D150,\"out of range\",IF(results!E144>smoothing!E150,\"out of range\",\"\")))","v":""},{"$f":"IF(data!D154<5,data!F154*0.9,0)","v":0},{"$f":"IF(data!D154<5,data!F154*1.1,0)","v":0},{"$f":"IF(results!F144<smoothing!H150,H150,IF(results!F144>smoothing!I150,smoothing!I150,results!F144))","v":0},{"$f":"IF(J150=0,\"\",IF(results!F144<smoothing!H150,\"out of range\",IF(results!F144>smoothing!I150,\"out of range\",\"\")))","v":""}]
[false,{"$f":"IF(data!D155<5,IF(data!$E$9=1,data!D155*2,data!D155*2.5),1000)","v":0},{"$f":"IF(B151=0,\"\",IF(B151>results!D145,\"\",\"out of range\"))","v":""},{"$f":"IF(data!D155<5,data!E155*0.9,0)","v":0},{"$f":"IF(data!D155<5,data!E155*1.1,0)","v":0},{"$f":"IF(results!E145<smoothing!D151,D151,IF(results!E145>smoothing!E151,smoothing!E151,results!E145))","v":0},{"$f":"IF(F151=0,\"\",IF(results!E145<smoothing!D151,\"out of range\",IF(results!E145>smoothing!E151,\"out of range\",\"\")))","v":""},{"$f":"IF(data!D155<5,data!F155*0.9,0)","v":0},{"$f":"IF(data!D155<5,data!F155*1.1,0)","v":0},{"$f":"IF(results!F145<smoothing!H151,H151,IF(results!F145>smoothing!I151,smoothing!I151,results!F145))","v":0},{"$f":"IF(J151=0,\"\",IF(results!F145<smoothing!H151,\"out of range\",IF(results!F145>smoothing!I151,\"out of range\",\"\")))","v":""}]
[false,{"$f":"IF(data!D156<5,IF(data!$E$9=1,data!D156*2,data!D156*2.5),1000)","v":0},{"$f":"IF(B152=0,\"\",IF(B152>results!D146,\"\",\"out of range\"))","v":""},{"$f":"IF(data!D156<5,data!E156*0.9,0)","v":0},{"$f":"IF(data!D156<5,data!E156*1.1,0)","v":0},{"$f":"IF(results!E146<smoothing!D152,D152,IF(results!E146>smoothing!E152,smoothing!E152,results!E146))","v":0},{"$f":"IF(F152=0,\"\",IF(results!E146<smoothing!D152,\"out of range\",IF(results!E146>smoothing!E152,\"out of range\",\"\")))","v":""},{"$f":"IF(data!D156<5,data!F156*0.9,0)","v":0},{"$f":"IF(data!D156<5,data!F156*1.1,0)","v":0},{"$f":"IF(results!F146<smoothing!H152,H152,IF(results!F146>smoothing!I152,smoothing!I152,results!F146))","v":0},{"$f":"IF(J152=0,\"\",IF(results!F146<smoothing!H152,\"out of range\",IF(results!F146>smoothing!I152,\"out of range\",\"\")))","v":""}]
[false,{"$f":"IF(data!D157<5,IF(data!$E$9=1,data!D157*2,data!D157*2.5),1000)","v":0},{"$f":"IF(B153=0,\"\",IF(B153>results!D147,\"\",\"out of range\"))","v":""},{"$f":"IF(data!D157<5,data!E157*0.9,0)","v":0},{"$f":"IF(data!D157<5,data!E157*1.1,0)","v":0},{"$f":"IF(results!E147<smoothing!D153,D153,IF(results!E147>smoothing!E153,smoothing!E153,results!E147))","v":0},{"$f":"IF(F153=0,\"\",IF(results!E147<smoothing!D153,\"out of range\",IF(results!E147>smoothing!E153,\"out of range\",\"\")))","v":""},{"$f":"IF(data!D157<5,data!F157*0.9,0)","v":0},{"$f":"IF(data!D157<5,data!F157*1.1,0)","v":0},{"$f":"IF(results!F147<smoothing!H153,H153,IF(results!F147>smoothing!I153,smoothing!I153,results!F147))","v":0},{"$f":"IF(J153=0,\"\",IF(results!F147<smoothing!H153,\"out of range\",IF(results!F147>smoothing!I153,\"out of range\",\"\")))","v":""}]
[false,{"$f":"IF(data!D158<5,IF(data!$E$9=1,data!D158*2,data!D158*2.5),1000)","v":0},{"$f":"IF(B154=0,\"\",IF(B154>results!D148,\"\",\"out of range\"))","v":""},{"$f":"IF(data!D158<5,data!E158*0.9,0)","v":0},{"$f":"IF(data!D158<5,data!E158*1.1,0)","v":0},{"$f":"IF(results!E148<smoothing!D154,D154,IF(results!E148>smoothing!E154,smoothing!E154,results!E148))","v":0},{"$f":"IF(F154=0,\"\",IF(results!E148<smoothing!D154,\"out of range\",IF(results!E148>smoothing!E154,\"out of range\",\"\")))","v":""},{"$f":"IF(data!D158<5,data!F158*0.9,0)","v":0},{"$f":"IF(data!D158<5,data!F158*1.1,0)","v":0},{"$f":"IF(results!F148<smoothing!H154,H154,IF(results!F148>smoothing!I154,smoothing!I154,results!F148))","v":0},{"$f":"IF(J154=0,\"\",IF(results!F148<smoothing!H154,\"out of range\",IF(results!F148>smoothing!I154,\"out of range\",\"\")))","v":""}]
[false,{"$f":"IF(data!D159<5,IF(data!$E$9=1,data!D159*2,data!D159*2.5),1000)","v":0},{"$f":"IF(B155=0,\"\",IF(B155>results!D149,\"\",\"out of range\"))","v":""},{"$f":"IF(data!D159<5,data!E159*0.9,0)","v":0},{"$f":"IF(data!D159<5,data!E159*1.1,0)","v":0},{"$f":"IF(results!E149<smoothing!D155,D155,IF(results!E149>smoothing!E155,smoothing!E155,results!E149))","v":0},{"$f":"IF(F155=0,\"\",IF(results!E149<smoothing!D155,\"out of range\",IF(results!E149>smoothing!E155,\"out of range\",\"\")))","v":""},{"$f":"IF(data!D159<5,data!F159*0.9,0)","v":0},{"$f":"IF(data!D159<5,data!F159*1.1,0)","v":0},{"$f":"IF(results!F149<smoothing!H155,H155,IF(results!F149>smoothing!I155,smoothing!I155,results!F149))","v":0},{"$f":"IF(J155=0,\"\",IF(results!F149<smoothing!H155,\"out of range\",IF(results!F149>smoothing!I155,\"out of range\",\"\")))","v":""}]
[false,{"$f":"IF(data!D160<5,IF(data!$E$9=1,data!D160*2,data!D160*2.5),1000)","v":0},{"$f":"IF(B156=0,\"\",IF(B156>results!D150,\"\",\"out of range\"))","v":""},{"$f":"IF(data!D160<5,data!E160*0.9,0)","v":0},{"$f":"IF(data!D160<5,data!E160*1.1,0)","v":0},{"$f":"IF(results!E150<smoothing!D156,D156,IF(results!E150>smoothing!E156,smoothing!E156,results!E150))","v":0},{"$f":"IF(F156=0,\"\",IF(results!E150<smoothing!D156,\"out of range\",IF(results!E150>smoothing!E156,\"out of range\",\"\")))","v":""},{"$f":"IF(data!D160<5,data!F160*0.9,0)","v":0},{"$f":"IF(data!D160<5,data!F160*1.1,0)","v":0},{"$f":"IF(results!F150<smoothing!H156,H156,IF(results!F150>smoothing!I156,smoothing!I156,results!F150))","v":0},{"$f":"IF(J156=0,\"\",IF(results!F150<smoothing!H156,\"out of range\",IF(results!F150>smoothing!I156,\"out of range\",\"\")))","v":""}]
[false,{"$f":"IF(data!D161<5,IF(data!$E$9=1,data!D161*2,data!D161*2.5),1000)","v":0},{"$f":"IF(B157=0,\"\",IF(B157>results!D151,\"\",\"out of range\"))","v":""},{"$f":"IF(data!D161<5,data!E161*0.9,0)","v":0},{"$f":"IF(data!D161<5,data!E161*1.1,0)","v":0},{"$f":"IF(results!E151<smoothing!D157,D157,IF(results!E151>smoothing!E157,smoothing!E157,results!E151))","v":0},{"$f":"IF(F157=0,\"\",IF(results!E151<smoothing!D157,\"out of range\",IF(results!E151>smoothing!E157,\"out of range\",\"\")))","v":""},{"$f":"IF(data!D161<5,data!F161*0.9,0)","v":0},{"$f":"IF(data!D161<5,data!F161*1.1,0)","v":0},{"$f":"IF(results!F151<smoothing!H157,H157,IF(results!F151>smoothing!I157,smoothing!I157,results!F151))","v":0},{"$f":"IF(J157=0,\"\",IF(results!F151<smoothing!H157,\"out of range\",IF(results!F151>smoothing!I157,\"out of range\",\"\")))","v":""}]
[false,{"$f":"IF(data!D162<5,IF(data!$E$9=1,data!D162*2,data!D162*2.5),1000)","v":0},{"$f":"IF(B158=0,\"\",IF(B158>results!D152,\"\",\"out of range\"))","v":""},{"$f":"IF(data!D162<5,data!E162*0.9,0)","v":0},{"$f":"IF(data!D162<5,data!E162*1.1,0)","v":0},{"$f":"IF(results!E152<smoothing!D158,D158,IF(results!E152>smoothing!E158,smoothing!E158,results!E152))","v":0},{"$f":"IF(F158=0,\"\",IF(results!E152<smoothing!D158,\"out of range\",IF(results!E152>smoothing!E158,\"out of range\",\"\")))","v":""},{"$f":"IF(data!D162<5,data!F162*0.9,0)","v":0},{"$f":"IF(data!D162<5,data!F162*1.1,0)","v":0},{"$f":"IF(results!F152<smoothing!H158,H158,IF(results!F152>smoothing!I158,smoothing!I158,results!F152))","v":0},{"$f":"IF(J158=0,\"\",IF(results!F152<smoothing!H158,\"out of range\",IF(results!F152>smoothing!I158,\"out of range\",\"\")))","v":""}]
[false,{"$f":"IF(data!D163<5,IF(data!$E$9=1,data!D163*2,data!D163*2.5),1000)","v":0},{"$f":"IF(B159=0,\"\",IF(B159>results!D153,\"\",\"out of range\"))","v":""},{"$f":"IF(data!D163<5,data!E163*0.9,0)","v":0},{"$f":"IF(data!D163<5,data!E163*1.1,0)","v":0},{"$f":"IF(results!E153<smoothing!D159,D159,IF(results!E153>smoothing!E159,smoothing!E159,results!E153))","v":0},{"$f":"IF(F159=0,\"\",IF(results!E153<smoothing!D159,\"out of range\",IF(results!E153>smoothing!E159,\"out of range\",\"\")))","v":""},{"$f":"IF(data!D163<5,data!F163*0.9,0)","v":0},{"$f":"IF(data!D163<5,data!F163*1.1,0)","v":0},{"$f":"IF(results!F153<smoothing!H159,H159,IF(results!F153>smoothing!I159,smoothing!I159,results!F153))","v":0},{"$f":"IF(J159=0,\"\",IF(results!F153<smoothing!H159,\"out of range\",IF(results!F153>smoothing!I159,\"out of range\",\"\")))","v":""}]
[false,{"$f":"IF(data!D164<5,IF(data!$E$9=1,data!D164*2,data!D164*2.5),1000)","v":0},{"$f":"IF(B160=0,\"\",IF(B160>results!D154,\"\",\"out of range\"))","v":""},{"$f":"IF(data!D164<5,data!E164*0.9,0)","v":0},{"$f":"IF(data!D164<5,data!E164*1.1,0)","v":0},{"$f":"IF(results!E154<smoothing!D160,D160,IF(results!E154>smoothing!E160,smoothing!E160,results!E154))","v":0},{"$f":"IF(F160=0,\"\",IF(results!E154<smoothing!D160,\"out of range\",IF(results!E154>smoothing!E160,\"out of range\",\"\")))","v":""},{"$f":"IF(data!D164<5,data!F164*0.9,0)","v":0},{"$f":"IF(data!D164<5,data!F164*1.1,0)","v":0},{"$f":"IF(results!F154<smoothing!H160,H160,IF(results!F154>smoothing!I160,smoothing!I160,results!F154))","v":0},{"$f":"IF(J160=0,\"\",IF(results!F154<smoothing!H160,\"out of range\",IF(results!F154>smoothing!I160,\"out of range\",\"\")))","v":""}]
[false,{"$f":"IF(data!D165<5,IF(data!$E$9=1,data!D165*2,data!D165*2.5),1000)","v":0},{"$f":"IF(B161=0,\"\",IF(B161>results!D155,\"\",\"out of range\"))","v":""},{"$f":"IF(data!D165<5,data!E165*0.9,0)","v":0},{"$f":"IF(data!D165<5,data!E165*1.1,0)","v":0},{"$f":"IF(results!E155<smoothing!D161,D161,IF(results!E155>smoothing!E161,smoothing!E161,results!E155))","v":0},{"$f":"IF(F161=0,\"\",IF(results!E155<smoothing!D161,\"out of range\",IF(results!E155>smoothing!E161,\"out of range\",\"\")))","v":""},{"$f":"IF(data!D165<5,data!F165*0.9,0)","v":0},{"$f":"IF(data!D165<5,data!F165*1.1,0)","v":0},{"$f":"IF(results!F155<smoothing!H161,H161,IF(results!F155>smoothing!I161,smoothing!I161,results!F155))","v":0},{"$f":"IF(J161=0,\"\",IF(results!F155<smoothing!H161,\"out of range\",IF(results!F155>smoothing!I161,\"out of range\",\"\")))","v":""}]
[false,{"$f":"IF(data!D166<5,IF(data!$E$9=1,data!D166*2,data!D166*2.5),1000)","v":0},{"$f":"IF(B162=0,\"\",IF(B162>results!D156,\"\",\"out of range\"))","v":""},{"$f":"IF(data!D166<5,data!E166*0.9,0)","v":0},{"$f":"IF(data!D166<5,data!E166*1.1,0)","v":0},{"$f":"IF(results!E156<smoothing!D162,D162,IF(results!E156>smoothing!E162,smoothing!E162,results!E156))","v":0},{"$f":"IF(F162=0,\"\",IF(results!E156<smoothing!D162,\"out of range\",IF(results!E156>smoothing!E162,\"out of range\",\"\")))","v":""},{"$f":"IF(data!D166<5,data!F166*0.9,0)","v":0},{"$f":"IF(data!D166<5,data!F166*1.1,0)","v":0},{"$f":"IF(results!F156<smoothing!H162,H162,IF(results!F156>smoothing!I162,smoothing!I162,results!F156))","v":0},{"$f":"IF(J162=0,\"\",IF(results!F156<smoothing!H162,\"out of range\",IF(results!F156>smoothing!I162,\"out of range\",\"\")))","v":""}]
[false,{"$f":"IF(data!D167<5,IF(data!$E$9=1,data!D167*2,data!D167*2.5),1000)","v":0},{"$f":"IF(B163=0,\"\",IF(B163>results!D157,\"\",\"out of range\"))","v":""},{"$f":"IF(data!D167<5,data!E167*0.9,0)","v":0},{"$f":"IF(data!D167<5,data!E167*1.1,0)","v":0},{"$f":"IF(results!E157<smoothing!D163,D163,IF(results!E157>smoothing!E163,smoothing!E163,results!E157))","v":0},{"$f":"IF(F163=0,\"\",IF(results!E157<smoothing!D163,\"out of range\",IF(results!E157>smoothing!E163,\"out of range\",\"\")))","v":""},{"$f":"IF(data!D167<5,data!F167*0.9,0)","v":0},{"$f":"IF(data!D167<5,data!F167*1.1,0)","v":0},{"$f":"IF(results!F157<smoothing!H163,H163,IF(results!F157>smoothing!I163,smoothing!I163,results!F157))","v":0},{"$f":"IF(J163=0,\"\",IF(results!F157<smoothing!H163,\"out of range\",IF(results!F157>smoothing!I163,\"out of range\",\"\")))","v":""}]
[false,{"$f":"IF(data!D168<5,IF(data!$E$9=1,data!D168*2,data!D168*2.5),1000)","v":0},{"$f":"IF(B164=0,\"\",IF(B164>results!D158,\"\",\"out of range\"))","v":""},{"$f":"IF(data!D168<5,data!E168*0.9,0)","v":0},{"$f":"IF(data!D168<5,data!E168*1.1,0)","v":0},{"$f":"IF(results!E158<smoothing!D164,D164,IF(results!E158>smoothing!E164,smoothing!E164,results!E158))","v":0},{"$f":"IF(F164=0,\"\",IF(results!E158<smoothing!D164,\"out of range\",IF(results!E158>smoothing!E164,\"out of range\",\"\")))","v":""},{"$f":"IF(data!D168<5,data!F168*0.9,0)","v":0},{"$f":"IF(data!D168<5,data!F168*1.1,0)","v":0},{"$f":"IF(results!F158<smoothing!H164,H164,IF(results!F158>smoothing!I164,smoothing!I164,results!F158))","v":0},{"$f":"IF(J164=0,\"\",IF(results!F158<smoothing!H164,\"out of range\",IF(results!F158>smoothing!I164,\"out of range\",\"\")))","v":""}]
[false,{"$f":"IF(data!D169<5,IF(data!$E$9=1,data!D169*2,data!D169*2.5),1000)","v":0},{"$f":"IF(B165=0,\"\",IF(B165>results!D159,\"\",\"out of range\"))","v":""},{"$f":"IF(data!D169<5,data!E169*0.9,0)","v":0},{"$f":"IF(data!D169<5,data!E169*1.1,0)","v":0},{"$f":"IF(results!E159<smoothing!D165,D165,IF(results!E159>smoothing!E165,smoothing!E165,results!E159))","v":0},{"$f":"IF(F165=0,\"\",IF(results!E159<smoothing!D165,\"out of range\",IF(results!E159>smoothing!E165,\"out of range\",\"\")))","v":""},{"$f":"IF(data!D169<5,data!F169*0.9,0)","v":0},{"$f":"IF(data!D169<5,data!F169*1.1,0)","v":0},{"$f":"IF(results!F159<smoothing!H165,H165,IF(results!F159>smoothing!I165,smoothing!I165,results!F159))","v":0},{"$f":"IF(J165=0,\"\",IF(results!F159<smoothing!H165,\"out of range\",IF(results!F159>smoothing!I165,\"out of range\",\"\")))","v":""}]
[false,{"$f":"IF(data!D170<5,IF(data!$E$9=1,data!D170*2,data!D170*2.5),1000)","v":0},{"$f":"IF(B166=0,\"\",IF(B166>results!D160,\"\",\"out of range\"))","v":""},{"$f":"IF(data!D170<5,data!E170*0.9,0)","v":0},{"$f":"IF(data!D170<5,data!E170*1.1,0)","v":0},{"$f":"IF(results!E160<smoothing!D166,D166,IF(results!E160>smoothing!E166,smoothing!E166,results!E160))","v":0},{"$f":"IF(F166=0,\"\",IF(results!E160<smoothing!D166,\"out of range\",IF(results!E160>smoothing!E166,\"out of range\",\"\")))","v":""},{"$f":"IF(data!D170<5,data!F170*0.9,0)","v":0},{"$f":"IF(data!D170<5,data!F170*1.1,0)","v":0},{"$f":"IF(results!F160<smoothing!H166,H166,IF(results!F160>smoothing!I166,smoothing!I166,results!F160))","v":0},{"$f":"IF(J166=0,\"\",IF(results!F160<smoothing!H166,\"out of range\",IF(results!F160>smoothing!I166,\"out of range\",\"\")))","v":""}]
[false,{"$f":"IF(data!D171<5,IF(data!$E$9=1,data!D171*2,data!D171*2.5),1000)","v":0},{"$f":"IF(B167=0,\"\",IF(B167>results!D161,\"\",\"out of range\"))","v":""},{"$f":"IF(data!D171<5,data!E171*0.9,0)","v":0},{"$f":"IF(data!D171<5,data!E171*1.1,0)","v":0},{"$f":"IF(results!E161<smoothing!D167,D167,IF(results!E161>smoothing!E167,smoothing!E167,results!E161))","v":0},{"$f":"IF(F167=0,\"\",IF(results!E161<smoothing!D167,\"out of range\",IF(results!E161>smoothing!E167,\"out of range\",\"\")))","v":""},{"$f":"IF(data!D171<5,data!F171*0.9,0)","v":0},{"$f":"IF(data!D171<5,data!F171*1.1,0)","v":0},{"$f":"IF(results!F161<smoothing!H167,H167,IF(results!F161>smoothing!I167,smoothing!I167,results!F161))","v":0},{"$f":"IF(J167=0,\"\",IF(results!F161<smoothing!H167,\"out of range\",IF(results!F161>smoothing!I167,\"out of range\",\"\")))","v":""}]
[false,{"$f":"IF(data!D172<5,IF(data!$E$9=1,data!D172*2,data!D172*2.5),1000)","v":0},{"$f":"IF(B168=0,\"\",IF(B168>results!D162,\"\",\"out of range\"))","v":""},{"$f":"IF(data!D172<5,data!E172*0.9,0)","v":0},{"$f":"IF(data!D172<5,data!E172*1.1,0)","v":0},{"$f":"IF(results!E162<smoothing!D168,D168,IF(results!E162>smoothing!E168,smoothing!E168,results!E162))","v":0},{"$f":"IF(F168=0,\"\",IF(results!E162<smoothing!D168,\"out of range\",IF(results!E162>smoothing!E168,\"out of range\",\"\")))","v":""},{"$f":"IF(data!D172<5,data!F172*0.9,0)","v":0},{"$f":"IF(data!D172<5,data!F172*1.1,0)","v":0},{"$f":"IF(results!F162<smoothing!H168,H168,IF(results!F162>smoothing!I168,smoothing!I168,results!F162))","v":0},{"$f":"IF(J168=0,\"\",IF(results!F162<smoothing!H168,\"out of range\",IF(results!F162>smoothing!I168,\"out of range\",\"\")))","v":""}]
[false,{"$f":"IF(data!D173<5,IF(data!$E$9=1,data!D173*2,data!D173*2.5),1000)","v":0},{"$f":"IF(B169=0,\"\",IF(B169>results!D163,\"\",\"out of range\"))","v":""},{"$f":"IF(data!D173<5,data!E173*0.9,0)","v":0},{"$f":"IF(data!D173<5,data!E173*1.1,0)","v":0},{"$f":"IF(results!E163<smoothing!D169,D169,IF(results!E163>smoothing!E169,smoothing!E169,results!E163))","v":0},{"$f":"IF(F169=0,\"\",IF(results!E163<smoothing!D169,\"out of range\",IF(results!E163>smoothing!E169,\"out of range\",\"\")))","v":""},{"$f":"IF(data!D173<5,data!F173*0.9,0)","v":0},{"$f":"IF(data!D173<5,data!F173*1.1,0)","v":0},{"$f":"IF(results!F163<smoothing!H169,H169,IF(results!F163>smoothing!I169,smoothing!I169,results!F163))","v":0},{"$f":"IF(J169=0,\"\",IF(results!F163<smoothing!H169,\"out of range\",IF(results!F163>smoothing!I169,\"out of range\",\"\")))","v":""}]
[false,{"$f":"IF(data!D174<5,IF(data!$E$9=1,data!D174*2,data!D174*2.5),1000)","v":0},{"$f":"IF(B170=0,\"\",IF(B170>results!D164,\"\",\"out of range\"))","v":""},{"$f":"IF(data!D174<5,data!E174*0.9,0)","v":0},{"$f":"IF(data!D174<5,data!E174*1.1,0)","v":0},{"$f":"IF(results!E164<smoothing!D170,D170,IF(results!E164>smoothing!E170,smoothing!E170,results!E164))","v":0},{"$f":"IF(F170=0,\"\",IF(results!E164<smoothing!D170,\"out of range\",IF(results!E164>smoothing!E170,\"out of range\",\"\")))","v":""},{"$f":"IF(data!D174<5,data!F174*0.9,0)","v":0},{"$f":"IF(data!D174<5,data!F174*1.1,0)","v":0},{"$f":"IF(results!F164<smoothing!H170,H170,IF(results!F164>smoothing!I170,smoothing!I170,results!F164))","v":0},{"$f":"IF(J170=0,\"\",IF(results!F164<smoothing!H170,\"out of range\",IF(results!F164>smoothing!I170,\"out of range\",\"\")))","v":""}]
[false,{"$f":"IF(data!D175<5,IF(data!$E$9=1,data!D175*2,data!D175*2.5),1000)","v":0},{"$f":"IF(B171=0,\"\",IF(B171>results!D165,\"\",\"out of range\"))","v":""},{"$f":"IF(data!D175<5,data!E175*0.9,0)","v":0},{"$f":"IF(data!D175<5,data!E175*1.1,0)","v":0},{"$f":"IF(results!E165<smoothing!D171,D171,IF(results!E165>smoothing!E171,smoothing!E171,results!E165))","v":0},{"$f":"IF(F171=0,\"\",IF(results!E165<smoothing!D171,\"out of range\",IF(results!E165>smoothing!E171,\"out of range\",\"\")))","v":""},{"$f":"IF(data!D175<5,data!F175*0.9,0)","v":0},{"$f":"IF(data!D175<5,data!F175*1.1,0)","v":0},{"$f":"IF(results!F165<smoothing!H171,H171,IF(results!F165>smoothing!I171,smoothing!I171,results!F165))","v":0},{"$f":"IF(J171=0,\"\",IF(results!F165<smoothing!H171,\"out of range\",IF(results!F165>smoothing!I171,\"out of range\",\"\")))","v":""}]
[false,{"$f":"IF(data!D176<5,IF(data!$E$9=1,data!D176*2,data!D176*2.5),1000)","v":0},{"$f":"IF(B172=0,\"\",IF(B172>results!D166,\"\",\"out of range\"))","v":""},{"$f":"IF(data!D176<5,data!E176*0.9,0)","v":0},{"$f":"IF(data!D176<5,data!E176*1.1,0)","v":0},{"$f":"IF(results!E166<smoothing!D172,D172,IF(results!E166>smoothing!E172,smoothing!E172,results!E166))","v":0},{"$f":"IF(F172=0,\"\",IF(results!E166<smoothing!D172,\"out of range\",IF(results!E166>smoothing!E172,\"out of range\",\"\")))","v":""},{"$f":"IF(data!D176<5,data!F176*0.9,0)","v":0},{"$f":"IF(data!D176<5,data!F176*1.1,0)","v":0},{"$f":"IF(results!F166<smoothing!H172,H172,IF(results!F166>smoothing!I172,smoothing!I172,results!F166))","v":0},{"$f":"IF(J172=0,\"\",IF(results!F166<smoothing!H172,\"out of range\",IF(results!F166>smoothing!I172,\"out of range\",\"\")))","v":""}]
[false,{"$f":"IF(data!D177<5,IF(data!$E$9=1,data!D177*2,data!D177*2.5),1000)","v":0},{"$f":"IF(B173=0,\"\",IF(B173>results!D167,\"\",\"out of range\"))","v":""},{"$f":"IF(data!D177<5,data!E177*0.9,0)","v":0},{"$f":"IF(data!D177<5,data!E177*1.1,0)","v":0},{"$f":"IF(results!E167<smoothing!D173,D173,IF(results!E167>smoothing!E173,smoothing!E173,results!E167))","v":0},{"$f":"IF(F173=0,\"\",IF(results!E167<smoothing!D173,\"out of range\",IF(results!E167>smoothing!E173,\"out of range\",\"\")))","v":""},{"$f":"IF(data!D177<5,data!F177*0.9,0)","v":0},{"$f":"IF(data!D177<5,data!F177*1.1,0)","v":0},{"$f":"IF(results!F167<smoothing!H173,H173,IF(results!F167>smoothing!I173,smoothing!I173,results!F167))","v":0},{"$f":"IF(J173=0,\"\",IF(results!F167<smoothing!H173,\"out of range\",IF(results!F167>smoothing!I173,\"out of range\",\"\")))","v":""}]
[false,{"$f":"IF(data!D178<5,IF(data!$E$9=1,data!D178*2,data!D178*2.5),1000)","v":0},{"$f":"IF(B174=0,\"\",IF(B174>results!D168,\"\",\"out of range\"))","v":""},{"$f":"IF(data!D178<5,data!E178*0.9,0)","v":0},{"$f":"IF(data!D178<5,data!E178*1.1,0)","v":0},{"$f":"IF(results!E168<smoothing!D174,D174,IF(results!E168>smoothing!E174,smoothing!E174,results!E168))","v":0},{"$f":"IF(F174=0,\"\",IF(results!E168<smoothing!D174,\"out of range\",IF(results!E168>smoothing!E174,\"out of range\",\"\")))","v":""},{"$f":"IF(data!D178<5,data!F178*0.9,0)","v":0},{"$f":"IF(data!D178<5,data!F178*1.1,0)","v":0},{"$f":"IF(results!F168<smoothing!H174,H174,IF(results!F168>smoothing!I174,smoothing!I174,results!F168))","v":0},{"$f":"IF(J174=0,\"\",IF(results!F168<smoothing!H174,\"out of range\",IF(results!F168>smoothing!I174,\"out of range\",\"\")))","v":""}]
[false,{"$f":"IF(data!D179<5,IF(data!$E$9=1,data!D179*2,data!D179*2.5),1000)","v":0},{"$f":"IF(B175=0,\"\",IF(B175>results!D169,\"\",\"out of range\"))","v":""},{"$f":"IF(data!D179<5,data!E179*0.9,0)","v":0},{"$f":"IF(data!D179<5,data!E179*1.1,0)","v":0},{"$f":"IF(results!E169<smoothing!D175,D175,IF(results!E169>smoothing!E175,smoothing!E175,results!E169))","v":0},{"$f":"IF(F175=0,\"\",IF(results!E169<smoothing!D175,\"out of range\",IF(results!E169>smoothing!E175,\"out of range\",\"\")))","v":""},{"$f":"IF(data!D179<5,data!F179*0.9,0)","v":0},{"$f":"IF(data!D179<5,data!F179*1.1,0)","v":0},{"$f":"IF(results!F169<smoothing!H175,H175,IF(results!F169>smoothing!I175,smoothing!I175,results!F169))","v":0},{"$f":"IF(J175=0,\"\",IF(results!F169<smoothing!H175,\"out of range\",IF(results!F169>smoothing!I175,\"out of range\",\"\")))","v":""}]
[false,{"$f":"IF(data!D180<5,IF(data!$E$9=1,data!D180*2,data!D180*2.5),1000)","v":0},{"$f":"IF(B176=0,\"\",IF(B176>results!D170,\"\",\"out of range\"))","v":""},{"$f":"IF(data!D180<5,data!E180*0.9,0)","v":0},{"$f":"IF(data!D180<5,data!E180*1.1,0)","v":0},{"$f":"IF(results!E170<smoothing!D176,D176,IF(results!E170>smoothing!E176,smoothing!E176,results!E170))","v":0},{"$f":"IF(F176=0,\"\",IF(results!E170<smoothing!D176,\"out of range\",IF(results!E170>smoothing!E176,\"out of range\",\"\")))","v":""},{"$f":"IF(data!D180<5,data!F180*0.9,0)","v":0},{"$f":"IF(data!D180<5,data!F180*1.1,0)","v":0},{"$f":"IF(results!F170<smoothing!H176,H176,IF(results!F170>smoothing!I176,smoothing!I176,results!F170))","v":0},{"$f":"IF(J176=0,\"\",IF(results!F170<smoothing!H176,\"out of range\",IF(results!F170>smoothing!I176,\"out of range\",\"\")))","v":""}]
[false,{"$f":"IF(data!D181<5,IF(data!$E$9=1,data!D181*2,data!D181*2.5),1000)","v":0},{"$f":"IF(B177=0,\"\",IF(B177>results!D171,\"\",\"out of range\"))","v":""},{"$f":"IF(data!D181<5,data!E181*0.9,0)","v":0},{"$f":"IF(data!D181<5,data!E181*1.1,0)","v":0},{"$f":"IF(results!E171<smoothing!D177,D177,IF(results!E171>smoothing!E177,smoothing!E177,results!E171))","v":0},{"$f":"IF(F177=0,\"\",IF(results!E171<smoothing!D177,\"out of range\",IF(results!E171>smoothing!E177,\"out of range\",\"\")))","v":""},{"$f":"IF(data!D181<5,data!F181*0.9,0)","v":0},{"$f":"IF(data!D181<5,data!F181*1.1,0)","v":0},{"$f":"IF(results!F171<smoothing!H177,H177,IF(results!F171>smoothing!I177,smoothing!I177,results!F171))","v":0},{"$f":"IF(J177=0,\"\",IF(results!F171<smoothing!H177,\"out of range\",IF(results!F171>smoothing!I177,\"out of range\",\"\")))","v":""}]
[false,{"$f":"IF(data!D182<5,IF(data!$E$9=1,data!D182*2,data!D182*2.5),1000)","v":0},{"$f":"IF(B178=0,\"\",IF(B178>results!D172,\"\",\"out of range\"))","v":""},{"$f":"IF(data!D182<5,data!E182*0.9,0)","v":0},{"$f":"IF(data!D182<5,data!E182*1.1,0)","v":0},{"$f":"IF(results!E172<smoothing!D178,D178,IF(results!E172>smoothing!E178,smoothing!E178,results!E172))","v":0},{"$f":"IF(F178=0,\"\",IF(results!E172<smoothing!D178,\"out of range\",IF(results!E172>smoothing!E178,\"out of range\",\"\")))","v":""},{"$f":"IF(data!D182<5,data!F182*0.9,0)","v":0},{"$f":"IF(data!D182<5,data!F182*1.1,0)","v":0},{"$f":"IF(results!F172<smoothing!H178,H178,IF(results!F172>smoothing!I178,smoothing!I178,results!F172))","v":0},{"$f":"IF(J178=0,\"\",IF(results!F172<smoothing!H178,\"out of range\",IF(results!F172>smoothing!I178,\"out of range\",\"\")))","v":""}]
[false,{"$f":"IF(data!D183<5,IF(data!$E$9=1,data!D183*2,data!D183*2.5),1000)","v":0},{"$f":"IF(B179=0,\"\",IF(B179>results!D173,\"\",\"out of range\"))","v":""},{"$f":"IF(data!D183<5,data!E183*0.9,0)","v":0},{"$f":"IF(data!D183<5,data!E183*1.1,0)","v":0},{"$f":"IF(results!E173<smoothing!D179,D179,IF(results!E173>smoothing!E179,smoothing!E179,results!E173))","v":0},{"$f":"IF(F179=0,\"\",IF(results!E173<smoothing!D179,\"out of range\",IF(results!E173>smoothing!E179,\"out of range\",\"\")))","v":""},{"$f":"IF(data!D183<5,data!F183*0.9,0)","v":0},{"$f":"IF(data!D183<5,data!F183*1.1,0)","v":0},{"$f":"IF(results!F173<smoothing!H179,H179,IF(results!F173>smoothing!I179,smoothing!I179,results!F173))","v":0},{"$f":"IF(J179=0,\"\",IF(results!F173<smoothing!H179,\"out of range\",IF(results!F173>smoothing!I179,\"out of range\",\"\")))","v":""}]
[false,{"$f":"IF(data!D184<5,IF(data!$E$9=1,data!D184*2,data!D184*2.5),1000)","v":0},{"$f":"IF(B180=0,\"\",IF(B180>results!D174,\"\",\"out of range\"))","v":""},{"$f":"IF(data!D184<5,data!E184*0.9,0)","v":0},{"$f":"IF(data!D184<5,data!E184*1.1,0)","v":0},{"$f":"IF(results!E174<smoothing!D180,D180,IF(results!E174>smoothing!E180,smoothing!E180,results!E174))","v":0},{"$f":"IF(F180=0,\"\",IF(results!E174<smoothing!D180,\"out of range\",IF(results!E174>smoothing!E180,\"out of range\",\"\")))","v":""},{"$f":"IF(data!D184<5,data!F184*0.9,0)","v":0},{"$f":"IF(data!D184<5,data!F184*1.1,0)","v":0},{"$f":"IF(results!F174<smoothing!H180,H180,IF(results!F174>smoothing!I180,smoothing!I180,results!F174))","v":0},{"$f":"IF(J180=0,\"\",IF(results!F174<smoothing!H180,\"out of range\",IF(results!F174>smoothing!I180,\"out of range\",\"\")))","v":""}]
[false,{"$f":"IF(data!D185<5,IF(data!$E$9=1,data!D185*2,data!D185*2.5),1000)","v":0},{"$f":"IF(B181=0,\"\",IF(B181>results!D175,\"\",\"out of range\"))","v":""},{"$f":"IF(data!D185<5,data!E185*0.9,0)","v":0},{"$f":"IF(data!D185<5,data!E185*1.1,0)","v":0},{"$f":"IF(results!E175<smoothing!D181,D181,IF(results!E175>smoothing!E181,smoothing!E181,results!E175))","v":0},{"$f":"IF(F181=0,\"\",IF(results!E175<smoothing!D181,\"out of range\",IF(results!E175>smoothing!E181,\"out of range\",\"\")))","v":""},{"$f":"IF(data!D185<5,data!F185*0.9,0)","v":0},{"$f":"IF(data!D185<5,data!F185*1.1,0)","v":0},{"$f":"IF(results!F175<smoothing!H181,H181,IF(results!F175>smoothing!I181,smoothing!I181,results!F175))","v":0},{"$f":"IF(J181=0,\"\",IF(results!F175<smoothing!H181,\"out of range\",IF(results!F175>smoothing!I181,\"out of range\",\"\")))","v":""}]
[false,{"$f":"IF(data!D186<5,IF(data!$E$9=1,data!D186*2,data!D186*2.5),1000)","v":0},{"$f":"IF(B182=0,\"\",IF(B182>results!D176,\"\",\"out of range\"))","v":""},{"$f":"IF(data!D186<5,data!E186*0.9,0)","v":0},{"$f":"IF(data!D186<5,data!E186*1.1,0)","v":0},{"$f":"IF(results!E176<smoothing!D182,D182,IF(results!E176>smoothing!E182,smoothing!E182,results!E176))","v":0},{"$f":"IF(F182=0,\"\",IF(results!E176<smoothing!D182,\"out of range\",IF(results!E176>smoothing!E182,\"out of range\",\"\")))","v":""},{"$f":"IF(data!D186<5,data!F186*0.9,0)","v":0},{"$f":"IF(data!D186<5,data!F186*1.1,0)","v":0},{"$f":"IF(results!F176<smoothing!H182,H182,IF(results!F176>smoothing!I182,smoothing!I182,results!F176))","v":0},{"$f":"IF(J182=0,\"\",IF(results!F176<smoothing!H182,\"out of range\",IF(results!F176>smoothing!I182,\"out of range\",\"\")))","v":""}]
[false,{"$f":"IF(data!D187<5,IF(data!$E$9=1,data!D187*2,data!D187*2.5),1000)","v":0},{"$f":"IF(B183=0,\"\",IF(B183>results!D177,\"\",\"out of range\"))","v":""},{"$f":"IF(data!D187<5,data!E187*0.9,0)","v":0},{"$f":"IF(data!D187<5,data!E187*1.1,0)","v":0},{"$f":"IF(results!E177<smoothing!D183,D183,IF(results!E177>smoothing!E183,smoothing!E183,results!E177))","v":0},{"$f":"IF(F183=0,\"\",IF(results!E177<smoothing!D183,\"out of range\",IF(results!E177>smoothing!E183,\"out of range\",\"\")))","v":""},{"$f":"IF(data!D187<5,data!F187*0.9,0)","v":0},{"$f":"IF(data!D187<5,data!F187*1.1,0)","v":0},{"$f":"IF(results!F177<smoothing!H183,H183,IF(results!F177>smoothing!I183,smoothing!I183,results!F177))","v":0},{"$f":"IF(J183=0,\"\",IF(results!F177<smoothing!H183,\"out of range\",IF(results!F177>smoothing!I183,\"out of range\",\"\")))","v":""}]
[false,{"$f":"IF(data!D188<5,IF(data!$E$9=1,data!D188*2,data!D188*2.5),1000)","v":0},{"$f":"IF(B184=0,\"\",IF(B184>results!D178,\"\",\"out of range\"))","v":""},{"$f":"IF(data!D188<5,data!E188*0.9,0)","v":0},{"$f":"IF(data!D188<5,data!E188*1.1,0)","v":0},{"$f":"IF(results!E178<smoothing!D184,D184,IF(results!E178>smoothing!E184,smoothing!E184,results!E178))","v":0},{"$f":"IF(F184=0,\"\",IF(results!E178<smoothing!D184,\"out of range\",IF(results!E178>smoothing!E184,\"out of range\",\"\")))","v":""},{"$f":"IF(data!D188<5,data!F188*0.9,0)","v":0},{"$f":"IF(data!D188<5,data!F188*1.1,0)","v":0},{"$f":"IF(results!F178<smoothing!H184,H184,IF(results!F178>smoothing!I184,smoothing!I184,results!F178))","v":0},{"$f":"IF(J184=0,\"\",IF(results!F178<smoothing!H184,\"out of range\",IF(results!F178>smoothing!I184,\"out of range\",\"\")))","v":""}]
[false,{"$f":"IF(data!D189<5,IF(data!$E$9=1,data!D189*2,data!D189*2.5),1000)","v":0},{"$f":"IF(B185=0,\"\",IF(B185>results!D179,\"\",\"out of range\"))","v":""},{"$f":"IF(data!D189<5,data!E189*0.9,0)","v":0},{"$f":"IF(data!D189<5,data!E189*1.1,0)","v":0},{"$f":"IF(results!E179<smoothing!D185,D185,IF(results!E179>smoothing!E185,smoothing!E185,results!E179))","v":0},{"$f":"IF(F185=0,\"\",IF(results!E179<smoothing!D185,\"out of range\",IF(results!E179>smoothing!E185,\"out of range\",\"\")))","v":""},{"$f":"IF(data!D189<5,data!F189*0.9,0)","v":0},{"$f":"IF(data!D189<5,data!F189*1.1,0)","v":0},{"$f":"IF(results!F179<smoothing!H185,H185,IF(results!F179>smoothing!I185,smoothing!I185,results!F179))","v":0},{"$f":"IF(J185=0,\"\",IF(results!F179<smoothing!H185,\"out of range\",IF(results!F179>smoothing!I185,\"out of range\",\"\")))","v":""}]
[false,{"$f":"IF(data!D190<5,IF(data!$E$9=1,data!D190*2,data!D190*2.5),1000)","v":0},{"$f":"IF(B186=0,\"\",IF(B186>results!D180,\"\",\"out of range\"))","v":""},{"$f":"IF(data!D190<5,data!E190*0.9,0)","v":0},{"$f":"IF(data!D190<5,data!E190*1.1,0)","v":0},{"$f":"IF(results!E180<smoothing!D186,D186,IF(results!E180>smoothing!E186,smoothing!E186,results!E180))","v":0},{"$f":"IF(F186=0,\"\",IF(results!E180<smoothing!D186,\"out of range\",IF(results!E180>smoothing!E186,\"out of range\",\"\")))","v":""},{"$f":"IF(data!D190<5,data!F190*0.9,0)","v":0},{"$f":"IF(data!D190<5,data!F190*1.1,0)","v":0},{"$f":"IF(results!F180<smoothing!H186,H186,IF(results!F180>smoothing!I186,smoothing!I186,results!F180))","v":0},{"$f":"IF(J186=0,\"\",IF(results!F180<smoothing!H186,\"out of range\",IF(results!F180>smoothing!I186,\"out of range\",\"\")))","v":""}]
[false,{"$f":"IF(data!D191<5,IF(data!$E$9=1,data!D191*2,data!D191*2.5),1000)","v":0},{"$f":"IF(B187=0,\"\",IF(B187>results!D181,\"\",\"out of range\"))","v":""},{"$f":"IF(data!D191<5,data!E191*0.9,0)","v":0},{"$f":"IF(data!D191<5,data!E191*1.1,0)","v":0},{"$f":"IF(results!E181<smoothing!D187,D187,IF(results!E181>smoothing!E187,smoothing!E187,results!E181))","v":0},{"$f":"IF(F187=0,\"\",IF(results!E181<smoothing!D187,\"out of range\",IF(results!E181>smoothing!E187,\"out of range\",\"\")))","v":""},{"$f":"IF(data!D191<5,data!F191*0.9,0)","v":0},{"$f":"IF(data!D191<5,data!F191*1.1,0)","v":0},{"$f":"IF(results!F181<smoothing!H187,H187,IF(results!F181>smoothing!I187,smoothing!I187,results!F181))","v":0},{"$f":"IF(J187=0,\"\",IF(results!F181<smoothing!H187,\"out of range\",IF(results!F181>smoothing!I187,\"out of range\",\"\")))","v":""}]
[false,{"$f":"IF(data!D192<5,IF(data!$E$9=1,data!D192*2,data!D192*2.5),1000)","v":0},{"$f":"IF(B188=0,\"\",IF(B188>results!D182,\"\",\"out of range\"))","v":""},{"$f":"IF(data!D192<5,data!E192*0.9,0)","v":0},{"$f":"IF(data!D192<5,data!E192*1.1,0)","v":0},{"$f":"IF(results!E182<smoothing!D188,D188,IF(results!E182>smoothing!E188,smoothing!E188,results!E182))","v":0},{"$f":"IF(F188=0,\"\",IF(results!E182<smoothing!D188,\"out of range\",IF(results!E182>smoothing!E188,\"out of range\",\"\")))","v":""},{"$f":"IF(data!D192<5,data!F192*0.9,0)","v":0},{"$f":"IF(data!D192<5,data!F192*1.1,0)","v":0},{"$f":"IF(results!F182<smoothing!H188,H188,IF(results!F182>smoothing!I188,smoothing!I188,results!F182))","v":0},{"$f":"IF(J188=0,\"\",IF(results!F182<smoothing!H188,\"out of range\",IF(results!F182>smoothing!I188,\"out of range\",\"\")))","v":""}]
[false,{"$f":"IF(data!D193<5,IF(data!$E$9=1,data!D193*2,data!D193*2.5),1000)","v":0},{"$f":"IF(B189=0,\"\",IF(B189>results!D183,\"\",\"out of range\"))","v":""},{"$f":"IF(data!D193<5,data!E193*0.9,0)","v":0},{"$f":"IF(data!D193<5,data!E193*1.1,0)","v":0},{"$f":"IF(results!E183<smoothing!D189,D189,IF(results!E183>smoothing!E189,smoothing!E189,results!E183))","v":0},{"$f":"IF(F189=0,\"\",IF(results!E183<smoothing!D189,\"out of range\",IF(results!E183>smoothing!E189,\"out of range\",\"\")))","v":""},{"$f":"IF(data!D193<5,data!F193*0.9,0)","v":0},{"$f":"IF(data!D193<5,data!F193*1.1,0)","v":0},{"$f":"IF(results!F183<smoothing!H189,H189,IF(results!F183>smoothing!I189,smoothing!I189,results!F183))","v":0},{"$f":"IF(J189=0,\"\",IF(results!F183<smoothing!H189,\"out of range\",IF(results!F183>smoothing!I189,\"out of range\",\"\")))","v":""}]
[false,{"$f":"IF(data!D194<5,IF(data!$E$9=1,data!D194*2,data!D194*2.5),1000)","v":0},{"$f":"IF(B190=0,\"\",IF(B190>results!D184,\"\",\"out of range\"))","v":""},{"$f":"IF(data!D194<5,data!E194*0.9,0)","v":0},{"$f":"IF(data!D194<5,data!E194*1.1,0)","v":0},{"$f":"IF(results!E184<smoothing!D190,D190,IF(results!E184>smoothing!E190,smoothing!E190,results!E184))","v":0},{"$f":"IF(F190=0,\"\",IF(results!E184<smoothing!D190,\"out of range\",IF(results!E184>smoothing!E190,\"out of range\",\"\")))","v":""},{"$f":"IF(data!D194<5,data!F194*0.9,0)","v":0},{"$f":"IF(data!D194<5,data!F194*1.1,0)","v":0},{"$f":"IF(results!F184<smoothing!H190,H190,IF(results!F184>smoothing!I190,smoothing!I190,results!F184))","v":0},{"$f":"IF(J190=0,\"\",IF(results!F184<smoothing!H190,\"out of range\",IF(results!F184>smoothing!I190,\"out of range\",\"\")))","v":""}]
[false,{"$f":"IF(data!D195<5,IF(data!$E$9=1,data!D195*2,data!D195*2.5),1000)","v":0},{"$f":"IF(B191=0,\"\",IF(B191>results!D185,\"\",\"out of range\"))","v":""},{"$f":"IF(data!D195<5,data!E195*0.9,0)","v":0},{"$f":"IF(data!D195<5,data!E195*1.1,0)","v":0},{"$f":"IF(results!E185<smoothing!D191,D191,IF(results!E185>smoothing!E191,smoothing!E191,results!E185))","v":0},{"$f":"IF(F191=0,\"\",IF(results!E185<smoothing!D191,\"out of range\",IF(results!E185>smoothing!E191,\"out of range\",\"\")))","v":""},{"$f":"IF(data!D195<5,data!F195*0.9,0)","v":0},{"$f":"IF(data!D195<5,data!F195*1.1,0)","v":0},{"$f":"IF(results!F185<smoothing!H191,H191,IF(results!F185>smoothing!I191,smoothing!I191,results!F185))","v":0},{"$f":"IF(J191=0,\"\",IF(results!F185<smoothing!H191,\"out of range\",IF(results!F185>smoothing!I191,\"out of range\",\"\")))","v":""}]
[false,{"$f":"IF(data!D196<5,IF(data!$E$9=1,data!D196*2,data!D196*2.5),1000)","v":0},{"$f":"IF(B192=0,\"\",IF(B192>results!D186,\"\",\"out of range\"))","v":""},{"$f":"IF(data!D196<5,data!E196*0.9,0)","v":0},{"$f":"IF(data!D196<5,data!E196*1.1,0)","v":0},{"$f":"IF(results!E186<smoothing!D192,D192,IF(results!E186>smoothing!E192,smoothing!E192,results!E186))","v":0},{"$f":"IF(F192=0,\"\",IF(results!E186<smoothing!D192,\"out of range\",IF(results!E186>smoothing!E192,\"out of range\",\"\")))","v":""},{"$f":"IF(data!D196<5,data!F196*0.9,0)","v":0},{"$f":"IF(data!D196<5,data!F196*1.1,0)","v":0},{"$f":"IF(results!F186<smoothing!H192,H192,IF(results!F186>smoothing!I192,smoothing!I192,results!F186))","v":0},{"$f":"IF(J192=0,\"\",IF(results!F186<smoothing!H192,\"out of range\",IF(results!F186>smoothing!I192,\"out of range\",\"\")))","v":""}]
[false,{"$f":"IF(data!D197<5,IF(data!$E$9=1,data!D197*2,data!D197*2.5),1000)","v":0},{"$f":"IF(B193=0,\"\",IF(B193>results!D187,\"\",\"out of range\"))","v":""},{"$f":"IF(data!D197<5,data!E197*0.9,0)","v":0},{"$f":"IF(data!D197<5,data!E197*1.1,0)","v":0},{"$f":"IF(results!E187<smoothing!D193,D193,IF(results!E187>smoothing!E193,smoothing!E193,results!E187))","v":0},{"$f":"IF(F193=0,\"\",IF(results!E187<smoothing!D193,\"out of range\",IF(results!E187>smoothing!E193,\"out of range\",\"\")))","v":""},{"$f":"IF(data!D197<5,data!F197*0.9,0)","v":0},{"$f":"IF(data!D197<5,data!F197*1.1,0)","v":0},{"$f":"IF(results!F187<smoothing!H193,H193,IF(results!F187>smoothing!I193,smoothing!I193,results!F187))","v":0},{"$f":"IF(J193=0,\"\",IF(results!F187<smoothing!H193,\"out of range\",IF(results!F187>smoothing!I193,\"out of range\",\"\")))","v":""}]
[false,{"$f":"IF(data!D198<5,IF(data!$E$9=1,data!D198*2,data!D198*2.5),1000)","v":0},{"$f":"IF(B194=0,\"\",IF(B194>results!D188,\"\",\"out of range\"))","v":""},{"$f":"IF(data!D198<5,data!E198*0.9,0)","v":0},{"$f":"IF(data!D198<5,data!E198*1.1,0)","v":0},{"$f":"IF(results!E188<smoothing!D194,D194,IF(results!E188>smoothing!E194,smoothing!E194,results!E188))","v":0},{"$f":"IF(F194=0,\"\",IF(results!E188<smoothing!D194,\"out of range\",IF(results!E188>smoothing!E194,\"out of range\",\"\")))","v":""},{"$f":"IF(data!D198<5,data!F198*0.9,0)","v":0},{"$f":"IF(data!D198<5,data!F198*1.1,0)","v":0},{"$f":"IF(results!F188<smoothing!H194,H194,IF(results!F188>smoothing!I194,smoothing!I194,results!F188))","v":0},{"$f":"IF(J194=0,\"\",IF(results!F188<smoothing!H194,\"out of range\",IF(results!F188>smoothing!I194,\"out of range\",\"\")))","v":""}]
[false,{"$f":"IF(data!D199<5,IF(data!$E$9=1,data!D199*2,data!D199*2.5),1000)","v":0},{"$f":"IF(B195=0,\"\",IF(B195>results!D189,\"\",\"out of range\"))","v":""},{"$f":"IF(data!D199<5,data!E199*0.9,0)","v":0},{"$f":"IF(data!D199<5,data!E199*1.1,0)","v":0},{"$f":"IF(results!E189<smoothing!D195,D195,IF(results!E189>smoothing!E195,smoothing!E195,results!E189))","v":0},{"$f":"IF(F195=0,\"\",IF(results!E189<smoothing!D195,\"out of range\",IF(results!E189>smoothing!E195,\"out of range\",\"\")))","v":""},{"$f":"IF(data!D199<5,data!F199*0.9,0)","v":0},{"$f":"IF(data!D199<5,data!F199*1.1,0)","v":0},{"$f":"IF(results!F189<smoothing!H195,H195,IF(results!F189>smoothing!I195,smoothing!I195,results!F189))","v":0},{"$f":"IF(J195=0,\"\",IF(results!F189<smoothing!H195,\"out of range\",IF(results!F189>smoothing!I195,\"out of range\",\"\")))","v":""}]
[false,{"$f":"IF(data!D200<5,IF(data!$E$9=1,data!D200*2,data!D200*2.5),1000)","v":0},{"$f":"IF(B196=0,\"\",IF(B196>results!D190,\"\",\"out of range\"))","v":""},{"$f":"IF(data!D200<5,data!E200*0.9,0)","v":0},{"$f":"IF(data!D200<5,data!E200*1.1,0)","v":0},{"$f":"IF(results!E190<smoothing!D196,D196,IF(results!E190>smoothing!E196,smoothing!E196,results!E190))","v":0},{"$f":"IF(F196=0,\"\",IF(results!E190<smoothing!D196,\"out of range\",IF(results!E190>smoothing!E196,\"out of range\",\"\")))","v":""},{"$f":"IF(data!D200<5,data!F200*0.9,0)","v":0},{"$f":"IF(data!D200<5,data!F200*1.1,0)","v":0},{"$f":"IF(results!F190<smoothing!H196,H196,IF(results!F190>smoothing!I196,smoothing!I196,results!F190))","v":0},{"$f":"IF(J196=0,\"\",IF(results!F190<smoothing!H196,\"out of range\",IF(results!F190>smoothing!I196,\"out of range\",\"\")))","v":""}]
[false,{"$f":"IF(data!D201<5,IF(data!$E$9=1,data!D201*2,data!D201*2.5),1000)","v":0},{"$f":"IF(B197=0,\"\",IF(B197>results!D191,\"\",\"out of range\"))","v":""},{"$f":"IF(data!D201<5,data!E201*0.9,0)","v":0},{"$f":"IF(data!D201<5,data!E201*1.1,0)","v":0},{"$f":"IF(results!E191<smoothing!D197,D197,IF(results!E191>smoothing!E197,smoothing!E197,results!E191))","v":0},{"$f":"IF(F197=0,\"\",IF(results!E191<smoothing!D197,\"out of range\",IF(results!E191>smoothing!E197,\"out of range\",\"\")))","v":""},{"$f":"IF(data!D201<5,data!F201*0.9,0)","v":0},{"$f":"IF(data!D201<5,data!F201*1.1,0)","v":0},{"$f":"IF(results!F191<smoothing!H197,H197,IF(results!F191>smoothing!I197,smoothing!I197,results!F191))","v":0},{"$f":"IF(J197=0,\"\",IF(results!F191<smoothing!H197,\"out of range\",IF(results!F191>smoothing!I197,\"out of range\",\"\")))","v":""}]
[false,{"$f":"IF(data!D202<5,IF(data!$E$9=1,data!D202*2,data!D202*2.5),1000)","v":0},{"$f":"IF(B198=0,\"\",IF(B198>results!D192,\"\",\"out of range\"))","v":""},{"$f":"IF(data!D202<5,data!E202*0.9,0)","v":0},{"$f":"IF(data!D202<5,data!E202*1.1,0)","v":0},{"$f":"IF(results!E192<smoothing!D198,D198,IF(results!E192>smoothing!E198,smoothing!E198,results!E192))","v":0},{"$f":"IF(F198=0,\"\",IF(results!E192<smoothing!D198,\"out of range\",IF(results!E192>smoothing!E198,\"out of range\",\"\")))","v":""},{"$f":"IF(data!D202<5,data!F202*0.9,0)","v":0},{"$f":"IF(data!D202<5,data!F202*1.1,0)","v":0},{"$f":"IF(results!F192<smoothing!H198,H198,IF(results!F192>smoothing!I198,smoothing!I198,results!F192))","v":0},{"$f":"IF(J198=0,\"\",IF(results!F192<smoothing!H198,\"out of range\",IF(results!F192>smoothing!I198,\"out of range\",\"\")))","v":""}]
[false,{"$f":"IF(data!D203<5,IF(data!$E$9=1,data!D203*2,data!D203*2.5),1000)","v":0},{"$f":"IF(B199=0,\"\",IF(B199>results!D193,\"\",\"out of range\"))","v":""},{"$f":"IF(data!D203<5,data!E203*0.9,0)","v":0},{"$f":"IF(data!D203<5,data!E203*1.1,0)","v":0},{"$f":"IF(results!E193<smoothing!D199,D199,IF(results!E193>smoothing!E199,smoothing!E199,results!E193))","v":0},{"$f":"IF(F199=0,\"\",IF(results!E193<smoothing!D199,\"out of range\",IF(results!E193>smoothing!E199,\"out of range\",\"\")))","v":""},{"$f":"IF(data!D203<5,data!F203*0.9,0)","v":0},{"$f":"IF(data!D203<5,data!F203*1.1,0)","v":0},{"$f":"IF(results!F193<smoothing!H199,H199,IF(results!F193>smoothing!I199,smoothing!I199,results!F193))","v":0},{"$f":"IF(J199=0,\"\",IF(results!F193<smoothing!H199,\"out of range\",IF(results!F193>smoothing!I199,\"out of range\",\"\")))","v":""}]
[false,{"$f":"IF(data!D204<5,IF(data!$E$9=1,data!D204*2,data!D204*2.5),1000)","v":0},{"$f":"IF(B200=0,\"\",IF(B200>results!D194,\"\",\"out of range\"))","v":""},{"$f":"IF(data!D204<5,data!E204*0.9,0)","v":0},{"$f":"IF(data!D204<5,data!E204*1.1,0)","v":0},{"$f":"IF(results!E194<smoothing!D200,D200,IF(results!E194>smoothing!E200,smoothing!E200,results!E194))","v":0},{"$f":"IF(F200=0,\"\",IF(results!E194<smoothing!D200,\"out of range\",IF(results!E194>smoothing!E200,\"out of range\",\"\")))","v":""},{"$f":"IF(data!D204<5,data!F204*0.9,0)","v":0},{"$f":"IF(data!D204<5,data!F204*1.1,0)","v":0},{"$f":"IF(results!F194<smoothing!H200,H200,IF(results!F194>smoothing!I200,smoothing!I200,results!F194))","v":0},{"$f":"IF(J200=0,\"\",IF(results!F194<smoothing!H200,\"out of range\",IF(results!F194>smoothing!I200,\"out of range\",\"\")))","v":""}]
[false,{"$f":"IF(data!D205<5,IF(data!$E$9=1,data!D205*2,data!D205*2.5),1000)","v":0},{"$f":"IF(B201=0,\"\",IF(B201>results!D195,\"\",\"out of range\"))","v":""},{"$f":"IF(data!D205<5,data!E205*0.9,0)","v":0},{"$f":"IF(data!D205<5,data!E205*1.1,0)","v":0},{"$f":"IF(results!E195<smoothing!D201,D201,IF(results!E195>smoothing!E201,smoothing!E201,results!E195))","v":0},{"$f":"IF(F201=0,\"\",IF(results!E195<smoothing!D201,\"out of range\",IF(results!E195>smoothing!E201,\"out of range\",\"\")))","v":""},{"$f":"IF(data!D205<5,data!F205*0.9,0)","v":0},{"$f":"IF(data!D205<5,data!F205*1.1,0)","v":0},{"$f":"IF(results!F195<smoothing!H201,H201,IF(results!F195>smoothing!I201,smoothing!I201,results!F195))","v":0},{"$f":"IF(J201=0,\"\",IF(results!F195<smoothing!H201,\"out of range\",IF(results!F195>smoothing!I201,\"out of range\",\"\")))","v":""}]
[false,{"$f":"IF(data!D206<5,IF(data!$E$9=1,data!D206*2,data!D206*2.5),1000)","v":0},{"$f":"IF(B202=0,\"\",IF(B202>results!D196,\"\",\"out of range\"))","v":""},{"$f":"IF(data!D206<5,data!E206*0.9,0)","v":0},{"$f":"IF(data!D206<5,data!E206*1.1,0)","v":0},{"$f":"IF(results!E196<smoothing!D202,D202,IF(results!E196>smoothing!E202,smoothing!E202,results!E196))","v":0},{"$f":"IF(F202=0,\"\",IF(results!E196<smoothing!D202,\"out of range\",IF(results!E196>smoothing!E202,\"out of range\",\"\")))","v":""},{"$f":"IF(data!D206<5,data!F206*0.9,0)","v":0},{"$f":"IF(data!D206<5,data!F206*1.1,0)","v":0},{"$f":"IF(results!F196<smoothing!H202,H202,IF(results!F196>smoothing!I202,smoothing!I202,results!F196))","v":0},{"$f":"IF(J202=0,\"\",IF(results!F196<smoothing!H202,\"out of range\",IF(results!F196>smoothing!I202,\"out of range\",\"\")))","v":""}]
[false,{"$f":"IF(data!D207<5,IF(data!$E$9=1,data!D207*2,data!D207*2.5),1000)","v":0},{"$f":"IF(B203=0,\"\",IF(B203>results!D197,\"\",\"out of range\"))","v":""},{"$f":"IF(data!D207<5,data!E207*0.9,0)","v":0},{"$f":"IF(data!D207<5,data!E207*1.1,0)","v":0},{"$f":"IF(results!E197<smoothing!D203,D203,IF(results!E197>smoothing!E203,smoothing!E203,results!E197))","v":0},{"$f":"IF(F203=0,\"\",IF(results!E197<smoothing!D203,\"out of range\",IF(results!E197>smoothing!E203,\"out of range\",\"\")))","v":""},{"$f":"IF(data!D207<5,data!F207*0.9,0)","v":0},{"$f":"IF(data!D207<5,data!F207*1.1,0)","v":0},{"$f":"IF(results!F197<smoothing!H203,H203,IF(results!F197>smoothing!I203,smoothing!I203,results!F197))","v":0},{"$f":"IF(J203=0,\"\",IF(results!F197<smoothing!H203,\"out of range\",IF(results!F197>smoothing!I203,\"out of range\",\"\")))","v":""}]
[false,{"$f":"IF(data!D208<5,IF(data!$E$9=1,data!D208*2,data!D208*2.5),1000)","v":0},{"$f":"IF(B204=0,\"\",IF(B204>results!D198,\"\",\"out of range\"))","v":""},{"$f":"IF(data!D208<5,data!E208*0.9,0)","v":0},{"$f":"IF(data!D208<5,data!E208*1.1,0)","v":0},{"$f":"IF(results!E198<smoothing!D204,D204,IF(results!E198>smoothing!E204,smoothing!E204,results!E198))","v":0},{"$f":"IF(F204=0,\"\",IF(results!E198<smoothing!D204,\"out of range\",IF(results!E198>smoothing!E204,\"out of range\",\"\")))","v":""},{"$f":"IF(data!D208<5,data!F208*0.9,0)","v":0},{"$f":"IF(data!D208<5,data!F208*1.1,0)","v":0},{"$f":"IF(results!F198<smoothing!H204,H204,IF(results!F198>smoothing!I204,smoothing!I204,results!F198))","v":0},{"$f":"IF(J204=0,\"\",IF(results!F198<smoothing!H204,\"out of range\",IF(results!F198>smoothing!I204,\"out of range\",\"\")))","v":""}]
[false,{"$f":"IF(data!D209<5,IF(data!$E$9=1,data!D209*2,data!D209*2.5),1000)","v":0},{"$f":"IF(B205=0,\"\",IF(B205>results!D199,\"\",\"out of range\"))","v":""},{"$f":"IF(data!D209<5,data!E209*0.9,0)","v":0},{"$f":"IF(data!D209<5,data!E209*1.1,0)","v":0},{"$f":"IF(results!E199<smoothing!D205,D205,IF(results!E199>smoothing!E205,smoothing!E205,results!E199))","v":0},{"$f":"IF(F205=0,\"\",IF(results!E199<smoothing!D205,\"out of range\",IF(results!E199>smoothing!E205,\"out of range\",\"\")))","v":""},{"$f":"IF(data!D209<5,data!F209*0.9,0)","v":0},{"$f":"IF(data!D209<5,data!F209*1.1,0)","v":0},{"$f":"IF(results!F199<smoothing!H205,H205,IF(results!F199>smoothing!I205,smoothing!I205,results!F199))","v":0},{"$f":"IF(J205=0,\"\",IF(results!F199<smoothing!H205,\"out of range\",IF(results!F199>smoothing!I205,\"out of range\",\"\")))","v":""}]
[false,{"$f":"IF(data!D210<5,IF(data!$E$9=1,data!D210*2,data!D210*2.5),1000)","v":0},{"$f":"IF(B206=0,\"\",IF(B206>results!D200,\"\",\"out of range\"))","v":""},{"$f":"IF(data!D210<5,data!E210*0.9,0)","v":0},{"$f":"IF(data!D210<5,data!E210*1.1,0)","v":0},{"$f":"IF(results!E200<smoothing!D206,D206,IF(results!E200>smoothing!E206,smoothing!E206,results!E200))","v":0},{"$f":"IF(F206=0,\"\",IF(results!E200<smoothing!D206,\"out of range\",IF(results!E200>smoothing!E206,\"out of range\",\"\")))","v":""},{"$f":"IF(data!D210<5,data!F210*0.9,0)","v":0},{"$f":"IF(data!D210<5,data!F210*1.1,0)","v":0},{"$f":"IF(results!F200<smoothing!H206,H206,IF(results!F200>smoothing!I206,smoothing!I206,results!F200))","v":0},{"$f":"IF(J206=0,\"\",IF(results!F200<smoothing!H206,\"out of range\",IF(results!F200>smoothing!I206,\"out of range\",\"\")))","v":""}]
[false,{"$f":"IF(data!D211<5,IF(data!$E$9=1,data!D211*2,data!D211*2.5),1000)","v":0},{"$f":"IF(B207=0,\"\",IF(B207>results!D201,\"\",\"out of range\"))","v":""},{"$f":"IF(data!D211<5,data!E211*0.9,0)","v":0},{"$f":"IF(data!D211<5,data!E211*1.1,0)","v":0},{"$f":"IF(results!E201<smoothing!D207,D207,IF(results!E201>smoothing!E207,smoothing!E207,results!E201))","v":0},{"$f":"IF(F207=0,\"\",IF(results!E201<smoothing!D207,\"out of range\",IF(results!E201>smoothing!E207,\"out of range\",\"\")))","v":""},{"$f":"IF(data!D211<5,data!F211*0.9,0)","v":0},{"$f":"IF(data!D211<5,data!F211*1.1,0)","v":0},{"$f":"IF(results!F201<smoothing!H207,H207,IF(results!F201>smoothing!I207,smoothing!I207,results!F201))","v":0},{"$f":"IF(J207=0,\"\",IF(results!F201<smoothing!H207,\"out of range\",IF(results!F201>smoothing!I207,\"out of range\",\"\")))","v":""}]
[{"$f":"IF(C208=\"out of range\",\"out of range\",IF(G208=\"out of range\",\"out of range\",IF(K208=\"out of range\",\"out of range\")))","v":false},{"$f":"IF(data!D212<5,IF(data!$E$9=1,data!D212*2,data!D212*2.5),1000)","v":0},{"$f":"IF(B208=0,\"\",IF(B208>results!D202,\"\",\"out of range\"))","v":""},{"$f":"IF(data!D212<5,data!E212*0.9,0)","v":0},{"$f":"IF(data!D212<5,data!E212*1.1,0)","v":0},{"$f":"IF(results!E202<smoothing!D208,D208,IF(results!E202>smoothing!E208,smoothing!E208,results!E202))","v":0},{"$f":"IF(F208=0,\"\",IF(results!E202<smoothing!D208,\"out of range\",IF(results!E202>smoothing!E208,\"out of range\",\"\")))","v":""},{"$f":"IF(data!D212<5,data!F212*0.9,0)","v":0},{"$f":"IF(data!D212<5,data!F212*1.1,0)","v":0},{"$f":"IF(results!F202<smoothing!H208,H208,IF(results!F202>smoothing!I208,smoothing!I208,results!F202))","v":0},{"$f":"IF(J208=0,\"\",IF(results!F202<smoothing!H208,\"out of range\",IF(results!F202>smoothing!I208,\"out of range\",\"\")))","v":""}]
[false,{"$f":"IF(data!D213<5,IF(data!$E$9=1,data!D213*2,data!D213*2.5),1000)","v":0},{"$f":"IF(B209=0,\"\",IF(B209>results!D203,\"\",\"out of range\"))","v":""},{"$f":"IF(data!D213<5,data!E213*0.9,0)","v":0},{"$f":"IF(data!D213<5,data!E213*1.1,0)","v":0},{"$f":"IF(results!E203<smoothing!D209,D209,IF(results!E203>smoothing!E209,smoothing!E209,results!E203))","v":0},{"$f":"IF(F209=0,\"\",IF(results!E203<smoothing!D209,\"out of range\",IF(results!E203>smoothing!E209,\"out of range\",\"\")))","v":""},{"$f":"IF(data!D213<5,data!F213*0.9,0)","v":0},{"$f":"IF(data!D213<5,data!F213*1.1,0)","v":0},{"$f":"IF(results!F203<smoothing!H209,H209,IF(results!F203>smoothing!I209,smoothing!I209,results!F203))","v":0},{"$f":"IF(J209=0,\"\",IF(results!F203<smoothing!H209,\"out of range\",IF(results!F203>smoothing!I209,\"out of range\",\"\")))","v":""}]
[false,{"$f":"IF(data!D214<5,IF(data!$E$9=1,data!D214*2,data!D214*2.5),1000)","v":0},{"$f":"IF(B210=0,\"\",IF(B210>results!D204,\"\",\"out of range\"))","v":""},{"$f":"IF(data!D214<5,data!E214*0.9,0)","v":0},{"$f":"IF(data!D214<5,data!E214*1.1,0)","v":0},{"$f":"IF(results!E204<smoothing!D210,D210,IF(results!E204>smoothing!E210,smoothing!E210,results!E204))","v":0},{"$f":"IF(F210=0,\"\",IF(results!E204<smoothing!D210,\"out of range\",IF(results!E204>smoothing!E210,\"out of range\",\"\")))","v":""},{"$f":"IF(data!D214<5,data!F214*0.9,0)","v":0},{"$f":"IF(data!D214<5,data!F214*1.1,0)","v":0},{"$f":"IF(results!F204<smoothing!H210,H210,IF(results!F204>smoothing!I210,smoothing!I210,results!F204))","v":0},{"$f":"IF(J210=0,\"\",IF(results!F204<smoothing!H210,\"out of range\",IF(results!F204>smoothing!I210,\"out of range\",\"\")))","v":""}]
[false,{"$f":"IF(data!D215<5,IF(data!$E$9=1,data!D215*2,data!D215*2.5),1000)","v":0},{"$f":"IF(B211=0,\"\",IF(B211>results!D205,\"\",\"out of range\"))","v":""},{"$f":"IF(data!D215<5,data!E215*0.9,0)","v":0},{"$f":"IF(data!D215<5,data!E215*1.1,0)","v":0},{"$f":"IF(results!E205<smoothing!D211,D211,IF(results!E205>smoothing!E211,smoothing!E211,results!E205))","v":0},{"$f":"IF(F211=0,\"\",IF(results!E205<smoothing!D211,\"out of range\",IF(results!E205>smoothing!E211,\"out of range\",\"\")))","v":""},{"$f":"IF(data!D215<5,data!F215*0.9,0)","v":0},{"$f":"IF(data!D215<5,data!F215*1.1,0)","v":0},{"$f":"IF(results!F205<smoothing!H211,H211,IF(results!F205>smoothing!I211,smoothing!I211,results!F205))","v":0},{"$f":"IF(J211=0,\"\",IF(results!F205<smoothing!H211,\"out of range\",IF(results!F205>smoothing!I211,\"out of range\",\"\")))","v":""}]
[false,{"$f":"IF(data!D216<5,IF(data!$E$9=1,data!D216*2,data!D216*2.5),1000)","v":0},{"$f":"IF(B212=0,\"\",IF(B212>results!D206,\"\",\"out of range\"))","v":""},{"$f":"IF(data!D216<5,data!E216*0.9,0)","v":0},{"$f":"IF(data!D216<5,data!E216*1.1,0)","v":0},{"$f":"IF(results!E206<smoothing!D212,D212,IF(results!E206>smoothing!E212,smoothing!E212,results!E206))","v":0},{"$f":"IF(F212=0,\"\",IF(results!E206<smoothing!D212,\"out of range\",IF(results!E206>smoothing!E212,\"out of range\",\"\")))","v":""},{"$f":"IF(data!D216<5,data!F216*0.9,0)","v":0},{"$f":"IF(data!D216<5,data!F216*1.1,0)","v":0},{"$f":"IF(results!F206<smoothing!H212,H212,IF(results!F206>smoothing!I212,smoothing!I212,results!F206))","v":0},{"$f":"IF(J212=0,\"\",IF(results!F206<smoothing!H212,\"out of range\",IF(results!F206>smoothing!I212,\"out of range\",\"\")))","v":""}]
[false,{"$f":"IF(data!D217<5,IF(data!$E$9=1,data!D217*2,data!D217*2.5),1000)","v":0},{"$f":"IF(B213=0,\"\",IF(B213>results!D207,\"\",\"out of range\"))","v":""},{"$f":"IF(data!D217<5,data!E217*0.9,0)","v":0},{"$f":"IF(data!D217<5,data!E217*1.1,0)","v":0},{"$f":"IF(results!E207<smoothing!D213,D213,IF(results!E207>smoothing!E213,smoothing!E213,results!E207))","v":0},{"$f":"IF(F213=0,\"\",IF(results!E207<smoothing!D213,\"out of range\",IF(results!E207>smoothing!E213,\"out of range\",\"\")))","v":""},{"$f":"IF(data!D217<5,data!F217*0.9,0)","v":0},{"$f":"IF(data!D217<5,data!F217*1.1,0)","v":0},{"$f":"IF(results!F207<smoothing!H213,H213,IF(results!F207>smoothing!I213,smoothing!I213,results!F207))","v":0},{"$f":"IF(J213=0,\"\",IF(results!F207<smoothing!H213,\"out of range\",IF(results!F207>smoothing!I213,\"out of range\",\"\")))","v":""}]
[false,{"$f":"IF(data!D218<5,IF(data!$E$9=1,data!D218*2,data!D218*2.5),1000)","v":0},{"$f":"IF(B214=0,\"\",IF(B214>results!D208,\"\",\"out of range\"))","v":""},{"$f":"IF(data!D218<5,data!E218*0.9,0)","v":0},{"$f":"IF(data!D218<5,data!E218*1.1,0)","v":0},{"$f":"IF(results!E208<smoothing!D214,D214,IF(results!E208>smoothing!E214,smoothing!E214,results!E208))","v":0},{"$f":"IF(F214=0,\"\",IF(results!E208<smoothing!D214,\"out of range\",IF(results!E208>smoothing!E214,\"out of range\",\"\")))","v":""},{"$f":"IF(data!D218<5,data!F218*0.9,0)","v":0},{"$f":"IF(data!D218<5,data!F218*1.1,0)","v":0},{"$f":"IF(results!F208<smoothing!H214,H214,IF(results!F208>smoothing!I214,smoothing!I214,results!F208))","v":0},{"$f":"IF(J214=0,\"\",IF(results!F208<smoothing!H214,\"out of range\",IF(results!F208>smoothing!I214,\"out of range\",\"\")))","v":""}]